BEGIN:VCALENDAR
VERSION:2.0
PRODID:-//City of Bellingham - ECPv6.2.5//NONSGML v1.0//EN
CALSCALE:GREGORIAN
METHOD:PUBLISH
X-WR-CALNAME:City of Bellingham
X-ORIGINAL-URL:https://cob.org
X-WR-CALDESC:Events for City of Bellingham
REFRESH-INTERVAL;VALUE=DURATION:PT1H
X-Robots-Tag:noindex
X-PUBLISHED-TTL:PT1H
BEGIN:VTIMEZONE
TZID:America/Vancouver
BEGIN:DAYLIGHT
TZOFFSETFROM:-0800
TZOFFSETTO:-0700
TZNAME:PDT
DTSTART:20220313T100000
END:DAYLIGHT
BEGIN:STANDARD
TZOFFSETFROM:-0700
TZOFFSETTO:-0800
TZNAME:PST
DTSTART:20221106T090000
END:STANDARD
END:VTIMEZONE
BEGIN:VEVENT
DTSTART;TZID=America/Vancouver:20220910T000000
DTEND;TZID=America/Vancouver:20220918T235959
DTSTAMP:20231104T082549
CREATED:20220810T224508Z
LAST-MODIFIED:20220811T142709Z
UID:10001054-1662768000-1663545599@cob.org
SUMMARY:Habitat Photos Monitoring and Prize Drawing
DESCRIPTION:Take photos at two of the City’s habitat restoration sites during Whatcom Water Week to help us monitor how these sites are maturing over time! Your photo submissions through our Habitat Photos project help us document the progress of the Padden Creek Daylighting and Squalicum Creek Re-route Phases 1 & 2 projects\, which were constructed in 2015 to improve water quality and fish passage.  \n\n\n\nPrize Drawing\n\n\n\nDuring Whatcom Water Week\, we will have additional educational signs at the sites and a prize drawing for a $50 gift card to a local native plant nursery. To enter the prize drawing\, please include the email address habitat@cob.org when you submit your photo entry at one of our two Habitat Photos sites. There are signs at each photo station describing how to capture and submit photos. All photos are automatically and anonymously added to a timelapse video. \n\n\n\nEveryone can enter the prize drawing twice during the week – once at each site.  \n\n\n\nLocations\n\n\n\nClick this image to view a map of the photo station locations. \n\n\nThe Padden Creek Daylighting photo stations are located on the pedestrian bridge accessed via the Interurban Trail Rotary Trailhead parking lot off of Old Fairhaven Parkway. The coordinates for this photo station location are approximately 48°42’55.3″N 122°29’35.8″W.  \n\n\n\nThe Squalicum Creek Re-route Phases 1 & 2 photo stations are located on the pedestrian bridge that can be accessed by walking on the trail north from the Sunset Pond Park parking lot off of James Street. The coordinates for this photo station location are approximately 48°46’39.4″N 122°27’47.6″W. \n\n\n\nMore Information\n\n\n\nFor more information about this event\, visit our Habitat Photos webpage or email habitat@cob.org.  \n\n\n\nLearn more about Whatcom Water Week on their website.
URL:https://cob.org/event/water-week-photos
CATEGORIES:Environment
ATTACH;FMTTYPE=image/jpeg:https://cob.org/wp-content/uploads/Habitat-Photos-Bracket-habitat.jpg
END:VEVENT
BEGIN:VEVENT
DTSTART;TZID=America/Vancouver:20220913T160000
DTEND;TZID=America/Vancouver:20220913T180000
DTSTAMP:20231104T082549
CREATED:20220912T210221Z
LAST-MODIFIED:20220912T210224Z
UID:10000997-1663084800-1663092000@cob.org
SUMMARY:Historic Preservation Commission Meeting
DESCRIPTION:As a precaution\, all City of Bellingham in-person meetings have been suspended. At this time\, all Historic Preservation Commission meetings are being held virtually via Zoom Webinars. Options for joining this meeting are as follows:  \n\n\n\nMeeting ID:  896 5098 9106     Password: 9 \n\n\n\nNo registration is required to attend this meeting via https://cob.zoom.us/j/89650989106. Alternatively\, citizens can listen to the meeting via phone by dialing 1-253-215-8782\, 1-669-900-6833 or 1-929-205-6099. Meeting Materials can be found on the agendas and supporting materials webpage.
URL:https://cob.org/event/historic-preservation-commission-meeting
CATEGORIES:Boards and Commissions,Historic Preservation Commission
END:VEVENT
BEGIN:VEVENT
DTSTART;TZID=America/Vancouver:20220913T180000
DTEND;TZID=America/Vancouver:20220913T200000
DTSTAMP:20231104T082549
CREATED:20210309T230105Z
LAST-MODIFIED:20220908T083504Z
UID:10000856-1663092000-1663099200@cob.org
SUMMARY:Transportation Commission Meeting
DESCRIPTION:The Transportation Commission is expected to help shape the future of Bellingham by taking a long-range\, strategic look at transportation issues and providing recommendations on policy choices and investment priorities.​ Transportation Commission meetings are typically held on the 2nd Tuesdays of the month at 6 p.m.in the Mayor’s Board Room. However\, at this time\, commission members will participate in this meeting remotely through Zoom\, an online web-based meeting platform.Learn how to register for this online meeting by viewing the instructions in the agenda when it becomes available on the Transportation Commission Meeting Materials webpage. More Information​​Visit the Transportation Commission webpage or contact ​​​​​​​transportation@cob.org for more information.
URL:https://cob.org/event/transportation-commission-meeting-2/2022-09-13
CATEGORIES:Boards and Commissions,Transportation Commission
ATTACH;FMTTYPE=image/jpeg:https://cob.org/wp-content/uploads/p600102-transportation-commission.jpg
END:VEVENT
END:VCALENDAR