BEGIN:VCALENDAR
VERSION:2.0
PRODID:-//City of Bellingham - ECPv6.2.5//NONSGML v1.0//EN
CALSCALE:GREGORIAN
METHOD:PUBLISH
X-WR-CALNAME:City of Bellingham
X-ORIGINAL-URL:https://cob.org
X-WR-CALDESC:Events for City of Bellingham
REFRESH-INTERVAL;VALUE=DURATION:PT1H
X-Robots-Tag:noindex
X-PUBLISHED-TTL:PT1H
BEGIN:VTIMEZONE
TZID:America/Vancouver
BEGIN:DAYLIGHT
TZOFFSETFROM:-0800
TZOFFSETTO:-0700
TZNAME:PDT
DTSTART:20220313T100000
END:DAYLIGHT
BEGIN:STANDARD
TZOFFSETFROM:-0700
TZOFFSETTO:-0800
TZNAME:PST
DTSTART:20221106T090000
END:STANDARD
END:VTIMEZONE
BEGIN:VEVENT
DTSTART;TZID=America/Vancouver:20220927T153000
DTEND;TZID=America/Vancouver:20220927T170000
DTSTAMP:20231104T083248
CREATED:20220908T094131Z
LAST-MODIFIED:20220908T094352Z
UID:10001105-1664292600-1664298000@cob.org
SUMMARY:Tourism Commission Meeting
DESCRIPTION:As a precaution\, all City of Bellingham in-person meetings have been suspended. At this time\, all Tourism Commission meetings are being held virtually via Zoom Webinars. Options for joining this meeting are as follows:Meeting ID:  926 3348 0860    Password: 9Registration via www.cob.org/tourism is required to attend the meeting via Zoom or to provide public comment. Alternatively\, citizens can listen to the meeting via phone by dialing 1-253-215-8782\, 1-669-900-6833 or 1-929-205-6099.Meeting Materials can be found on the agendas and supporting materials webpage.
URL:https://cob.org/event/tourism-commission-meetings/2022-09-27
CATEGORIES:Boards and Commissions,Tourism Commission
ATTACH;FMTTYPE=image/jpeg:https://cob.org/wp-content/uploads/p9010911-visiting-1.jpg
ORGANIZER;CN="Shannon Taysi":MAILTO:staysi@cob.org
END:VEVENT
BEGIN:VEVENT
DTSTART;TZID=America/Vancouver:20220927T160000
DTEND;TZID=America/Vancouver:20220927T180000
DTSTAMP:20231104T083248
CREATED:20220920T214648Z
LAST-MODIFIED:20220920T214653Z
UID:10001009-1664294400-1664301600@cob.org
SUMMARY:*POSTPONED TO 10/4* Historic Preservation Commission Meeting
DESCRIPTION:As a precaution\, all City of Bellingham in-person meetings have been suspended. At this time\, all Historic Preservation Commission  meetings are being held virtually via Zoom Webinars. Options for joining this meeting are as follows:  \n\n\n\nMeeting ID:  975 7464 8447     Password: 9 \n\n\n\nNo registration is required to attend this meeting via https://cob.zoom.us/j/97574648447. Alternatively\, citizens can listen to the meeting via phone by dialing 1-253-215-8782\, 1-669-900-6833 or 1-929-205-6099. Meeting Materials can be found on the agendas and supporting materials webpage.
URL:https://cob.org/event/historic-preservation-commission-meeting-2
END:VEVENT
END:VCALENDAR