BEGIN:VCALENDAR
VERSION:2.0
PRODID:-//City of Bellingham - ECPv6.2.5//NONSGML v1.0//EN
CALSCALE:GREGORIAN
METHOD:PUBLISH
X-ORIGINAL-URL:https://cob.org
X-WR-CALDESC:Events for City of Bellingham
REFRESH-INTERVAL;VALUE=DURATION:PT1H
X-Robots-Tag:noindex
X-PUBLISHED-TTL:PT1H
BEGIN:VTIMEZONE
TZID:America/Vancouver
BEGIN:DAYLIGHT
TZOFFSETFROM:-0800
TZOFFSETTO:-0700
TZNAME:PDT
DTSTART:20230312T100000
END:DAYLIGHT
BEGIN:STANDARD
TZOFFSETFROM:-0700
TZOFFSETTO:-0800
TZNAME:PST
DTSTART:20231105T090000
END:STANDARD
END:VTIMEZONE
BEGIN:VEVENT
DTSTART;TZID=America/Vancouver:20230731T180000
DTEND;TZID=America/Vancouver:20230731T200000
DTSTAMP:20231104T060311
CREATED:20230417T172950Z
LAST-MODIFIED:20230417T172954Z
UID:10001372-1690826400-1690833600@cob.org
SUMMARY:Batting Against the Bells
DESCRIPTION:This is a fun-filled event for individuals with disabilities to bat against the Bellingham Bells baseball team! The rules are: \n\n\n\n\nEvery pre-registered participant gets a chance to bat against the Bells\n\n\n\nAll batters are safe on bases\n\n\n\nEvery batter scores a run\n\n\n\n\nDoors open at 6:00 pm\, batting starts at 6:30 pm and concludes by 8:00 pm. Participants must be 14 years and older. Spectators of all ages attend for free and may bring cash for concessions hosted by the Max Higbee Center! For further information contact Patrick at plulinski@cob.org or (360) 778-7000.  \n\n\n\nFree!
URL:https://cob.org/event/batting-against-the-bells
LOCATION:Joe Martin Field\, 1220 Civic Field Way\, Bellingham\, Washington\, 98229\, United States
CATEGORIES:Parks and Recreation
ATTACH;FMTTYPE=image/jpeg:https://cob.org/wp-content/uploads/BattingAgainstTheBells_Joe-Martin-Stadium.jpg
GEO:48.7475781;-122.4603331
X-APPLE-STRUCTURED-LOCATION;VALUE=URI;X-ADDRESS=Joe Martin Field 1220 Civic Field Way Bellingham Washington 98229 United States;X-APPLE-RADIUS=500;X-TITLE=1220 Civic Field Way:geo:-122.4603331,48.7475781
END:VEVENT
END:VCALENDAR