BEGIN:VCALENDAR
VERSION:2.0
PRODID:-//City of Bellingham - ECPv6.2.5//NONSGML v1.0//EN
CALSCALE:GREGORIAN
METHOD:PUBLISH
X-WR-CALNAME:City of Bellingham
X-ORIGINAL-URL:https://cob.org
X-WR-CALDESC:Events for City of Bellingham
REFRESH-INTERVAL;VALUE=DURATION:PT1H
X-Robots-Tag:noindex
X-PUBLISHED-TTL:PT1H
BEGIN:VTIMEZONE
TZID:America/Vancouver
BEGIN:DAYLIGHT
TZOFFSETFROM:-0800
TZOFFSETTO:-0700
TZNAME:PDT
DTSTART:20230312T100000
END:DAYLIGHT
BEGIN:STANDARD
TZOFFSETFROM:-0700
TZOFFSETTO:-0800
TZNAME:PST
DTSTART:20231105T090000
END:STANDARD
END:VTIMEZONE
BEGIN:VEVENT
DTSTART;TZID=America/Vancouver:20230808T160000
DTEND;TZID=America/Vancouver:20230808T180000
DTSTAMP:20231104T060017
CREATED:20230802T185842Z
LAST-MODIFIED:20230802T185851Z
UID:10001008-1691510400-1691517600@cob.org
SUMMARY:*CANCELLED* Historic Preservation Commission Meeting
DESCRIPTION:The Historic Preservation Commission is responsible for identifying and actively encouraging the conservation of the City of Bellingham’s historic resources.  \n\n\n\nParticipation Options \n\n\n\nMeetings can be attended either in-person at City Hall (210 Lottie Street)\, or virtually via Zoom Webinar (Meeting ID: 975 7464 8447  / Password: 9) via https://cob.zoom.us/j/97574648447. \n\n\n\n\nThe meeting can also be attended via phone by calling listen by phone at 1-253-215-8782\, 1-669-900-6833 or 1-929-205-6099 and using the meeting information above.\n\n\n\n\nNo registration is required to attend this meeting. \n\n\n\nMeeting Materials\n\n\n\nVisit the Historic Preservation Commission Meeting Materials webpage to view meeting agendas and supporting materials\, which are posted approximately one week prior to the meeting date. Also viewable are the minutes and audio from past meetings.
URL:https://cob.org/event/historic-preservation-commission-meeting-24
LOCATION:City Hall\, 210 Lottie Street\, Bellingham
CATEGORIES:Boards and Commissions,Historic Preservation Commission
END:VEVENT
BEGIN:VEVENT
DTSTART;TZID=America/Vancouver:20230808T180000
DTEND;TZID=America/Vancouver:20230808T200000
DTSTAMP:20231104T060017
CREATED:20230720T181532Z
LAST-MODIFIED:20230720T181538Z
UID:10000867-1691517600-1691524800@cob.org
SUMMARY:*CANCELLED* Transportation Commission Meeting
DESCRIPTION:The Transportation Commission is expected to help shape the future of Bellingham by taking a long-range\, strategic look at transportation issues and providing recommendations on policy choices and investment priorities.​ Transportation Commission meetings are typically held on the 2nd Tuesdays of the month at 6 p.m. in a hybrid format. Meetings take place in person at the Pacific Street Operations Center (2221 Pacific Street) and on Zoom.More Information​​Visit the Transportation Commission webpage or contact ​​​​​​​transportation@cob.org for more information.
URL:https://cob.org/event/transportation-commission-meeting-5
CATEGORIES:Boards and Commissions,Transportation Commission
ATTACH;FMTTYPE=image/jpeg:https://cob.org/wp-content/uploads/p600102-transportation-commission.jpg
END:VEVENT
END:VCALENDAR