BEGIN:VCALENDAR
VERSION:2.0
PRODID:-//City of Bellingham - ECPv6.2.5//NONSGML v1.0//EN
CALSCALE:GREGORIAN
METHOD:PUBLISH
X-WR-CALNAME:City of Bellingham
X-ORIGINAL-URL:https://cob.org
X-WR-CALDESC:Events for City of Bellingham
REFRESH-INTERVAL;VALUE=DURATION:PT1H
X-Robots-Tag:noindex
X-PUBLISHED-TTL:PT1H
BEGIN:VTIMEZONE
TZID:America/Vancouver
BEGIN:DAYLIGHT
TZOFFSETFROM:-0800
TZOFFSETTO:-0700
TZNAME:PDT
DTSTART:20230312T100000
END:DAYLIGHT
BEGIN:STANDARD
TZOFFSETFROM:-0700
TZOFFSETTO:-0800
TZNAME:PST
DTSTART:20231105T090000
END:STANDARD
END:VTIMEZONE
BEGIN:VEVENT
DTSTART;TZID=America/Vancouver:20230810T180000
DTEND;TZID=America/Vancouver:20230810T200000
DTSTAMP:20231104T060039
CREATED:20230508T192214Z
LAST-MODIFIED:20230508T192217Z
UID:10001404-1691690400-1691697600@cob.org
SUMMARY:Concerts in the Park
DESCRIPTION:Tonight: Pacific Twang Country – Swamp Rock & Americana \n\n\n\nFor ten Thursdays this summer\, Elizabeth Park\, in the Columbia Neighborhood\, will be filled with happy patrons\, enjoying amazing music. These Free\, Family Friendly concerts are sponsored by The Eldridge Society\, in partnership with Bellingham Parks and Recreation\, from 6-8pm every Thursday from June 22 through August 24. Neighbors and friends will enjoy all kinds of music. Food will be available for purchase\, and picnickers are encouraged to recycle and compost. Alcohol\, smoking and vaping not permitted in the park. Dogs must be leashed. 
URL:https://cob.org/event/concerts-in-the-park-08-10
LOCATION:Elizabeth Park\, 2205 Elizabeth St\, Bellingham\, Washington\, 98225
CATEGORIES:Elizabeth,Parks and Recreation
ATTACH;FMTTYPE=image/jpeg:https://cob.org/wp-content/uploads/Pacific-Twang-1.jpg
GEO:48.7602186;-122.4907968
X-APPLE-STRUCTURED-LOCATION;VALUE=URI;X-ADDRESS=Elizabeth Park 2205 Elizabeth St Bellingham Washington 98225;X-APPLE-RADIUS=500;X-TITLE=2205 Elizabeth St:geo:-122.4907968,48.7602186
END:VEVENT
BEGIN:VEVENT
DTSTART;TZID=America/Vancouver:20230810T180000
DTEND;TZID=America/Vancouver:20230810T200000
DTSTAMP:20231104T060039
CREATED:20230608T193716Z
LAST-MODIFIED:20230608T193738Z
UID:10001086-1691690400-1691697600@cob.org
SUMMARY:Community Development Advisory Board (CDAB) Meeting
DESCRIPTION:The Community Development Advisory Board (CDAB) mainly advises the Mayor and City Council on a variety of policies\, plans and projects.  \n\n\n\nParticipation Options \n\n\n\nMeetings can be attended either in-person at City Hall (210 Lottie Street)\, or virtually via Zoom Webinar (Meeting ID: 986 9045 9994  / Password: 21) via https://cob.zoom.us/j/98690459994?. \n\n\n\n\nThe meeting can also be attended via phone by calling listen by phone at 1-253-215-8782\, 1-669-900-6833 or 1-929-205-6099 and using the meeting information above.\n\n\n\n\nNo registration is required to attend this meeting.  \n\n\n\nMeeting Materials \n\n\n\nVisit meetings.cob.org to view meeting agendas and supporting materials\, which are posted approximately one week prior to the meeting date. If you are interested in meetings held prior to April\, 2023 – visit the Community Development Advisory Board Meeting Materials archive page.
URL:https://cob.org/event/community-development-advisory-board-cdab-meeting-8
CATEGORIES:Boards and Commissions,Community Development Advisory Board
ATTACH;FMTTYPE=image/jpeg:https://cob.org/wp-content/uploads/CDAB-Picture.jpg
ORGANIZER;CN="Heather Aven%2C Administrative Secretary":MAILTO:haven@cob.org
END:VEVENT
END:VCALENDAR