BEGIN:VCALENDAR
VERSION:2.0
PRODID:-//City of Bellingham - ECPv6.2.5//NONSGML v1.0//EN
CALSCALE:GREGORIAN
METHOD:PUBLISH
X-WR-CALNAME:City of Bellingham
X-ORIGINAL-URL:https://cob.org
X-WR-CALDESC:Events for City of Bellingham
REFRESH-INTERVAL;VALUE=DURATION:PT1H
X-Robots-Tag:noindex
X-PUBLISHED-TTL:PT1H
BEGIN:VTIMEZONE
TZID:America/Vancouver
BEGIN:DAYLIGHT
TZOFFSETFROM:-0800
TZOFFSETTO:-0700
TZNAME:PDT
DTSTART:20230312T100000
END:DAYLIGHT
BEGIN:STANDARD
TZOFFSETFROM:-0700
TZOFFSETTO:-0800
TZNAME:PST
DTSTART:20231105T090000
END:STANDARD
END:VTIMEZONE
BEGIN:VEVENT
DTSTART;TZID=America/Vancouver:20230815T150000
DTEND;TZID=America/Vancouver:20230815T170000
DTSTAMP:20231104T055955
CREATED:20230802T201311Z
LAST-MODIFIED:20230802T201319Z
UID:10000940-1692111600-1692118800@cob.org
SUMMARY:*CANCELLED* Design Review Board (DRB) Meeting
DESCRIPTION:The Design Review Board (DRB) advises the Planning and Community Development Director and Staff on proposed development projects. \n\n\n\nParticipation Options \n\n\n\nMeetings can be attended either in-person at City Hall (210 Lottie Street)\, or virtually via Zoom Webinar (Meeting ID: 933 8224 5585 / Password: 9) \n\n\n\n\nThe meeting can also be attended via phone by calling listen by phone at 1-253-215-8782\, 1-669-900-6833 or 1-929-205-6099 and using the meeting information above.\n\n\n\n\nRegistration via www.cob.org/drb is required to attend the meeting via Zoom or to provide public comment. \n\n\n\nMeeting Materials\n\n\n\nVisit meetings.cob.org to view meeting agendas and supporting materials\, which are posted approximately one week prior to the meeting date. If you are interested in meetings held prior to March\, 2023 – visit the Design Review Meeting Materials webpage.
URL:https://cob.org/event/design-review-board-drb-meeting-19
CATEGORIES:Boards and Commissions,Design Review Board
ORGANIZER;CN="Shannon Taysi":MAILTO:staysi@cob.org
END:VEVENT
BEGIN:VEVENT
DTSTART;TZID=America/Vancouver:20230815T153000
DTEND;TZID=America/Vancouver:20230815T163000
DTSTAMP:20231104T055955
CREATED:20221020T182618Z
LAST-MODIFIED:20221123T180708Z
UID:10001218-1692113400-1692117000@cob.org
SUMMARY:Bellingham Public Library Board of Trustees Meeting
DESCRIPTION:The Bellingham Public Library Board of Trustees typically holds regular public meetings on the third Tuesday of each month. Occasionally the meeting time\, date and location varies or special meetings are scheduled. \n\n\n\nThe meeting will be conducted in the Central Library Lecture Room.
URL:https://cob.org/event/bellingham-public-library-board-of-trustees-meeting/2023-08-15
LOCATION:Bellingham Public Library – Central\, 210 Central Ave\, Bellingham\, Washington\, 98225\, United States
CATEGORIES:Bellingham Public Library Board of Trustees
GEO:48.7542344;-122.4788048
X-APPLE-STRUCTURED-LOCATION;VALUE=URI;X-ADDRESS=Bellingham Public Library – Central 210 Central Ave Bellingham Washington 98225 United States;X-APPLE-RADIUS=500;X-TITLE=210 Central Ave:geo:-122.4788048,48.7542344
END:VEVENT
BEGIN:VEVENT
DTSTART;TZID=America/Vancouver:20230815T173000
DTEND;TZID=America/Vancouver:20230815T193000
DTSTAMP:20231104T055955
CREATED:20230815T181321Z
LAST-MODIFIED:20230815T181326Z
UID:10001698-1692120600-1692127800@cob.org
SUMMARY:Sister Cities Advisory Board Meeting
DESCRIPTION:Note: The meeting on 08/15 is being held exclusively on Zoom. In-person participation is not an option for this instance of the meeting. See instructions below for Zoom access.The Sister Cities Advisory Board advises the Mayor and all involved city departments concerning the establishment and maintenance of sister city relationships between the City of Bellingham and cities of other countries. Meetings are held on the third Tuesday of each month at 5:30 p.m. in person as well as online via Zoom. Please see the Bellingham Sister Cities Association page or email sistercities@cob.org for more information. \n\n\n\nSee the Meeting Materials page for agendas and minutes. \n\n\n\nThe August 15\, 2023 meeting will be held only remotely through an online web-based meeting platform\, with an option to call in by telephone. The meeting is open to the public. \n\n\n\nAppointed Board members of the Sister Cities Advisory Board: \n\n\n\n·       You will receive a personal invitation via email to participate as a panelist using Zoom. \n\n\n\n·       Follow the instructions included in your email invitation. \n\n\n\nParticipation / Attendance by Members of the Public \n\n\n\nParticipate by Zoom \n\n\n\nMembers of the public can join the meeting as an “attendee” by signing on at: \n\n\n\nhttps://cob.zoom.us/j/93515563881?pwd=b1Q2N21xaFFtZEt5NVh2blJYbDdSdz09 \n\n\n\nMeeting ID: 935 1556 3881                      Password: 175808 \n\n\n\nCity of Bellingham Webinar InstructionsIf you have never used Zoom before you can download the zoom application before the meeting begins here: zoom.us/download \n\n\n\nParticipate by Telephone:For anyone (appointed Board members and members of the public) who wish to participate by telephone\, dial any of the numbers below to join the meeting. \n\n\n\n(253) 215 8782  (346) 248 7799  (669) 900 6833      (312) 626 6799 \n\n\n\n(929) 205 6099  (301) 715 8592  \n\n\n\nWhen prompted use Meeting ID:  935 1556 3881    Password: 175808
URL:https://cob.org/event/sister-cities-advisory-board-meeting
LOCATION:City Hall\, 210 Lottie Street\, Bellingham
CATEGORIES:Boards and Commissions,Sister Cities Advisory Board
ATTACH;FMTTYPE=image/jpeg:https://cob.org/wp-content/uploads/sister-cities-meetings.jpg
END:VEVENT
BEGIN:VEVENT
DTSTART;TZID=America/Vancouver:20230815T183000
DTEND;TZID=America/Vancouver:20230815T203000
DTSTAMP:20231104T055955
CREATED:20230710T191449Z
LAST-MODIFIED:20230710T195514Z
UID:10001254-1692124200-1692131400@cob.org
SUMMARY:Immigration Advisory Board Meeting
DESCRIPTION:The purpose of the board is to review and evaluate existing policies and make specific recommendations to the Mayor and City Council regarding City policy related to immigration matters. This evaluation will include analysis of City data to determine compliance with Washington State law. The board will make recommendations for further data to be compiled in order to facilitate its recommendations. In addition\, the board shall support community involvement in and discussion of regional issues and decisions about our City’s future as it relates to immigration. \n\n\n\nMore information about the board including meeting materials and agendas can be found here:https://cob.org/gov/public/bc/Immigration-Advisory-Board \n\n\n\n\n\n\n\n\n\nMeetings are in-person and online through Zoom.  \n\n\n\nIn-person: City of Bellingham Public Works Operations Center 2221 Pacific St\, Bellingham\, WA. Use the entrance on Carolina Street. \n\n\n\nZoom: Click below after start time. Meeting ID: 869 3703 3955; Password 9 (Phone only: 253-215-8782)
URL:https://cob.org/event/immigration-advisory-board-meeting-3/2023-08-15
CATEGORIES:Boards and Commissions,Immigration Advisory Board​
ATTACH;FMTTYPE=image/jpeg:https://cob.org/wp-content/uploads/P400189.jpg
END:VEVENT
END:VCALENDAR