BEGIN:VCALENDAR
VERSION:2.0
PRODID:-//City of Bellingham - ECPv6.2.5//NONSGML v1.0//EN
CALSCALE:GREGORIAN
METHOD:PUBLISH
X-ORIGINAL-URL:https://cob.org
X-WR-CALDESC:Events for City of Bellingham
REFRESH-INTERVAL;VALUE=DURATION:PT1H
X-Robots-Tag:noindex
X-PUBLISHED-TTL:PT1H
BEGIN:VTIMEZONE
TZID:America/Vancouver
BEGIN:DAYLIGHT
TZOFFSETFROM:-0800
TZOFFSETTO:-0700
TZNAME:PDT
DTSTART:20230312T100000
END:DAYLIGHT
BEGIN:STANDARD
TZOFFSETFROM:-0700
TZOFFSETTO:-0800
TZNAME:PST
DTSTART:20231105T090000
END:STANDARD
END:VTIMEZONE
BEGIN:VEVENT
DTSTART;TZID=America/Vancouver:20230817T180000
DTEND;TZID=America/Vancouver:20230817T200000
DTSTAMP:20231104T060139
CREATED:20230508T192606Z
LAST-MODIFIED:20230508T192609Z
UID:10001405-1692295200-1692302400@cob.org
SUMMARY:Concerts in the Park
DESCRIPTION:Tonight: North Sound Soul – Horn-Driven Soul\, Fun & Rock   \n\n\n\nFor ten Thursdays this summer\, Elizabeth Park\, in the Columbia Neighborhood\, will be filled with happy patrons\, enjoying amazing music. These Free\, Family Friendly concerts are sponsored by The Eldridge Society\, in partnership with Bellingham Parks and Recreation\, from 6-8pm every Thursday from June 22 through August 24. Neighbors and friends will enjoy all kinds of music. Food will be available for purchase\, and picnickers are encouraged to recycle and compost. Alcohol\, smoking and vaping not permitted in the park. Dogs must be leashed. 
URL:https://cob.org/event/concerts-in-the-park-08-17
LOCATION:Elizabeth Park\, 2205 Elizabeth St\, Bellingham\, Washington\, 98225
CATEGORIES:Elizabeth,Parks and Recreation
ATTACH;FMTTYPE=image/jpeg:https://cob.org/wp-content/uploads/North-Sound.jpg
GEO:48.7602186;-122.4907968
X-APPLE-STRUCTURED-LOCATION;VALUE=URI;X-ADDRESS=Elizabeth Park 2205 Elizabeth St Bellingham Washington 98225;X-APPLE-RADIUS=500;X-TITLE=2205 Elizabeth St:geo:-122.4907968,48.7602186
END:VEVENT
BEGIN:VEVENT
DTSTART;TZID=America/Vancouver:20230817T190000
DTEND;TZID=America/Vancouver:20230817T220000
DTSTAMP:20231104T060139
CREATED:20230817T164315Z
LAST-MODIFIED:20230817T164421Z
UID:10000964-1692298800-1692309600@cob.org
SUMMARY:Planning Commission Meeting
DESCRIPTION:Agenda: The following item(s) are anticipated to be considered at this meeting. The full agenda and meeting materials will be posted approximately two weeks in advance of the meeting. Written comments can be sent to planningcommission@cob.org. \n\n\n\n\nPublic Hearing on Parks\, Recreation and Open Space Plan. \n\n\n\n\nParticipation Options: Meetings can be attended either in-person at City Hall (210 Lottie Street)\, or virtually via Zoom Webinar (Meeting ID: 951 8356 8029   / Password: 21 ) \n\n\n\n\nThe meetings are streamed live via the City’s website at meetings.cob.org\, on the City’s YouTube channel (www.youtube.com/user/cityofbhamwa)\, or on Comcast channel 10 (HD – channel 321). The meeting can also be attended via phone by calling listen by phone at 1-253-215-8782\, 1-669-900-6833 or 1-929-205-6099 and using the meeting information above.\n\n\n\n\nRegistration via www.cob.org/pc is required to attend the meeting via Zoom or to provide public comment. \n\n\n\nIf you are interested in being informed of upcoming Planning Commission business\, please email haven@cob.org and request to be added to the PC Notification List.
URL:https://cob.org/event/planning-commission-meeting-16
CATEGORIES:Planning and Development Commission
ATTACH;FMTTYPE=image/jpeg:https://cob.org/wp-content/uploads/p901259-transportation-watershed-transportation-watershed.jpg
END:VEVENT
END:VCALENDAR