BEGIN:VCALENDAR
VERSION:2.0
PRODID:-//City of Bellingham - ECPv6.2.5//NONSGML v1.0//EN
CALSCALE:GREGORIAN
METHOD:PUBLISH
X-WR-CALNAME:City of Bellingham
X-ORIGINAL-URL:https://cob.org
X-WR-CALDESC:Events for City of Bellingham
REFRESH-INTERVAL;VALUE=DURATION:PT1H
X-Robots-Tag:noindex
X-PUBLISHED-TTL:PT1H
BEGIN:VTIMEZONE
TZID:America/Vancouver
BEGIN:DAYLIGHT
TZOFFSETFROM:-0800
TZOFFSETTO:-0700
TZNAME:PDT
DTSTART:20230312T100000
END:DAYLIGHT
BEGIN:STANDARD
TZOFFSETFROM:-0700
TZOFFSETTO:-0800
TZNAME:PST
DTSTART:20231105T090000
END:STANDARD
END:VTIMEZONE
BEGIN:VEVENT
DTSTART;TZID=America/Vancouver:20231219T153000
DTEND;TZID=America/Vancouver:20231219T163000
DTSTAMP:20231104T052021
CREATED:20221020T182618Z
LAST-MODIFIED:20221123T180708Z
UID:10001222-1702999800-1703003400@cob.org
SUMMARY:Bellingham Public Library Board of Trustees Meeting
DESCRIPTION:The Bellingham Public Library Board of Trustees typically holds regular public meetings on the third Tuesday of each month. Occasionally the meeting time\, date and location varies or special meetings are scheduled. \n\n\n\nThe meeting will be conducted in the Central Library Lecture Room.
URL:https://cob.org/event/bellingham-public-library-board-of-trustees-meeting/2023-12-19
LOCATION:Bellingham Public Library – Central\, 210 Central Ave\, Bellingham\, Washington\, 98225\, United States
CATEGORIES:Bellingham Public Library Board of Trustees
GEO:48.7542344;-122.4788048
X-APPLE-STRUCTURED-LOCATION;VALUE=URI;X-ADDRESS=Bellingham Public Library – Central 210 Central Ave Bellingham Washington 98225 United States;X-APPLE-RADIUS=500;X-TITLE=210 Central Ave:geo:-122.4788048,48.7542344
END:VEVENT
BEGIN:VEVENT
DTSTART;TZID=America/Vancouver:20231219T183000
DTEND;TZID=America/Vancouver:20231219T203000
DTSTAMP:20231104T052021
CREATED:20230710T191449Z
LAST-MODIFIED:20230710T195514Z
UID:10001258-1703010600-1703017800@cob.org
SUMMARY:Immigration Advisory Board Meeting
DESCRIPTION:The purpose of the board is to review and evaluate existing policies and make specific recommendations to the Mayor and City Council regarding City policy related to immigration matters. This evaluation will include analysis of City data to determine compliance with Washington State law. The board will make recommendations for further data to be compiled in order to facilitate its recommendations. In addition\, the board shall support community involvement in and discussion of regional issues and decisions about our City’s future as it relates to immigration. \n\n\n\nMore information about the board including meeting materials and agendas can be found here:https://cob.org/gov/public/bc/Immigration-Advisory-Board \n\n\n\n\n\n\n\n\n\nMeetings are in-person and online through Zoom.  \n\n\n\nIn-person: City of Bellingham Public Works Operations Center 2221 Pacific St\, Bellingham\, WA. Use the entrance on Carolina Street. \n\n\n\nZoom: Click below after start time. Meeting ID: 869 3703 3955; Password 9 (Phone only: 253-215-8782)
URL:https://cob.org/event/immigration-advisory-board-meeting-3/2023-12-19
CATEGORIES:Boards and Commissions,Immigration Advisory Board​
ATTACH;FMTTYPE=image/jpeg:https://cob.org/wp-content/uploads/P400189.jpg
END:VEVENT
END:VCALENDAR