BEGIN:VCALENDAR
VERSION:2.0
PRODID:-//City of Bellingham - ECPv6.2.5//NONSGML v1.0//EN
CALSCALE:GREGORIAN
METHOD:PUBLISH
X-WR-CALNAME:City of Bellingham
X-ORIGINAL-URL:https://cob.org
X-WR-CALDESC:Events for City of Bellingham
REFRESH-INTERVAL;VALUE=DURATION:PT1H
X-Robots-Tag:noindex
X-PUBLISHED-TTL:PT1H
BEGIN:VTIMEZONE
TZID:America/Vancouver
BEGIN:DAYLIGHT
TZOFFSETFROM:-0800
TZOFFSETTO:-0700
TZNAME:PDT
DTSTART:20230312T100000
END:DAYLIGHT
BEGIN:STANDARD
TZOFFSETFROM:-0700
TZOFFSETTO:-0800
TZNAME:PST
DTSTART:20231105T090000
END:STANDARD
END:VTIMEZONE
BEGIN:VEVENT
DTSTART;TZID=America/Vancouver:20231003T150000
DTEND;TZID=America/Vancouver:20231003T170000
DTSTAMP:20231105T002909
CREATED:20221117T200358Z
LAST-MODIFIED:20230427T175507Z
UID:10001153-1696345200-1696352400@cob.org
SUMMARY:Design Review Board (DRB) Meeting
DESCRIPTION:The Design Review Board (DRB) advises the Planning and Community Development Director and Staff on proposed development projects.  \n\n\n\nParticipation Options \n\n\n\nMeetings can be attended either in-person at City Hall (210 Lottie Street)\, or virtually via Zoom Webinar (Meeting ID: 933 8224 5585 / Password: 9).   \n\n\n\n\nThe meeting can also be attended via phone by calling listen by phone at 1-253-215-8782\, 1-669-900-6833 or 1-929-205-6099 and using the meeting information above.\n\n\n\n\nRegistration via www.cob.org/drb is required to attend the meeting via Zoom or to provide public comment. \n\n\n\nMeeting Materials\n\n\n\nVisit meetings.cob.org to view meeting agendas and supporting materials\, which are posted approximately one week prior to the meeting date. If you are interested in meetings held prior to March\, 2023 – visit the Design Review Meeting Materials webpage.
URL:https://cob.org/event/design-review-board-drb-meeting-3/2023-10-03
CATEGORIES:Boards and Commissions,Design Review Board
ORGANIZER;CN="Shannon Taysi":MAILTO:staysi@cob.org
END:VEVENT
BEGIN:VEVENT
DTSTART;TZID=America/Vancouver:20231003T180000
DTEND;TZID=America/Vancouver:20231003T200000
DTSTAMP:20231105T002909
CREATED:20230920T175827Z
LAST-MODIFIED:20230920T175833Z
UID:10001154-1696356000-1696363200@cob.org
SUMMARY:*POSTPONED TO 10/17* Bellingham Arts Commission (BAC) Meeting
DESCRIPTION:The Bellingham Arts Commission serves as advisors and advocates for the enhancement and integration of the arts in the community. \n\n\n\nParticipation Options\n\n\n\nMeetings can be attended either in-person at City Hall (210 Lottie Street)\, or virtually via Zoom Webinar (Meeting ID: 915 1955 3016  / Password: 9). \n\n\n\n\nThe meeting can also be attended via phone by calling listen by phone at 1-253-215-8782\, 1-669-900-6833 or 1-929-205-6099 and using the meeting information above.\n\n\n\n\nRegistration via www.cob.org/bac is required to attend the meeting via Zoom or to provide public comment. \n\n\n\nMeeting Materials\n\n\n\nVisit meetings.cob.org to view meeting agendas and supporting materials\, which are posted approximately one week prior to the meeting date. If you are interested in meetings held prior to March\, 2023 – visit the Arts Commission Meeting Materials webpage.
URL:https://cob.org/event/bellingham-arts-commission-bac-meeting-9
LOCATION:Online Zoom Webinar\, Bellingham
CATEGORIES:Arts Commission,Boards and Commissions
ATTACH;FMTTYPE=image/jpeg:https://cob.org/wp-content/uploads/20180529_092727__1531846005617.jpg
ORGANIZER;CN="Shannon Taysi":MAILTO:staysi@cob.org
END:VEVENT
BEGIN:VEVENT
DTSTART;TZID=America/Vancouver:20231005T190000
DTEND;TZID=America/Vancouver:20231005T210000
DTSTAMP:20231105T002909
CREATED:20230831T171942Z
LAST-MODIFIED:20230831T172232Z
UID:10001813-1696532400-1696539600@cob.org
SUMMARY:Greenways Advisory Committee
DESCRIPTION:Location: In Person at City Hall – Mayor’s Board Room or Remote Meeting Option Below Join from a PC\, Mac\, iPad\, iPhone or Android device: \n\n\n\nYour Personal Meeting Link: https://cob.zoom.us/s/94589588482?pwd=bWtSVGlzcHFDVHlrY1Z2RU5XMjR2UT09 \n\n\n\nMeeting ID: 945 8958 8482 \n\n\n\nPassword: 558849 \n\n\n\nOr join by phone: \n\n\n\n                Dial (for higher quality\, dial a number based on your current location): \n\n\n\n       +1 253 215 8782       +1 346 248 7799        +1 669 900 6833       +1 929 205 6099        +1 301 715 8592       +1 312 626 6799 \n\n\n\n**Note: If joining by phone only you can raise your hand by entering *9 on your phone keypad. You can use *6 to mute and un-mute yourself if your phone does not have built it mic muting.
URL:https://cob.org/event/greenways-advisory-committee-4/2023-10-05
LOCATION:City Hall\, 210 Lottie St\, Bellingham\, Washington\, 98225\, United States
CATEGORIES:Boards and Commissions,Greenway Advisory Committee,Parks and Recreation
ATTACH;FMTTYPE=image/jpeg:https://cob.org/wp-content/uploads/cordata-park-art-2-1.jpg
GEO:48.7552397;-122.4789188
X-APPLE-STRUCTURED-LOCATION;VALUE=URI;X-ADDRESS=City Hall 210 Lottie St Bellingham Washington 98225 United States;X-APPLE-RADIUS=500;X-TITLE=210 Lottie St:geo:-122.4789188,48.7552397
END:VEVENT
BEGIN:VEVENT
DTSTART;TZID=America/Vancouver:20231005T190000
DTEND;TZID=America/Vancouver:20231005T220000
DTSTAMP:20231105T002909
CREATED:20230920T232143Z
LAST-MODIFIED:20230920T232147Z
UID:10001157-1696532400-1696543200@cob.org
SUMMARY:*CANCELLED* Planning Commission Meeting
DESCRIPTION:Agenda: The following item(s) are anticipated to be considered at this meeting. The full agenda and meeting materials will be posted approximately two weeks in advance of the meeting. Written comments can be sent to planningcommission@cob.org. \n\n\n\n\n\n\n\n\n\nParticipation Options: Meetings can be attended either in-person at City Hall (210 Lottie Street)\, or virtually via Zoom Webinar (Meeting ID:    / Password:  ) \n\n\n\n\nThe meetings are streamed live via the City’s website at meetings.cob.org\, on the City’s YouTube channel (www.youtube.com/user/cityofbhamwa)\, or on Comcast channel 10 (HD – channel 321). The meeting can also be attended via phone by calling listen by phone at 1-253-215-8782\, 1-669-900-6833 or 1-929-205-6099 and using the meeting information above.\n\n\n\n\nRegistration via www.cob.org/pc is required to attend the meeting via Zoom or to provide public comment. \n\n\n\nIf you are interested in being informed of upcoming Planning Commission business\, please email haven@cob.org and request to be added to the PC Notification List.
URL:https://cob.org/event/planning-commission-meeting-19
CATEGORIES:Boards and Commissions,Planning and Development Commission
ATTACH;FMTTYPE=image/jpeg:https://cob.org/wp-content/uploads/p901259-transportation-watershed-transportation-watershed.jpg
END:VEVENT
BEGIN:VEVENT
DTSTART;TZID=America/Vancouver:20231010T160000
DTEND;TZID=America/Vancouver:20231010T180000
DTSTAMP:20231105T002909
CREATED:20231005T174623Z
LAST-MODIFIED:20231005T174628Z
UID:10001161-1696953600-1696960800@cob.org
SUMMARY:*CANCELLED* Historic Preservation Commission Meeting
DESCRIPTION:The Historic Preservation Commission is responsible for identifying and actively encouraging the conservation of the City of Bellingham’s historic resources.  \n\n\n\nParticipation Options \n\n\n\nMeetings can be attended either in-person at City Hall (210 Lottie Street)\, or virtually via Zoom Webinar (Meeting ID: 975 7464 8447  / Password: 9) via https://cob.zoom.us/j/97574648447. \n\n\n\n\nThe meeting can also be attended via phone by calling listen by phone at 1-253-215-8782\, 1-669-900-6833 or 1-929-205-6099 and using the meeting information above.\n\n\n\n\nNo registration is required to attend this meeting. \n\n\n\nMeeting Materials\n\n\n\nVisit the Historic Preservation Commission Meeting Materials webpage to view meeting agendas and supporting materials\, which are posted approximately one week prior to the meeting date. Also viewable are the minutes and audio from past meetings.
URL:https://cob.org/event/historic-preservation-commission-meeting-26
LOCATION:City Hall\, 210 Lottie Street\, Bellingham
CATEGORIES:Boards and Commissions,Historic Preservation Commission
END:VEVENT
BEGIN:VEVENT
DTSTART;TZID=America/Vancouver:20231010T180000
DTEND;TZID=America/Vancouver:20231010T200000
DTSTAMP:20231105T002909
CREATED:20230706T173628Z
LAST-MODIFIED:20230707T152838Z
UID:10001588-1696960800-1696968000@cob.org
SUMMARY:Transportation Commission Meeting
DESCRIPTION:The Transportation Commission is expected to help shape the future of Bellingham by taking a long-range\, strategic look at transportation issues and providing recommendations on policy choices and investment priorities.​ Transportation Commission meetings are typically held on the 2nd Tuesdays of the month at 6 p.m. in a hybrid format. Meetings take place in person at the Pacific Street Operations Center (2221 Pacific Street) and on Zoom.More Information​​Visit the Transportation Commission webpage or contact ​​​​​​​transportation@cob.org for more information.
URL:https://cob.org/event/transportation-commission-meeting-3/2023-10-10
CATEGORIES:Boards and Commissions,Transportation Commission
ATTACH;FMTTYPE=image/jpeg:https://cob.org/wp-content/uploads/p600102-transportation-commission.jpg
END:VEVENT
BEGIN:VEVENT
DTSTART;TZID=America/Vancouver:20231011T073000
DTEND;TZID=America/Vancouver:20231011T093000
DTSTAMP:20231105T002909
CREATED:20231006T220625Z
LAST-MODIFIED:20231006T220631Z
UID:10001898-1697009400-1697016600@cob.org
SUMMARY:*Canceled* Parks and Recreation Advisory Board Meeting
DESCRIPTION:Location: In Person at City Hall – Mayor’s Board Room or Remote Meeting Option Below \n\n\n\nJoin from a PC\, Mac\, iPad\, iPhone\, or Android device: \n\n\n\nYour Personal Meeting Link: https://cob.zoom.us/s/99623052639?pwd=M1RlWENpc0ZGaWlnTENJNHJLVWhYdz09 \n\n\n\nMeeting ID: 996 2305 2639Password: 914391 \n\n\n\nOr join by phone: \n\n\n\n    Dial (for higher quality\, dial a number based on your current location): \n\n\n\n+1 253 215 8782          +1 669 900 6833           +1 346 248 7799            +1 301 715 8592            +1 312 626 6799            +1 929 205 6099 \n\n\n\n    Meeting ID: 996 2305 2639    Password: 914391 \n\n\n\nNote: If joining by phone only you can raise your hand by entering *9 on your phone keypad.  You can use *6 to mute and un-mute yourself if you phone does not have built it mic muting.
URL:https://cob.org/event/parks-and-recreation-advisory-board-meeting-2
LOCATION:City Hall\, 210 Lottie St\, Bellingham\, Washington\, 98225\, United States
CATEGORIES:Boards and Commissions,Parks and Recreation Advisory Board
ATTACH;FMTTYPE=image/jpeg:https://cob.org/wp-content/uploads/Lee-Memorial-events.jpg
GEO:48.7552397;-122.4789188
X-APPLE-STRUCTURED-LOCATION;VALUE=URI;X-ADDRESS=City Hall 210 Lottie St Bellingham Washington 98225 United States;X-APPLE-RADIUS=500;X-TITLE=210 Lottie St:geo:-122.4789188,48.7552397
END:VEVENT
BEGIN:VEVENT
DTSTART;TZID=America/Vancouver:20231011T140000
DTEND;TZID=America/Vancouver:20231011T150000
DTSTAMP:20231105T002909
CREATED:20230809T192925Z
LAST-MODIFIED:20230809T192930Z
UID:10001178-1697032800-1697036400@cob.org
SUMMARY:Civil Service Commission Meeting
DESCRIPTION:Civil Service Commission meetings are held in Council Chambers at City Hall. Those unable to attend in person may register to attend remotely at the Webinar Registration Page.The agenda for the current meeting and minutes for previous meetings are available on the Meeting Materials page.The Civil Service Commission provides for the classification of over 500 civil service employees and for open and competitive examinations at both entry and promotional levels. The Commission may also review the suspension\, removal\, or discharge of civil service employees and will investigate such actions\, hold public hearings\, and reinstate employees if justified. The Commission is staffed by the Human Resources Department of the City of Bellingham in its role as the administrator of the City’s Civil Service System.Meeting duration may vary.
URL:https://cob.org/event/civil-service-commission-meeting-5/2023-10-11
LOCATION:City Council Chambers\, 210 Lottie St\, Bellingham\, Washington\, 98225\, United States
CATEGORIES:Boards and Commissions,Civil Service Commission
ATTACH;FMTTYPE=image/jpeg:https://cob.org/wp-content/uploads/Civil-Service-meetings.jpg
GEO:48.7552397;-122.4789188
X-APPLE-STRUCTURED-LOCATION;VALUE=URI;X-ADDRESS=City Council Chambers 210 Lottie St Bellingham Washington 98225 United States;X-APPLE-RADIUS=500;X-TITLE=210 Lottie St:geo:-122.4789188,48.7552397
END:VEVENT
BEGIN:VEVENT
DTSTART;TZID=America/Vancouver:20231012T180000
DTEND;TZID=America/Vancouver:20231012T200000
DTSTAMP:20231105T002909
CREATED:20230608T193821Z
LAST-MODIFIED:20231011T231118Z
UID:10001205-1697133600-1697140800@cob.org
SUMMARY:*CANCELLED* Community Development Advisory Board (CDAB) Meeting
DESCRIPTION:The Community Development Advisory Board (CDAB) mainly advises the Mayor and City Council on a variety of policies\, plans and projects.  \n\n\n\nParticipation Options \n\n\n\nMeetings can be attended either in-person at City Hall (210 Lottie Street)\, or virtually via Zoom Webinar (Meeting ID: 986 9045 9994  / Password: 21) via https://cob.zoom.us/j/98690459994?. \n\n\n\n\nThe meeting can also be attended via phone by calling listen by phone at 1-253-215-8782\, 1-669-900-6833 or 1-929-205-6099 and using the meeting information above.\n\n\n\n\nNo registration is required to attend this meeting.  \n\n\n\nMeeting Materials \n\n\n\nVisit meetings.cob.org to view meeting agendas and supporting materials\, which are posted approximately one week prior to the meeting date. If you are interested in meetings held prior to April\, 2023 – visit the Community Development Advisory Board Meeting Materials archive page.
URL:https://cob.org/event/community-development-advisory-board-cdab-meeting-10
CATEGORIES:Boards and Commissions,Community Development Advisory Board
ATTACH;FMTTYPE=image/jpeg:https://cob.org/wp-content/uploads/CDAB-Picture.jpg
ORGANIZER;CN="Heather Aven%2C Administrative Secretary":MAILTO:haven@cob.org
END:VEVENT
BEGIN:VEVENT
DTSTART;TZID=America/Vancouver:20231017T150000
DTEND;TZID=America/Vancouver:20231017T170000
DTSTAMP:20231105T002909
CREATED:20231016T204204Z
LAST-MODIFIED:20231016T204209Z
UID:10001160-1697554800-1697562000@cob.org
SUMMARY:*CANCELLED* Design Review Board (DRB) Meeting
DESCRIPTION:The Design Review Board (DRB) advises the Planning and Community Development Director and Staff on proposed development projects. \n\n\n\nParticipation Options \n\n\n\nMeetings can be attended either in-person at City Hall (210 Lottie Street)\, or virtually via Zoom Webinar (Meeting ID: 933 8224 5585 / Password: 9) \n\n\n\n\nThe meeting can also be attended via phone by calling listen by phone at 1-253-215-8782\, 1-669-900-6833 or 1-929-205-6099 and using the meeting information above.\n\n\n\n\nRegistration via www.cob.org/drb is required to attend the meeting via Zoom or to provide public comment. \n\n\n\nMeeting Materials\n\n\n\nVisit meetings.cob.org to view meeting agendas and supporting materials\, which are posted approximately one week prior to the meeting date. If you are interested in meetings held prior to March\, 2023 – visit the Design Review Meeting Materials webpage.
URL:https://cob.org/event/design-review-board-drb-meeting-22
CATEGORIES:Boards and Commissions,Design Review Board
ORGANIZER;CN="Shannon Taysi":MAILTO:staysi@cob.org
END:VEVENT
BEGIN:VEVENT
DTSTART;TZID=America/Vancouver:20231017T153000
DTEND;TZID=America/Vancouver:20231017T163000
DTSTAMP:20231105T002909
CREATED:20221020T182618Z
LAST-MODIFIED:20221123T180708Z
UID:10001220-1697556600-1697560200@cob.org
SUMMARY:Bellingham Public Library Board of Trustees Meeting
DESCRIPTION:The Bellingham Public Library Board of Trustees typically holds regular public meetings on the third Tuesday of each month. Occasionally the meeting time\, date and location varies or special meetings are scheduled. \n\n\n\nThe meeting will be conducted in the Central Library Lecture Room.
URL:https://cob.org/event/bellingham-public-library-board-of-trustees-meeting/2023-10-17
LOCATION:Bellingham Public Library – Central\, 210 Central Ave\, Bellingham\, Washington\, 98225\, United States
CATEGORIES:Bellingham Public Library Board of Trustees
GEO:48.7542344;-122.4788048
X-APPLE-STRUCTURED-LOCATION;VALUE=URI;X-ADDRESS=Bellingham Public Library – Central 210 Central Ave Bellingham Washington 98225 United States;X-APPLE-RADIUS=500;X-TITLE=210 Central Ave:geo:-122.4788048,48.7542344
END:VEVENT
BEGIN:VEVENT
DTSTART;TZID=America/Vancouver:20231017T173000
DTEND;TZID=America/Vancouver:20231017T193000
DTSTAMP:20231105T002909
CREATED:20200610T201541Z
LAST-MODIFIED:20230714T182906Z
UID:10001702-1697563800-1697571000@cob.org
SUMMARY:Sister Cities Advisory Board Meeting
DESCRIPTION:The Sister Cities Advisory Board advises the Mayor and all involved city departments concerning the establishment and maintenance of sister city relationships between the City of Bellingham and cities of other countries. Meetings are held on the third Tuesday of each month at 5:30 p.m. in person as well as online via Zoom. Please see the Bellingham Sister Cities Association page or email sistercities@cob.org for more information. \n\n\n\nSee the Meeting Materials page for agendas and minutes. \n\n\n\nThe meeting will be held in person in the Mayor’s Board Room in City Hall at 210 Lottie St. There will also be the option to join remotely through an online web-based meeting platform\, with an option to call in by telephone. The meeting is open to the public. \n\n\n\nAppointed Board members of the Sister Cities Advisory Board: \n\n\n\n·       You will receive a personal invitation via email to participate as a panelist using Zoom. \n\n\n\n·       Follow the instructions included in your email invitation. \n\n\n\nParticipation / Attendance by Members of the Public \n\n\n\nParticipate by Zoom \n\n\n\nMembers of the public can join the meeting as an “attendee” by signing on at: \n\n\n\nhttps://cob.zoom.us/j/93515563881?pwd=b1Q2N21xaFFtZEt5NVh2blJYbDdSdz09 \n\n\n\nMeeting ID: 935 1556 3881                      Password: 175808 \n\n\n\nCity of Bellingham Webinar InstructionsIf you have never used Zoom before you can download the zoom application before the meeting begins here: zoom.us/download \n\n\n\nParticipate by Telephone:For anyone (appointed Board members and members of the public) who wish to participate by telephone\, dial any of the numbers below to join the meeting. \n\n\n\n(253) 215 8782  (346) 248 7799  (669) 900 6833      (312) 626 6799 \n\n\n\n(929) 205 6099  (301) 715 8592  \n\n\n\nWhen prompted use Meeting ID:  935 1556 3881    Password: 175808
URL:https://cob.org/event/bellingham-sister-cities-association-meeting-2021-01-19/2023-10-17
LOCATION:City Hall\, 210 Lottie Street\, Bellingham
CATEGORIES:Boards and Commissions,Sister Cities Advisory Board
ATTACH;FMTTYPE=image/jpeg:https://cob.org/wp-content/uploads/sister-cities-meetings.jpg
END:VEVENT
BEGIN:VEVENT
DTSTART;TZID=America/Vancouver:20231017T180000
DTEND;TZID=America/Vancouver:20231017T200000
DTSTAMP:20231105T002909
CREATED:20230920T180035Z
LAST-MODIFIED:20230920T180040Z
UID:10001892-1697565600-1697572800@cob.org
SUMMARY:Bellingham Arts Commission (BAC) Meeting
DESCRIPTION:The Bellingham Arts Commission serves as advisors and advocates for the enhancement and integration of the arts in the community. \n\n\n\nParticipation Options\n\n\n\nMeetings can be attended either in-person in the Council Boardroom at City Hall (210 Lottie Street)\, or virtually via Zoom Webinar (Meeting ID: 915 1955 3016  / Password: 9). \n\n\n\n\nThe meeting can also be attended via phone by calling listen by phone at 1-253-215-8782\, 1-669-900-6833 or 1-929-205-6099 and using the meeting information above.\n\n\n\n\nRegistration via www.cob.org/bac is required to attend the meeting via Zoom or to provide public comment. \n\n\n\nMeeting Materials\n\n\n\nVisit meetings.cob.org to view meeting agendas and supporting materials\, which are posted approximately one week prior to the meeting date. If you are interested in meetings held prior to March\, 2023 – visit the Arts Commission Meeting Materials webpage.
URL:https://cob.org/event/bellingham-arts-commission-bac-meeting-10
LOCATION:Online Zoom Webinar\, Bellingham
CATEGORIES:Arts Commission,Boards and Commissions
ATTACH;FMTTYPE=image/jpeg:https://cob.org/wp-content/uploads/20180529_092727__1531846005617.jpg
ORGANIZER;CN="Shannon Taysi":MAILTO:staysi@cob.org
END:VEVENT
BEGIN:VEVENT
DTSTART;TZID=America/Vancouver:20231017T183000
DTEND;TZID=America/Vancouver:20231017T203000
DTSTAMP:20231105T002909
CREATED:20230710T191449Z
LAST-MODIFIED:20230710T195514Z
UID:10001256-1697567400-1697574600@cob.org
SUMMARY:Immigration Advisory Board Meeting
DESCRIPTION:The purpose of the board is to review and evaluate existing policies and make specific recommendations to the Mayor and City Council regarding City policy related to immigration matters. This evaluation will include analysis of City data to determine compliance with Washington State law. The board will make recommendations for further data to be compiled in order to facilitate its recommendations. In addition\, the board shall support community involvement in and discussion of regional issues and decisions about our City’s future as it relates to immigration. \n\n\n\nMore information about the board including meeting materials and agendas can be found here:https://cob.org/gov/public/bc/Immigration-Advisory-Board \n\n\n\n\n\n\n\n\n\nMeetings are in-person and online through Zoom.  \n\n\n\nIn-person: City of Bellingham Public Works Operations Center 2221 Pacific St\, Bellingham\, WA. Use the entrance on Carolina Street. \n\n\n\nZoom: Click below after start time. Meeting ID: 869 3703 3955; Password 9 (Phone only: 253-215-8782)
URL:https://cob.org/event/immigration-advisory-board-meeting-3/2023-10-17
CATEGORIES:Boards and Commissions,Immigration Advisory Board​
ATTACH;FMTTYPE=image/jpeg:https://cob.org/wp-content/uploads/P400189.jpg
END:VEVENT
BEGIN:VEVENT
DTSTART;TZID=America/Vancouver:20231019T120000
DTEND;TZID=America/Vancouver:20231019T130000
DTSTAMP:20231105T002909
CREATED:20221031T210324Z
LAST-MODIFIED:20230712T213801Z
UID:10001646-1697716800-1697720400@cob.org
SUMMARY:Bellingham Whatcom Public Facilities District Board Meeting
DESCRIPTION:Meetings of the Bellingham-Whatcom Public Facilities District are held twice a year on a Thursday at 12 p.m. at City Hall\, 210 Lottie Street\, Bellingham. Meetings generally last for an hour.
URL:https://cob.org/event/bellingham-whatcom-public-facilities-district-board-meeting/2023-10-19
LOCATION:City Hall\, 210 Lottie St\, Bellingham\, Washington\, 98225\, United States
CATEGORIES:Bellingham - Whatcom Public Facilities District​,Boards and Commissions
GEO:48.7552397;-122.4789188
X-APPLE-STRUCTURED-LOCATION;VALUE=URI;X-ADDRESS=City Hall 210 Lottie St Bellingham Washington 98225 United States;X-APPLE-RADIUS=500;X-TITLE=210 Lottie St:geo:-122.4789188,48.7552397
END:VEVENT
BEGIN:VEVENT
DTSTART;TZID=America/Vancouver:20231019T120000
DTEND;TZID=America/Vancouver:20231019T130000
DTSTAMP:20231105T002909
CREATED:20230712T213834Z
LAST-MODIFIED:20230712T213838Z
UID:10001156-1697716800-1697720400@cob.org
SUMMARY:Bellingham Whatcom Public Facilities District Board Meeting
DESCRIPTION:Meetings of the Bellingham-Whatcom Public Facilities District are held twice a year on a Thursday at 12 p.m. at City Hall\, 210 Lottie Street\, Bellingham. Meetings generally last for an hour.
URL:https://cob.org/event/bellingham-whatcom-public-facilities-district-board-meeting-3
LOCATION:City Hall\, 210 Lottie St\, Bellingham\, Washington\, 98225\, United States
CATEGORIES:bellingham-whatcom-public-facilities-district,Boards and Commissions
GEO:48.7552397;-122.4789188
X-APPLE-STRUCTURED-LOCATION;VALUE=URI;X-ADDRESS=City Hall 210 Lottie St Bellingham Washington 98225 United States;X-APPLE-RADIUS=500;X-TITLE=210 Lottie St:geo:-122.4789188,48.7552397
END:VEVENT
BEGIN:VEVENT
DTSTART;TZID=America/Vancouver:20231019T160000
DTEND;TZID=America/Vancouver:20231019T173000
DTSTAMP:20231105T002909
CREATED:20230223T222423Z
LAST-MODIFIED:20230912T155739Z
UID:10001335-1697731200-1697736600@cob.org
SUMMARY:Sehome Hill Arboretum Board of Governors Meeting
DESCRIPTION:Every month on the Third Thu\, until November 16th. \n\n\n\n\nNovember 16\, 2023 at 4:00pm\n\n\n\n\nOn-site meeting location will be at the WWU Physical Plant in room PP-309. \n\n\n\nOr join from a PC\, Mac\, iPad\, iPhone or Android device: \n\n\n\nJoin Zoom Meetinghttps://wwu-edu.zoom.us/j/98381168519?pwd=R0U0eW83T29qWTN5WFUxdi91Tk9RUT09 \n\n\n\nMeeting ID: 983 8116 8519Passcode: 2023392 \n\n\n\nDial by your location• +1 253 215 8782 US (Tacoma)• +1 253 205 0468 US
URL:https://cob.org/event/sehome-hill-arboretum-board-of-governors-meeting-8
CATEGORIES:Boards and Commissions,Sehome Hill Arboretum,Sehome Hill Arboretum Board of Governors
ATTACH;FMTTYPE=image/jpeg:https://cob.org/wp-content/uploads/p001000.JPG
END:VEVENT
BEGIN:VEVENT
DTSTART;TZID=America/Vancouver:20231019T190000
DTEND;TZID=America/Vancouver:20231019T220000
DTSTAMP:20231105T002909
CREATED:20231005T174834Z
LAST-MODIFIED:20231005T174840Z
UID:10001159-1697742000-1697752800@cob.org
SUMMARY:*CANCELLED* Planning Commission Meeting
DESCRIPTION:Agenda: The following item(s) are anticipated to be considered at this meeting. The full agenda and meeting materials will be posted approximately two weeks in advance of the meeting. Written comments can be sent to planningcommission@cob.org. \n\n\n\n\n\n\n\n\n\nParticipation Options: Meetings can be attended either in-person at City Hall (210 Lottie Street)\, or virtually via Zoom Webinar (Meeting ID:    / Password:  ) \n\n\n\n\nThe meetings are streamed live via the City’s website at meetings.cob.org\, on the City’s YouTube channel (www.youtube.com/user/cityofbhamwa)\, or on Comcast channel 10 (HD – channel 321). The meeting can also be attended via phone by calling listen by phone at 1-253-215-8782\, 1-669-900-6833 or 1-929-205-6099 and using the meeting information above.\n\n\n\n\nRegistration via www.cob.org/pc is required to attend the meeting via Zoom or to provide public comment. \n\n\n\nIf you are interested in being informed of upcoming Planning Commission business\, please email haven@cob.org and request to be added to the PC Notification List.
URL:https://cob.org/event/planning-commission-meeting-20
CATEGORIES:Planning and Development Commission
ATTACH;FMTTYPE=image/jpeg:https://cob.org/wp-content/uploads/p901259-transportation-watershed-transportation-watershed.jpg
END:VEVENT
BEGIN:VEVENT
DTSTART;TZID=America/Vancouver:20231024T140000
DTEND;TZID=America/Vancouver:20231024T170000
DTSTAMP:20231105T002909
CREATED:20231019T180028Z
LAST-MODIFIED:20231019T180056Z
UID:10001207-1698156000-1698166800@cob.org
SUMMARY:Tourism Commission Meeting *CHECK AGENDA FOR SPECIAL TIME & LOCATION*
DESCRIPTION:The Bellingham Tourism Commission makes recommendations to the City for allocations to local organizations as part of the Tourism Promotion grant program. \n\n\n\nParticipation Options\n\n\n\nMeetings can be attended either in-person (see agenda for specific locations as it changes monthly) or virtually via Zoom Webinar (Meeting ID: 926 3348 0860  / Password: 9). \n\n\n\n\nThe meeting can also be attended via phone by calling listen by phone at 1-253-215-8782\, 1-669-900-6833 or 1-929-205-6099 and using the meeting information above.\n\n\n\n\nRegistration via www.cob.org/tourism is required to attend the meeting via Zoom or to provide public comment. \n\n\n\nMeeting Materials\n\n\n\nVisit meetings.cob.org to view meeting agendas and supporting materials\, which are posted approximately one week prior to the meeting date. If you are interested in meetings held prior to March\, 2023 – visit the Tourism Commission Meeting Materials webpage.
URL:https://cob.org/event/tourism-commission-meeting-check-agenda-for-special-time-location-2
CATEGORIES:Boards and Commissions,Tourism Commission
ATTACH;FMTTYPE=image/jpeg:https://cob.org/wp-content/uploads/p9010911-visiting-1.jpg
ORGANIZER;CN="Shannon Taysi":MAILTO:staysi@cob.org
END:VEVENT
BEGIN:VEVENT
DTSTART;TZID=America/Vancouver:20231024T160000
DTEND;TZID=America/Vancouver:20231024T190000
DTSTAMP:20231105T002909
CREATED:20230227T175908Z
LAST-MODIFIED:20231005T174726Z
UID:10001203-1698163200-1698174000@cob.org
SUMMARY:*CANCELLED* Historic Preservation Commission Meeting
DESCRIPTION:The Historic Preservation Commission (HPC) is responsible for identifying and actively encouraging the conservation of the City of Bellingham’s historic resources. \n\n\n\nParticipation Options\n\n\n\nMeetings can be attended either in-person at City Hall (210 Lottie Street)\, or virtually via Zoom Webinar (Meeting ID: 940 8891 9905  / Password: 9) via https://cob.zoom.us/j/94088919905. \n\n\n\n\nThe meeting can also be attended via phone by calling listen by phone at 1-253-215-8782\, 1-669-900-6833 or 1-929-205-6099 and using the meeting information above.\n\n\n\n\nNo registration required to attend this meeting.  \n\n\n\nMeeting Materials\n\n\n\nVisit the Historic Preservation Commission Meeting Materials webpage to view meeting agendas and supporting materials\, which are posted approximately one week prior to the meeting date. Also viewable\, are the minutes and audio from past meetings.
URL:https://cob.org/event/historic-preservation-commission-meeting-19
CATEGORIES:Historic Preservation Commission
END:VEVENT
END:VCALENDAR