BEGIN:VCALENDAR
VERSION:2.0
PRODID:-//City of Bellingham - ECPv6.2.5//NONSGML v1.0//EN
CALSCALE:GREGORIAN
METHOD:PUBLISH
X-WR-CALNAME:City of Bellingham
X-ORIGINAL-URL:https://cob.org
X-WR-CALDESC:Events for City of Bellingham
REFRESH-INTERVAL;VALUE=DURATION:PT1H
X-Robots-Tag:noindex
X-PUBLISHED-TTL:PT1H
BEGIN:VTIMEZONE
TZID:America/Vancouver
BEGIN:DAYLIGHT
TZOFFSETFROM:-0800
TZOFFSETTO:-0700
TZNAME:PDT
DTSTART:20230312T100000
END:DAYLIGHT
BEGIN:STANDARD
TZOFFSETFROM:-0700
TZOFFSETTO:-0800
TZNAME:PST
DTSTART:20231105T090000
END:STANDARD
END:VTIMEZONE
BEGIN:VEVENT
DTSTART;TZID=America/Vancouver:20231107T180000
DTEND;TZID=America/Vancouver:20231107T200000
DTSTAMP:20231103T215121
CREATED:20231103T154636Z
LAST-MODIFIED:20231103T154641Z
UID:10001208-1699380000-1699387200@cob.org
SUMMARY:Bellingham Arts Commission (BAC) Meeting
DESCRIPTION:The Bellingham Arts Commission serves as advisors and advocates for the enhancement and integration of the arts in the community. \n\n\n\nParticipation Options\n\n\n\nMeetings can be attended either in-person at City Hall (210 Lottie Street)\, or virtually via Zoom Webinar (Meeting ID: 915 1955 3016  / Password: 9). \n\n\n\n\nThe meeting can also be attended via phone by calling listen by phone at 1-253-215-8782\, 1-669-900-6833 or 1-929-205-6099 and using the meeting information above.\n\n\n\n\nRegistration via www.cob.org/bac is required to attend the meeting via Zoom or to provide public comment. \n\n\n\nMeeting Materials\n\n\n\nVisit meetings.cob.org to view meeting agendas and supporting materials\, which are posted approximately one week prior to the meeting date. If you are interested in meetings held prior to March\, 2023 – visit the Arts Commission Meeting Materials webpage.
URL:https://cob.org/event/bellingham-arts-commission-bac-meeting-11
LOCATION:Online Zoom Webinar\, Bellingham
CATEGORIES:Arts Commission,Boards and Commissions
ATTACH;FMTTYPE=image/jpeg:https://cob.org/wp-content/uploads/20180529_092727__1531846005617.jpg
ORGANIZER;CN="Shannon Taysi":MAILTO:staysi@cob.org
END:VEVENT
END:VCALENDAR