BEGIN:VCALENDAR
VERSION:2.0
PRODID:-//City of Bellingham - ECPv6.2.5//NONSGML v1.0//EN
CALSCALE:GREGORIAN
METHOD:PUBLISH
X-ORIGINAL-URL:https://cob.org
X-WR-CALDESC:Events for City of Bellingham
REFRESH-INTERVAL;VALUE=DURATION:PT1H
X-Robots-Tag:noindex
X-PUBLISHED-TTL:PT1H
BEGIN:VTIMEZONE
TZID:America/Vancouver
BEGIN:DAYLIGHT
TZOFFSETFROM:-0800
TZOFFSETTO:-0700
TZNAME:PDT
DTSTART:20220313T100000
END:DAYLIGHT
BEGIN:STANDARD
TZOFFSETFROM:-0700
TZOFFSETTO:-0800
TZNAME:PST
DTSTART:20221106T090000
END:STANDARD
END:VTIMEZONE
BEGIN:VEVENT
DTSTART;TZID=America/Vancouver:20221214T140000
DTEND;TZID=America/Vancouver:20221214T150000
DTSTAMP:20231105T012606
CREATED:20200610T221129Z
LAST-MODIFIED:20221202T163339Z
UID:10000740-1671026400-1671030000@cob.org
SUMMARY:Civil Service Commission Meeting
DESCRIPTION:Civil Service Commission meetings are held in Council Chambers at City Hall. Those unable to attend in person may register to attend remotely at the Webinar Registration Page.The Civil Service Commission provides for the classification of over 500 civil service employees and for open and competitive examinations at both entry and promotional levels. The Commission may also review the suspension\, removal\, or discharge of civil service employees and will investigate such actions\, hold public hearings\, and reinstate employees if justified. The Commission is staffed by the Human Resources Department of the City of Bellingham in its role as the administrator of the City’s Civil Service System.Meeting duration may vary.
URL:https://cob.org/event/civil-service-commission-meeting/2022-12-14
LOCATION:City Council Chambers\, 210 Lottie St\, Bellingham\, Washington\, 98225\, United States
CATEGORIES:Boards and Commissions,Civil Service Commission
ATTACH;FMTTYPE=image/jpeg:https://cob.org/wp-content/uploads/Civil-Service-meetings.jpg
GEO:48.7552397;-122.4789188
X-APPLE-STRUCTURED-LOCATION;VALUE=URI;X-ADDRESS=City Council Chambers 210 Lottie St Bellingham Washington 98225 United States;X-APPLE-RADIUS=500;X-TITLE=210 Lottie St:geo:-122.4789188,48.7552397
END:VEVENT
BEGIN:VEVENT
DTSTART;TZID=America/Vancouver:20221109T140000
DTEND;TZID=America/Vancouver:20221109T150000
DTSTAMP:20231105T012606
CREATED:20200610T221129Z
LAST-MODIFIED:20221202T163339Z
UID:10000739-1668002400-1668006000@cob.org
SUMMARY:Civil Service Commission Meeting
DESCRIPTION:Civil Service Commission meetings are held in Council Chambers at City Hall. Those unable to attend in person may register to attend remotely at the Webinar Registration Page.The Civil Service Commission provides for the classification of over 500 civil service employees and for open and competitive examinations at both entry and promotional levels. The Commission may also review the suspension\, removal\, or discharge of civil service employees and will investigate such actions\, hold public hearings\, and reinstate employees if justified. The Commission is staffed by the Human Resources Department of the City of Bellingham in its role as the administrator of the City’s Civil Service System.Meeting duration may vary.
URL:https://cob.org/event/civil-service-commission-meeting/2022-11-09
LOCATION:City Council Chambers\, 210 Lottie St\, Bellingham\, Washington\, 98225\, United States
CATEGORIES:Boards and Commissions,Civil Service Commission
ATTACH;FMTTYPE=image/jpeg:https://cob.org/wp-content/uploads/Civil-Service-meetings.jpg
GEO:48.7552397;-122.4789188
X-APPLE-STRUCTURED-LOCATION;VALUE=URI;X-ADDRESS=City Council Chambers 210 Lottie St Bellingham Washington 98225 United States;X-APPLE-RADIUS=500;X-TITLE=210 Lottie St:geo:-122.4789188,48.7552397
END:VEVENT
BEGIN:VEVENT
DTSTART;TZID=America/Vancouver:20221012T140000
DTEND;TZID=America/Vancouver:20221012T150000
DTSTAMP:20231105T012606
CREATED:20200610T221129Z
LAST-MODIFIED:20221202T163339Z
UID:10000738-1665583200-1665586800@cob.org
SUMMARY:Civil Service Commission Meeting
DESCRIPTION:Civil Service Commission meetings are held in Council Chambers at City Hall. Those unable to attend in person may register to attend remotely at the Webinar Registration Page.The Civil Service Commission provides for the classification of over 500 civil service employees and for open and competitive examinations at both entry and promotional levels. The Commission may also review the suspension\, removal\, or discharge of civil service employees and will investigate such actions\, hold public hearings\, and reinstate employees if justified. The Commission is staffed by the Human Resources Department of the City of Bellingham in its role as the administrator of the City’s Civil Service System.Meeting duration may vary.
URL:https://cob.org/event/civil-service-commission-meeting/2022-10-12
LOCATION:City Council Chambers\, 210 Lottie St\, Bellingham\, Washington\, 98225\, United States
CATEGORIES:Boards and Commissions,Civil Service Commission
ATTACH;FMTTYPE=image/jpeg:https://cob.org/wp-content/uploads/Civil-Service-meetings.jpg
GEO:48.7552397;-122.4789188
X-APPLE-STRUCTURED-LOCATION;VALUE=URI;X-ADDRESS=City Council Chambers 210 Lottie St Bellingham Washington 98225 United States;X-APPLE-RADIUS=500;X-TITLE=210 Lottie St:geo:-122.4789188,48.7552397
END:VEVENT
BEGIN:VEVENT
DTSTART;TZID=America/Vancouver:20220914T140000
DTEND;TZID=America/Vancouver:20220914T150000
DTSTAMP:20231105T012606
CREATED:20200610T221129Z
LAST-MODIFIED:20221202T163339Z
UID:10000737-1663164000-1663167600@cob.org
SUMMARY:Civil Service Commission Meeting
DESCRIPTION:Civil Service Commission meetings are held in Council Chambers at City Hall. Those unable to attend in person may register to attend remotely at the Webinar Registration Page.The Civil Service Commission provides for the classification of over 500 civil service employees and for open and competitive examinations at both entry and promotional levels. The Commission may also review the suspension\, removal\, or discharge of civil service employees and will investigate such actions\, hold public hearings\, and reinstate employees if justified. The Commission is staffed by the Human Resources Department of the City of Bellingham in its role as the administrator of the City’s Civil Service System.Meeting duration may vary.
URL:https://cob.org/event/civil-service-commission-meeting/2022-09-14
LOCATION:City Council Chambers\, 210 Lottie St\, Bellingham\, Washington\, 98225\, United States
CATEGORIES:Boards and Commissions,Civil Service Commission
ATTACH;FMTTYPE=image/jpeg:https://cob.org/wp-content/uploads/Civil-Service-meetings.jpg
GEO:48.7552397;-122.4789188
X-APPLE-STRUCTURED-LOCATION;VALUE=URI;X-ADDRESS=City Council Chambers 210 Lottie St Bellingham Washington 98225 United States;X-APPLE-RADIUS=500;X-TITLE=210 Lottie St:geo:-122.4789188,48.7552397
END:VEVENT
END:VCALENDAR