BEGIN:VCALENDAR
VERSION:2.0
PRODID:-//City of Bellingham - ECPv6.15.18//NONSGML v1.0//EN
CALSCALE:GREGORIAN
METHOD:PUBLISH
X-ORIGINAL-URL:https://cob.org
X-WR-CALDESC:Events for City of Bellingham
REFRESH-INTERVAL;VALUE=DURATION:PT1H
X-Robots-Tag:noindex
X-PUBLISHED-TTL:PT1H
BEGIN:VTIMEZONE
TZID:America/Vancouver
BEGIN:DAYLIGHT
TZOFFSETFROM:-0800
TZOFFSETTO:-0700
TZNAME:PDT
DTSTART:20250309T100000
END:DAYLIGHT
BEGIN:STANDARD
TZOFFSETFROM:-0700
TZOFFSETTO:-0800
TZNAME:PST
DTSTART:20251102T090000
END:STANDARD
BEGIN:DAYLIGHT
TZOFFSETFROM:-0800
TZOFFSETTO:-0700
TZNAME:PDT
DTSTART:20260308T100000
END:DAYLIGHT
BEGIN:STANDARD
TZOFFSETFROM:-0700
TZOFFSETTO:-0800
TZNAME:PST
DTSTART:20261101T090000
END:STANDARD
BEGIN:DAYLIGHT
TZOFFSETFROM:-0800
TZOFFSETTO:-0700
TZNAME:PDT
DTSTART:20270314T100000
END:DAYLIGHT
BEGIN:STANDARD
TZOFFSETFROM:-0700
TZOFFSETTO:-0800
TZNAME:PST
DTSTART:20271107T090000
END:STANDARD
END:VTIMEZONE
BEGIN:VEVENT
DTSTART;TZID=America/Vancouver:20260421T150000
DTEND;TZID=America/Vancouver:20260421T170000
DTSTAMP:20260421T052721
CREATED:20260415T154731Z
LAST-MODIFIED:20260415T154736Z
UID:10003724-1776783600-1776790800@cob.org
SUMMARY:*CANCELLED* Design Review Board (DRB) Meeting
DESCRIPTION:The Design Review Board (DRB) advises the Planning and Community Development Director and Staff on proposed development projects. \n\n\n\nParticipation Options \n\n\n\nMeetings can be attended either in-person at City Hall (210 Lottie Street)\, or virtually via Zoom Webinar (Meeting ID: 933 8224 5585 / Password: 9). \n\n\n\n\nThe meeting can also be attended via phone by calling listen by phone at 1-253-215-8782\, 1-669-900-6833 or 1-929-205-6099 and using the meeting information above.\n\n\n\n\nMeeting Materials\n\n\n\nVisit meetings.cob.org to view meeting agendas and supporting materials\, which are posted approximately one week prior to the meeting date. If you are interested in meetings held prior to March\, 2023 – visit the Design Review Meeting Materials webpage.
URL:https://cob.org/event/design-review-board-drb-meeting-29
CATEGORIES:Design Review Board
ATTACH;FMTTYPE=image/jpeg:https://cob.org/wp-content/uploads/design-review-board.JPG
END:VEVENT
END:VCALENDAR