BEGIN:VCALENDAR
VERSION:2.0
PRODID:-//City of Bellingham - ECPv6.15.20//NONSGML v1.0//EN
CALSCALE:GREGORIAN
METHOD:PUBLISH
X-ORIGINAL-URL:https://cob.org
X-WR-CALDESC:Events for City of Bellingham
REFRESH-INTERVAL;VALUE=DURATION:PT1H
X-Robots-Tag:noindex
X-PUBLISHED-TTL:PT1H
BEGIN:VTIMEZONE
TZID:America/Vancouver
BEGIN:DAYLIGHT
TZOFFSETFROM:-0800
TZOFFSETTO:-0700
TZNAME:PDT
DTSTART:20250309T100000
END:DAYLIGHT
BEGIN:STANDARD
TZOFFSETFROM:-0700
TZOFFSETTO:-0800
TZNAME:PST
DTSTART:20251102T090000
END:STANDARD
BEGIN:DAYLIGHT
TZOFFSETFROM:-0800
TZOFFSETTO:-0700
TZNAME:PDT
DTSTART:20260308T100000
END:DAYLIGHT
BEGIN:STANDARD
TZOFFSETFROM:-0700
TZOFFSETTO:-0800
TZNAME:PST
DTSTART:20261101T090000
END:STANDARD
BEGIN:DAYLIGHT
TZOFFSETFROM:-0800
TZOFFSETTO:-0700
TZNAME:PDT
DTSTART:20270314T100000
END:DAYLIGHT
BEGIN:STANDARD
TZOFFSETFROM:-0700
TZOFFSETTO:-0800
TZNAME:PST
DTSTART:20271107T090000
END:STANDARD
END:VTIMEZONE
BEGIN:VEVENT
DTSTART;TZID=America/Vancouver:20260428T180000
DTEND;TZID=America/Vancouver:20260428T210000
DTSTAMP:20260424T165857
CREATED:20251229T193748Z
LAST-MODIFIED:20251229T193754Z
UID:10003399-1777399200-1777410000@cob.org
SUMMARY:Historic Preservation Commission Meeting
DESCRIPTION:The Historic Preservation Commission (HPC) is responsible for identifying and actively encouraging the conservation of the City of Bellingham’s historic resources. \n\n\n\nParticipation Options\n\n\n\nMeetings can be attended either in-person at City Hall (210 Lottie Street)\, or virtually via Zoom Webinar (Meeting ID: 896 4533 4198  / Password: 9) via https://cob.zoom.us/j/89645334198 \n\n\n\n\nThe meeting can also be attended via phone by calling listen by phone at 1-253-215-8782\, 1-669-900-6833 or 1-929-205-6099 and using the meeting information above.\n\n\n\n\nRegistration is not required to attend this meeting. \n\n\n\nMeeting Materials.\n\n\n\nVisit meetings.cob.org to view meeting agendas and supporting materials\, which are posted approximately one week before the meeting date. If you are interested in meetings held prior to December 2023 – visit the Historic Preservation Commission Meeting Materials webpage.
URL:https://cob.org/event/historic-preservation-commission-meeting-49/2026-04-28
CATEGORIES:Historic Preservation Commission
ORGANIZER;CN="Emy Scherrer":MAILTO:erscherrer@cob.org
END:VEVENT
END:VCALENDAR