BEGIN:VCALENDAR
VERSION:2.0
PRODID:-//City of Bellingham - ECPv6.2.5//NONSGML v1.0//EN
CALSCALE:GREGORIAN
METHOD:PUBLISH
X-ORIGINAL-URL:https://cob.org
X-WR-CALDESC:Events for City of Bellingham
REFRESH-INTERVAL;VALUE=DURATION:PT1H
X-Robots-Tag:noindex
X-PUBLISHED-TTL:PT1H
BEGIN:VTIMEZONE
TZID:America/Vancouver
BEGIN:DAYLIGHT
TZOFFSETFROM:-0800
TZOFFSETTO:-0700
TZNAME:PDT
DTSTART:20220313T100000
END:DAYLIGHT
BEGIN:STANDARD
TZOFFSETFROM:-0700
TZOFFSETTO:-0800
TZNAME:PST
DTSTART:20221106T090000
END:STANDARD
BEGIN:DAYLIGHT
TZOFFSETFROM:-0800
TZOFFSETTO:-0700
TZNAME:PDT
DTSTART:20230312T100000
END:DAYLIGHT
BEGIN:STANDARD
TZOFFSETFROM:-0700
TZOFFSETTO:-0800
TZNAME:PST
DTSTART:20231105T090000
END:STANDARD
END:VTIMEZONE
BEGIN:VEVENT
DTSTART;TZID=America/Vancouver:20231017T183000
DTEND;TZID=America/Vancouver:20231017T203000
DTSTAMP:20231105T052511
CREATED:20230710T191449Z
LAST-MODIFIED:20230710T195514Z
UID:10001256-1697567400-1697574600@cob.org
SUMMARY:Immigration Advisory Board Meeting
DESCRIPTION:The purpose of the board is to review and evaluate existing policies and make specific recommendations to the Mayor and City Council regarding City policy related to immigration matters. This evaluation will include analysis of City data to determine compliance with Washington State law. The board will make recommendations for further data to be compiled in order to facilitate its recommendations. In addition\, the board shall support community involvement in and discussion of regional issues and decisions about our City’s future as it relates to immigration. \n\n\n\nMore information about the board including meeting materials and agendas can be found here:https://cob.org/gov/public/bc/Immigration-Advisory-Board \n\n\n\n\n\n\n\n\n\nMeetings are in-person and online through Zoom.  \n\n\n\nIn-person: City of Bellingham Public Works Operations Center 2221 Pacific St\, Bellingham\, WA. Use the entrance on Carolina Street. \n\n\n\nZoom: Click below after start time. Meeting ID: 869 3703 3955; Password 9 (Phone only: 253-215-8782)
URL:https://cob.org/event/immigration-advisory-board-meeting-3/2023-10-17
CATEGORIES:Boards and Commissions,Immigration Advisory Board​
ATTACH;FMTTYPE=image/jpeg:https://cob.org/wp-content/uploads/P400189.jpg
END:VEVENT
BEGIN:VEVENT
DTSTART;TZID=America/Vancouver:20230919T183000
DTEND;TZID=America/Vancouver:20230919T203000
DTSTAMP:20231105T052511
CREATED:20230710T191449Z
LAST-MODIFIED:20230710T195514Z
UID:10001255-1695148200-1695155400@cob.org
SUMMARY:Immigration Advisory Board Meeting
DESCRIPTION:The purpose of the board is to review and evaluate existing policies and make specific recommendations to the Mayor and City Council regarding City policy related to immigration matters. This evaluation will include analysis of City data to determine compliance with Washington State law. The board will make recommendations for further data to be compiled in order to facilitate its recommendations. In addition\, the board shall support community involvement in and discussion of regional issues and decisions about our City’s future as it relates to immigration. \n\n\n\nMore information about the board including meeting materials and agendas can be found here:https://cob.org/gov/public/bc/Immigration-Advisory-Board \n\n\n\n\n\n\n\n\n\nMeetings are in-person and online through Zoom.  \n\n\n\nIn-person: City of Bellingham Public Works Operations Center 2221 Pacific St\, Bellingham\, WA. Use the entrance on Carolina Street. \n\n\n\nZoom: Click below after start time. Meeting ID: 869 3703 3955; Password 9 (Phone only: 253-215-8782)
URL:https://cob.org/event/immigration-advisory-board-meeting-3/2023-09-19
CATEGORIES:Boards and Commissions,Immigration Advisory Board​
ATTACH;FMTTYPE=image/jpeg:https://cob.org/wp-content/uploads/P400189.jpg
END:VEVENT
BEGIN:VEVENT
DTSTART;TZID=America/Vancouver:20230815T183000
DTEND;TZID=America/Vancouver:20230815T203000
DTSTAMP:20231105T052511
CREATED:20230710T191449Z
LAST-MODIFIED:20230710T195514Z
UID:10001254-1692124200-1692131400@cob.org
SUMMARY:Immigration Advisory Board Meeting
DESCRIPTION:The purpose of the board is to review and evaluate existing policies and make specific recommendations to the Mayor and City Council regarding City policy related to immigration matters. This evaluation will include analysis of City data to determine compliance with Washington State law. The board will make recommendations for further data to be compiled in order to facilitate its recommendations. In addition\, the board shall support community involvement in and discussion of regional issues and decisions about our City’s future as it relates to immigration. \n\n\n\nMore information about the board including meeting materials and agendas can be found here:https://cob.org/gov/public/bc/Immigration-Advisory-Board \n\n\n\n\n\n\n\n\n\nMeetings are in-person and online through Zoom.  \n\n\n\nIn-person: City of Bellingham Public Works Operations Center 2221 Pacific St\, Bellingham\, WA. Use the entrance on Carolina Street. \n\n\n\nZoom: Click below after start time. Meeting ID: 869 3703 3955; Password 9 (Phone only: 253-215-8782)
URL:https://cob.org/event/immigration-advisory-board-meeting-3/2023-08-15
CATEGORIES:Boards and Commissions,Immigration Advisory Board​
ATTACH;FMTTYPE=image/jpeg:https://cob.org/wp-content/uploads/P400189.jpg
END:VEVENT
BEGIN:VEVENT
DTSTART;TZID=America/Vancouver:20230718T183000
DTEND;TZID=America/Vancouver:20230718T203000
DTSTAMP:20231105T052511
CREATED:20230710T191449Z
LAST-MODIFIED:20230710T195514Z
UID:10001253-1689705000-1689712200@cob.org
SUMMARY:Immigration Advisory Board Meeting
DESCRIPTION:The purpose of the board is to review and evaluate existing policies and make specific recommendations to the Mayor and City Council regarding City policy related to immigration matters. This evaluation will include analysis of City data to determine compliance with Washington State law. The board will make recommendations for further data to be compiled in order to facilitate its recommendations. In addition\, the board shall support community involvement in and discussion of regional issues and decisions about our City’s future as it relates to immigration. \n\n\n\nMore information about the board including meeting materials and agendas can be found here:https://cob.org/gov/public/bc/Immigration-Advisory-Board \n\n\n\n\n\n\n\n\n\nMeetings are in-person and online through Zoom.  \n\n\n\nIn-person: City of Bellingham Public Works Operations Center 2221 Pacific St\, Bellingham\, WA. Use the entrance on Carolina Street. \n\n\n\nZoom: Click below after start time. Meeting ID: 869 3703 3955; Password 9 (Phone only: 253-215-8782)
URL:https://cob.org/event/immigration-advisory-board-meeting-3/2023-07-18
CATEGORIES:Boards and Commissions,Immigration Advisory Board​
ATTACH;FMTTYPE=image/jpeg:https://cob.org/wp-content/uploads/P400189.jpg
END:VEVENT
BEGIN:VEVENT
DTSTART;TZID=America/Vancouver:20230620T183000
DTEND;TZID=America/Vancouver:20230620T203000
DTSTAMP:20231105T052511
CREATED:20221217T003105Z
LAST-MODIFIED:20230710T183951Z
UID:10001252-1687285800-1687293000@cob.org
SUMMARY:Immigration Advisory Board Meeting
DESCRIPTION:The purpose of the board is to review and evaluate existing policies and make specific recommendations to the Mayor and City Council regarding City policy related to immigration matters. This evaluation will include analysis of City data to determine compliance with Washington State law. The board will make recommendations for further data to be compiled in order to facilitate its recommendations. In addition\, the board shall support community involvement in and discussion of regional issues and decisions about our City’s future as it relates to immigration. \n\n\n\nMore information about the board including meeting materials and agendas can be found here:https://cob.org/gov/public/bc/Immigration-Advisory-Board \n\n\n\n\n\n\n\n\n\nMeetings are in-person and online through Zoom.  \n\n\n\nIn-person: Information Technology Offices\, Fireplace Room\, 625 Halleck Street\, Bellingham \n\n\n\nZoom: Click below after start time. Meeting ID: 869 3703 3955; Password 9 (Phone only: 253-215-8782)
URL:https://cob.org/event/immigration-advisory-board-meeting-2/2023-06-20
CATEGORIES:Boards and Commissions,Immigration Advisory Board​
ATTACH;FMTTYPE=image/jpeg:https://cob.org/wp-content/uploads/P400189.jpg
END:VEVENT
BEGIN:VEVENT
DTSTART;TZID=America/Vancouver:20230516T183000
DTEND;TZID=America/Vancouver:20230516T203000
DTSTAMP:20231105T052511
CREATED:20221217T003105Z
LAST-MODIFIED:20230710T183951Z
UID:10001251-1684261800-1684269000@cob.org
SUMMARY:Immigration Advisory Board Meeting
DESCRIPTION:The purpose of the board is to review and evaluate existing policies and make specific recommendations to the Mayor and City Council regarding City policy related to immigration matters. This evaluation will include analysis of City data to determine compliance with Washington State law. The board will make recommendations for further data to be compiled in order to facilitate its recommendations. In addition\, the board shall support community involvement in and discussion of regional issues and decisions about our City’s future as it relates to immigration. \n\n\n\nMore information about the board including meeting materials and agendas can be found here:https://cob.org/gov/public/bc/Immigration-Advisory-Board \n\n\n\n\n\n\n\n\n\nMeetings are in-person and online through Zoom.  \n\n\n\nIn-person: Information Technology Offices\, Fireplace Room\, 625 Halleck Street\, Bellingham \n\n\n\nZoom: Click below after start time. Meeting ID: 869 3703 3955; Password 9 (Phone only: 253-215-8782)
URL:https://cob.org/event/immigration-advisory-board-meeting-2/2023-05-16
CATEGORIES:Boards and Commissions,Immigration Advisory Board​
ATTACH;FMTTYPE=image/jpeg:https://cob.org/wp-content/uploads/P400189.jpg
END:VEVENT
BEGIN:VEVENT
DTSTART;TZID=America/Vancouver:20230512T130000
DTEND;TZID=America/Vancouver:20230512T190000
DTSTAMP:20231105T052511
CREATED:20230512T172041Z
LAST-MODIFIED:20230512T172044Z
UID:10001412-1683896400-1683918000@cob.org
SUMMARY:Immigration Advisory Board Special Meeting
DESCRIPTION:The Immigration Advisory Board will hold a special planning retreat on May 12\, 2023.  \n\n\n\nThe purpose of the board is to review and evaluate existing policies and make specific recommendations to the Mayor and City Council regarding City policy related to immigration matters. This evaluation will include analysis of City data to determine compliance with Washington State law. The board will make recommendations for further data to be compiled in order to facilitate its recommendations. In addition\, the board shall support community involvement in and discussion of regional issues and decisions about our City’s future as it relates to immigration. \n\n\n\nMore information about the board including meeting materials and agendas can be found here:https://cob.org/gov/public/bc/Immigration-Advisory-Board \n\n\n\n\n\n\n\n\n\nMeetings are in-person and online through Zoom.  \n\n\n\nIn-person: City of Bellingham Pacific Street Operations Center. Address: 2221 Pacific Street. Ground Floor Conference rooms in the new building with entrance on Carolina Street. \n\n\n\nZoom: Click below after start time. Meeting ID: 860 4374 9275; Password 9 (Phone only: 253-215-8782)
URL:https://cob.org/event/immigration-advisory-board-special-meeting
CATEGORIES:Boards and Commissions,Immigration Advisory Board​
ATTACH;FMTTYPE=image/jpeg:https://cob.org/wp-content/uploads/P400189.jpg
END:VEVENT
BEGIN:VEVENT
DTSTART;TZID=America/Vancouver:20230418T183000
DTEND;TZID=America/Vancouver:20230418T203000
DTSTAMP:20231105T052511
CREATED:20221217T003105Z
LAST-MODIFIED:20230710T183951Z
UID:10001250-1681842600-1681849800@cob.org
SUMMARY:Immigration Advisory Board Meeting
DESCRIPTION:The purpose of the board is to review and evaluate existing policies and make specific recommendations to the Mayor and City Council regarding City policy related to immigration matters. This evaluation will include analysis of City data to determine compliance with Washington State law. The board will make recommendations for further data to be compiled in order to facilitate its recommendations. In addition\, the board shall support community involvement in and discussion of regional issues and decisions about our City’s future as it relates to immigration. \n\n\n\nMore information about the board including meeting materials and agendas can be found here:https://cob.org/gov/public/bc/Immigration-Advisory-Board \n\n\n\n\n\n\n\n\n\nMeetings are in-person and online through Zoom.  \n\n\n\nIn-person: Information Technology Offices\, Fireplace Room\, 625 Halleck Street\, Bellingham \n\n\n\nZoom: Click below after start time. Meeting ID: 869 3703 3955; Password 9 (Phone only: 253-215-8782)
URL:https://cob.org/event/immigration-advisory-board-meeting-2/2023-04-18
CATEGORIES:Boards and Commissions,Immigration Advisory Board​
ATTACH;FMTTYPE=image/jpeg:https://cob.org/wp-content/uploads/P400189.jpg
END:VEVENT
BEGIN:VEVENT
DTSTART;TZID=America/Vancouver:20230321T183000
DTEND;TZID=America/Vancouver:20230321T203000
DTSTAMP:20231105T052511
CREATED:20221217T003105Z
LAST-MODIFIED:20230710T183951Z
UID:10001249-1679423400-1679430600@cob.org
SUMMARY:Immigration Advisory Board Meeting
DESCRIPTION:The purpose of the board is to review and evaluate existing policies and make specific recommendations to the Mayor and City Council regarding City policy related to immigration matters. This evaluation will include analysis of City data to determine compliance with Washington State law. The board will make recommendations for further data to be compiled in order to facilitate its recommendations. In addition\, the board shall support community involvement in and discussion of regional issues and decisions about our City’s future as it relates to immigration. \n\n\n\nMore information about the board including meeting materials and agendas can be found here:https://cob.org/gov/public/bc/Immigration-Advisory-Board \n\n\n\n\n\n\n\n\n\nMeetings are in-person and online through Zoom.  \n\n\n\nIn-person: Information Technology Offices\, Fireplace Room\, 625 Halleck Street\, Bellingham \n\n\n\nZoom: Click below after start time. Meeting ID: 869 3703 3955; Password 9 (Phone only: 253-215-8782)
URL:https://cob.org/event/immigration-advisory-board-meeting-2/2023-03-21
CATEGORIES:Boards and Commissions,Immigration Advisory Board​
ATTACH;FMTTYPE=image/jpeg:https://cob.org/wp-content/uploads/P400189.jpg
END:VEVENT
BEGIN:VEVENT
DTSTART;TZID=America/Vancouver:20230221T183000
DTEND;TZID=America/Vancouver:20230221T203000
DTSTAMP:20231105T052511
CREATED:20221217T003105Z
LAST-MODIFIED:20230710T183951Z
UID:10001248-1677004200-1677011400@cob.org
SUMMARY:Immigration Advisory Board Meeting
DESCRIPTION:The purpose of the board is to review and evaluate existing policies and make specific recommendations to the Mayor and City Council regarding City policy related to immigration matters. This evaluation will include analysis of City data to determine compliance with Washington State law. The board will make recommendations for further data to be compiled in order to facilitate its recommendations. In addition\, the board shall support community involvement in and discussion of regional issues and decisions about our City’s future as it relates to immigration. \n\n\n\nMore information about the board including meeting materials and agendas can be found here:https://cob.org/gov/public/bc/Immigration-Advisory-Board \n\n\n\n\n\n\n\n\n\nMeetings are in-person and online through Zoom.  \n\n\n\nIn-person: Information Technology Offices\, Fireplace Room\, 625 Halleck Street\, Bellingham \n\n\n\nZoom: Click below after start time. Meeting ID: 869 3703 3955; Password 9 (Phone only: 253-215-8782)
URL:https://cob.org/event/immigration-advisory-board-meeting-2/2023-02-21
CATEGORIES:Boards and Commissions,Immigration Advisory Board​
ATTACH;FMTTYPE=image/jpeg:https://cob.org/wp-content/uploads/P400189.jpg
END:VEVENT
BEGIN:VEVENT
DTSTART;TZID=America/Vancouver:20230117T183000
DTEND;TZID=America/Vancouver:20230117T203000
DTSTAMP:20231105T052511
CREATED:20221217T003105Z
LAST-MODIFIED:20230710T183951Z
UID:10001224-1673980200-1673987400@cob.org
SUMMARY:Immigration Advisory Board Meeting
DESCRIPTION:The purpose of the board is to review and evaluate existing policies and make specific recommendations to the Mayor and City Council regarding City policy related to immigration matters. This evaluation will include analysis of City data to determine compliance with Washington State law. The board will make recommendations for further data to be compiled in order to facilitate its recommendations. In addition\, the board shall support community involvement in and discussion of regional issues and decisions about our City’s future as it relates to immigration. \n\n\n\nMore information about the board including meeting materials and agendas can be found here:https://cob.org/gov/public/bc/Immigration-Advisory-Board \n\n\n\n\n\n\n\n\n\nMeetings are in-person and online through Zoom.  \n\n\n\nIn-person: Information Technology Offices\, Fireplace Room\, 625 Halleck Street\, Bellingham \n\n\n\nZoom: Click below after start time. Meeting ID: 869 3703 3955; Password 9 (Phone only: 253-215-8782)
URL:https://cob.org/event/immigration-advisory-board-meeting-2/2023-01-17
CATEGORIES:Boards and Commissions,Immigration Advisory Board​
ATTACH;FMTTYPE=image/jpeg:https://cob.org/wp-content/uploads/P400189.jpg
END:VEVENT
BEGIN:VEVENT
DTSTART;TZID=America/Vancouver:20221213T183000
DTEND;TZID=America/Vancouver:20221213T203000
DTSTAMP:20231105T052511
CREATED:20221129T184856Z
LAST-MODIFIED:20221214T173845Z
UID:10000792-1670956200-1670963400@cob.org
SUMMARY:Immigration Advisory Board Meeting
DESCRIPTION:The purpose of the board is to review and evaluate existing policies and make specific recommendations to the Mayor and City Council regarding City policy related to immigration matters. This evaluation will include analysis of City data to determine compliance with Washington State law. The board will make recommendations for further data to be compiled in order to facilitate its recommendations. In addition\, the board shall support community involvement in and discussion of regional issues and decisions about our City’s future as it relates to immigration. \n\n\n\nMore information about the board including meeting materials and agendas can be found here:https://cob.org/gov/public/bc/Immigration-Advisory-Board \n\n\n\n\n\n\n\n\n\nMeetings are in-person and online through Zoom.  \n\n\n\nIn-person: Information Technology Offices\, Fireplace Room\, 625 Halleck Street\, Bellingham \n\n\n\nZoom: Click below after start time. Meeting ID: 933 6340 1118; Password 422 (Phone only: 253-215-8782)
URL:https://cob.org/event/immigration-advisory-board-meeting
CATEGORIES:Boards and Commissions,Immigration Advisory Board​
ATTACH;FMTTYPE=image/jpeg:https://cob.org/wp-content/uploads/P400189.jpg
END:VEVENT
BEGIN:VEVENT
DTSTART;TZID=America/Vancouver:20221115T183000
DTEND;TZID=America/Vancouver:20221115T203000
DTSTAMP:20231105T052511
CREATED:20200808T211303Z
LAST-MODIFIED:20220908T074805Z
UID:10000791-1668537000-1668544200@cob.org
SUMMARY:Immigration Advisory Board Meeting
DESCRIPTION:The purpose of the board is to review and evaluate existing policies and make specific recommendations to the Mayor and City Council regarding City policy related to immigration matters. This evaluation will include analysis of City data to determine compliance with Washington State law. The board will make recommendations for further data to be compiled in order to facilitate its recommendations. In addition\, the board shall support community involvement in and discussion of regional issues and decisions about our City’s future as it relates to immigration. \n\n\n\nMore information about the board including meeting materials and agendas can be found here:https://cob.org/gov/public/bc/Immigration-Advisory-Board \n\n\n\n\n\n\n\n\n\nAll meetings are currently online only through Zoom. Click below after start time. Meeting ID: 933 6340 1118; Password 422 (Phone only: 253-215-8782)
URL:https://cob.org/event/immigration-advisory-board-meeting-2020-09-15/2022-11-15
CATEGORIES:Boards and Commissions,Immigration Advisory Board​
ATTACH;FMTTYPE=image/jpeg:https://cob.org/wp-content/uploads/P400189.jpg
END:VEVENT
BEGIN:VEVENT
DTSTART;TZID=America/Vancouver:20221018T183000
DTEND;TZID=America/Vancouver:20221018T203000
DTSTAMP:20231105T052511
CREATED:20200808T211303Z
LAST-MODIFIED:20220908T074805Z
UID:10000790-1666117800-1666125000@cob.org
SUMMARY:Immigration Advisory Board Meeting
DESCRIPTION:The purpose of the board is to review and evaluate existing policies and make specific recommendations to the Mayor and City Council regarding City policy related to immigration matters. This evaluation will include analysis of City data to determine compliance with Washington State law. The board will make recommendations for further data to be compiled in order to facilitate its recommendations. In addition\, the board shall support community involvement in and discussion of regional issues and decisions about our City’s future as it relates to immigration. \n\n\n\nMore information about the board including meeting materials and agendas can be found here:https://cob.org/gov/public/bc/Immigration-Advisory-Board \n\n\n\n\n\n\n\n\n\nAll meetings are currently online only through Zoom. Click below after start time. Meeting ID: 933 6340 1118; Password 422 (Phone only: 253-215-8782)
URL:https://cob.org/event/immigration-advisory-board-meeting-2020-09-15/2022-10-18
CATEGORIES:Boards and Commissions,Immigration Advisory Board​
ATTACH;FMTTYPE=image/jpeg:https://cob.org/wp-content/uploads/P400189.jpg
END:VEVENT
BEGIN:VEVENT
DTSTART;TZID=America/Vancouver:20220920T183000
DTEND;TZID=America/Vancouver:20220920T203000
DTSTAMP:20231105T052511
CREATED:20200808T211303Z
LAST-MODIFIED:20220908T074805Z
UID:10000789-1663698600-1663705800@cob.org
SUMMARY:Immigration Advisory Board Meeting
DESCRIPTION:The purpose of the board is to review and evaluate existing policies and make specific recommendations to the Mayor and City Council regarding City policy related to immigration matters. This evaluation will include analysis of City data to determine compliance with Washington State law. The board will make recommendations for further data to be compiled in order to facilitate its recommendations. In addition\, the board shall support community involvement in and discussion of regional issues and decisions about our City’s future as it relates to immigration. \n\n\n\nMore information about the board including meeting materials and agendas can be found here:https://cob.org/gov/public/bc/Immigration-Advisory-Board \n\n\n\n\n\n\n\n\n\nAll meetings are currently online only through Zoom. Click below after start time. Meeting ID: 933 6340 1118; Password 422 (Phone only: 253-215-8782)
URL:https://cob.org/event/immigration-advisory-board-meeting-2020-09-15/2022-09-20
CATEGORIES:Boards and Commissions,Immigration Advisory Board​
ATTACH;FMTTYPE=image/jpeg:https://cob.org/wp-content/uploads/P400189.jpg
END:VEVENT
END:VCALENDAR