BEGIN:VCALENDAR
VERSION:2.0
PRODID:-//City of Bellingham - ECPv6.2.5//NONSGML v1.0//EN
CALSCALE:GREGORIAN
METHOD:PUBLISH
X-ORIGINAL-URL:https://cob.org
X-WR-CALDESC:Events for City of Bellingham
REFRESH-INTERVAL;VALUE=DURATION:PT1H
X-Robots-Tag:noindex
X-PUBLISHED-TTL:PT1H
BEGIN:VTIMEZONE
TZID:America/Vancouver
BEGIN:DAYLIGHT
TZOFFSETFROM:-0800
TZOFFSETTO:-0700
TZNAME:PDT
DTSTART:20220313T100000
END:DAYLIGHT
BEGIN:STANDARD
TZOFFSETFROM:-0700
TZOFFSETTO:-0800
TZNAME:PST
DTSTART:20221106T090000
END:STANDARD
BEGIN:DAYLIGHT
TZOFFSETFROM:-0800
TZOFFSETTO:-0700
TZNAME:PDT
DTSTART:20230312T100000
END:DAYLIGHT
BEGIN:STANDARD
TZOFFSETFROM:-0700
TZOFFSETTO:-0800
TZNAME:PST
DTSTART:20231105T090000
END:STANDARD
END:VTIMEZONE
BEGIN:VEVENT
DTSTART;TZID=America/Vancouver:20230427T183000
DTEND;TZID=America/Vancouver:20230427T203000
DTSTAMP:20231105T014534
CREATED:20230403T203935Z
LAST-MODIFIED:20230403T203939Z
UID:10001353-1682620200-1682627400@cob.org
SUMMARY:Lake Whatcom Watershed Advisory Board
DESCRIPTION:The Watershed Advisory Board (WAB) provides community advice to the City regarding the protection\, clean-up\, and restoration of the Lake Whatcom reservoir and watershed. The WAB further advises on the acquisition and management of properties in the City’s watershed land acquisition program. \n\n\n\nThe public is welcome to attend either in-person or via the Zoom hybrid option by clicking on this link at the time of the meeting.
URL:https://cob.org/event/lake-whatcom-watershed-advisory-board-6
LOCATION:City of Bellingham Operations Center\, 2221 Pacific St\, Bellingham\, Washington\, 98229
CATEGORIES:Lake Whatcom Watershed Advisory Board
ATTACH;FMTTYPE=image/jpeg:https://cob.org/wp-content/uploads/p908312.jpg
GEO:48.7597197;-122.4565534
X-APPLE-STRUCTURED-LOCATION;VALUE=URI;X-ADDRESS=City of Bellingham Operations Center 2221 Pacific St Bellingham Washington 98229;X-APPLE-RADIUS=500;X-TITLE=2221 Pacific St:geo:-122.4565534,48.7597197
END:VEVENT
BEGIN:VEVENT
DTSTART;TZID=America/Vancouver:20230323T183000
DTEND;TZID=America/Vancouver:20230323T203000
DTSTAMP:20231105T014534
CREATED:20230317T161705Z
LAST-MODIFIED:20230317T191545Z
UID:10001347-1679596200-1679603400@cob.org
SUMMARY:Lake Whatcom Watershed Advisory Board
DESCRIPTION:The Watershed Advisory Board (WAB) provides community advice to the City regarding the protection\, clean-up\, and restoration of the Lake Whatcom reservoir and watershed. The WAB further advises on the acquisition and management of properties in the City’s watershed land acquisition program. \n\n\n\nThe public is welcome to attend either in-person or via the Zoom hybrid option by clicking on this link at the time of the meeting.
URL:https://cob.org/event/lake-whatcom-watershed-advisory-board-5
LOCATION:City of Bellingham Operations Center\, 2221 Pacific St\, Bellingham\, Washington\, 98229
CATEGORIES:Lake Whatcom Watershed Advisory Board
ATTACH;FMTTYPE=image/jpeg:https://cob.org/wp-content/uploads/p908312.jpg
GEO:48.7597197;-122.4565534
X-APPLE-STRUCTURED-LOCATION;VALUE=URI;X-ADDRESS=City of Bellingham Operations Center 2221 Pacific St Bellingham Washington 98229;X-APPLE-RADIUS=500;X-TITLE=2221 Pacific St:geo:-122.4565534,48.7597197
END:VEVENT
BEGIN:VEVENT
DTSTART;TZID=America/Vancouver:20230223T183000
DTEND;TZID=America/Vancouver:20230223T203000
DTSTAMP:20231105T014534
CREATED:20230206T210322Z
LAST-MODIFIED:20230217T215729Z
UID:10001328-1677177000-1677184200@cob.org
SUMMARY:Lake Whatcom Watershed Advisory Board
DESCRIPTION:The Watershed Advisory Board (WAB) provides community advice to the City regarding the protection\, clean-up\, and restoration of the Lake Whatcom reservoir and watershed. The WAB further advises on the acquisition and management of properties in the City’s watershed land acquisition program. \n\n\n\nThe public is welcome to attend either in-person or via the Zoom hybrid option by clicking on this link at the time of the meeting.
URL:https://cob.org/event/lake-whatcom-watershed-advisory-board-4
LOCATION:City of Bellingham Operations Center\, 2221 Pacific St\, Bellingham\, Washington\, 98229
CATEGORIES:Lake Whatcom Watershed Advisory Board
ATTACH;FMTTYPE=image/jpeg:https://cob.org/wp-content/uploads/p908312.jpg
GEO:48.7597197;-122.4565534
X-APPLE-STRUCTURED-LOCATION;VALUE=URI;X-ADDRESS=City of Bellingham Operations Center 2221 Pacific St Bellingham Washington 98229;X-APPLE-RADIUS=500;X-TITLE=2221 Pacific St:geo:-122.4565534,48.7597197
END:VEVENT
BEGIN:VEVENT
DTSTART;TZID=America/Vancouver:20230126T183000
DTEND;TZID=America/Vancouver:20230126T203000
DTSTAMP:20231105T014534
CREATED:20221205T174519Z
LAST-MODIFIED:20221205T191455Z
UID:10001237-1674757800-1674765000@cob.org
SUMMARY:Lake Whatcom Watershed Advisory Board
DESCRIPTION:The Watershed Advisory Board (WAB) provides community advice to the City regarding the protection\, clean-up\, and restoration of the Lake Whatcom reservoir and watershed. The WAB further advises on the acquisition and management of properties in the City’s watershed land acquisition program. \n\n\n\nThe public is welcome to attend either in-person or via the Zoom hybrid option by clicking on this link at the time of the meeting.
URL:https://cob.org/event/lake-whatcom-watershed-advisory-board-2
LOCATION:City of Bellingham Operations Center\, 2221 Pacific St\, Bellingham\, Washington\, 98229
CATEGORIES:Lake Whatcom Watershed Advisory Board
ATTACH;FMTTYPE=image/jpeg:https://cob.org/wp-content/uploads/p908312.jpg
GEO:48.7597197;-122.4565534
X-APPLE-STRUCTURED-LOCATION;VALUE=URI;X-ADDRESS=City of Bellingham Operations Center 2221 Pacific St Bellingham Washington 98229;X-APPLE-RADIUS=500;X-TITLE=2221 Pacific St:geo:-122.4565534,48.7597197
END:VEVENT
BEGIN:VEVENT
DTSTART;TZID=America/Vancouver:20221117T183000
DTEND;TZID=America/Vancouver:20221117T203000
DTSTAMP:20231105T014534
CREATED:20221109T164109Z
LAST-MODIFIED:20221109T164440Z
UID:10000846-1668709800-1668717000@cob.org
SUMMARY:Lake Whatcom Watershed Advisory Board
DESCRIPTION:The Watershed Advisory Board (WAB) provides citizen advice to the City regarding the protection\, clean-up\, and restoration of the Lake Whatcom reservoir and watershed. The WAB further advises on the acquisition and management of properties in the City’s watershed land acquisition program. \n\n\n\nThe WAB typically meets the fourth Thursday of each month at 6:30 p.m. When in person\, meetings will take place at the Public Works Building in the main conference room at 2221 Pacific Street (view map). The public is encourag​ed to attend either in person or via the hybrid Zoom link. The Board does not meet the months of December and August.
URL:https://cob.org/event/lake-whatcom-watershed-advisory-board
LOCATION:Washington
CATEGORIES:Boards and Commissions,Lake Whatcom Watershed Advisory Board
ATTACH;FMTTYPE=image/jpeg:https://cob.org/wp-content/uploads/P500206-enviro-lakewhatcom.jpg
END:VEVENT
BEGIN:VEVENT
DTSTART;TZID=America/Vancouver:20221027T183000
DTEND;TZID=America/Vancouver:20221027T203000
DTSTAMP:20231105T014534
CREATED:20210208T160910Z
LAST-MODIFIED:20220908T080212Z
UID:10000845-1666895400-1666902600@cob.org
SUMMARY:Lake Whatcom Watershed Advisory Board
DESCRIPTION:The Watershed Advisory Board (WAB) provides citizen advice to the City regarding the protection\, clean-up\, and restoration of the Lake Whatcom reservoir and watershed. The WAB further advises on the acquisition and management of properties in the City’s watershed land acquisition program. \n\n\n\nThe WAB typically meets the fourth Thursday of each month at 6:30 p.m. This meeting will be hosted virtually on Zoom: cob.org/watershedadvisory.
URL:https://cob.org/event/lake-whatcom-watershed-advisory-board-3/2022-10-27
LOCATION:Washington
CATEGORIES:Boards and Commissions,Lake Whatcom Watershed Advisory Board
ATTACH;FMTTYPE=image/jpeg:https://cob.org/wp-content/uploads/P500206-enviro-lakewhatcom.jpg
END:VEVENT
BEGIN:VEVENT
DTSTART;TZID=America/Vancouver:20220922T183000
DTEND;TZID=America/Vancouver:20220922T203000
DTSTAMP:20231105T014534
CREATED:20210208T160910Z
LAST-MODIFIED:20220908T080212Z
UID:10000844-1663871400-1663878600@cob.org
SUMMARY:Lake Whatcom Watershed Advisory Board
DESCRIPTION:The Watershed Advisory Board (WAB) provides citizen advice to the City regarding the protection\, clean-up\, and restoration of the Lake Whatcom reservoir and watershed. The WAB further advises on the acquisition and management of properties in the City’s watershed land acquisition program. \n\n\n\nThe WAB typically meets the fourth Thursday of each month at 6:30 p.m. This meeting will be hosted virtually on Zoom: cob.org/watershedadvisory.
URL:https://cob.org/event/lake-whatcom-watershed-advisory-board-3/2022-09-22
LOCATION:Washington
CATEGORIES:Boards and Commissions,Lake Whatcom Watershed Advisory Board
ATTACH;FMTTYPE=image/jpeg:https://cob.org/wp-content/uploads/P500206-enviro-lakewhatcom.jpg
END:VEVENT
END:VCALENDAR