BEGIN:VCALENDAR
VERSION:2.0
PRODID:-//City of Bellingham - ECPv6.15.20//NONSGML v1.0//EN
CALSCALE:GREGORIAN
METHOD:PUBLISH
X-WR-CALNAME:City of Bellingham
X-ORIGINAL-URL:https://cob.org
X-WR-CALDESC:Events for City of Bellingham
REFRESH-INTERVAL;VALUE=DURATION:PT1H
X-Robots-Tag:noindex
X-PUBLISHED-TTL:PT1H
BEGIN:VTIMEZONE
TZID:America/Vancouver
BEGIN:DAYLIGHT
TZOFFSETFROM:-0800
TZOFFSETTO:-0700
TZNAME:PDT
DTSTART:20250309T100000
END:DAYLIGHT
BEGIN:STANDARD
TZOFFSETFROM:-0700
TZOFFSETTO:-0800
TZNAME:PST
DTSTART:20251102T090000
END:STANDARD
BEGIN:DAYLIGHT
TZOFFSETFROM:-0800
TZOFFSETTO:-0700
TZNAME:PDT
DTSTART:20260308T100000
END:DAYLIGHT
BEGIN:STANDARD
TZOFFSETFROM:-0700
TZOFFSETTO:-0800
TZNAME:PST
DTSTART:20261101T090000
END:STANDARD
BEGIN:DAYLIGHT
TZOFFSETFROM:-0800
TZOFFSETTO:-0700
TZNAME:PDT
DTSTART:20270314T100000
END:DAYLIGHT
BEGIN:STANDARD
TZOFFSETFROM:-0700
TZOFFSETTO:-0800
TZNAME:PST
DTSTART:20271107T090000
END:STANDARD
END:VTIMEZONE
BEGIN:VEVENT
DTSTART;TZID=America/Vancouver:20260513T073000
DTEND;TZID=America/Vancouver:20260513T093000
DTSTAMP:20260425T134038
CREATED:20251031T193750Z
LAST-MODIFIED:20251210T164549Z
UID:10004261-1778657400-1778664600@cob.org
SUMMARY:Parks and Recreation Advisory Board Meeting
DESCRIPTION:Location: In Person at Pacific Street Operations Center – Room 114 (Entrance on Carolina St.)  \n\n\n\nJoin from a PC\, Mac\, iPad\, iPhone\, or Android device: \n\n\n\nYour Personal Meeting Link: https://cob.zoom.us/j/82609079670?pwd=EUEzLBb8LWCn3Ogpt2F7QDPkROEOEi.1 \n\n\n\nMeeting ID: 826 0907 9670 \n\n\n\nPassword: 616075 \n\n\n\nOr join by phone: \n\n\n\n    Dial (for higher quality\, dial a number based on your current location): \n\n\n\n       +1 253 215 8782        \n\n\n\n    Meeting ID: 826 0907 9670 \n\n\n\n    Password: 616075 \n\n\n\nNote: If joining by phone only you can raise your hand by entering *9 on your phone keypad.  You can use *6 to mute and un-mute yourself if you phone does not have built it mic muting.
URL:https://cob.org/event/parks-and-recreation-advisory-board-meeting-9/2026-05-13
LOCATION:Pacific Street Operations Center – Room 114\, 2221 Pacific Street\, Bellingham\, WA\, 98229\, United States
CATEGORIES:Boards and Commissions,Parks and Recreation Advisory Board
ATTACH;FMTTYPE=image/jpeg:https://cob.org/wp-content/uploads/Lee-Memorial-events.jpg
GEO:48.7597557;-122.4565335
X-APPLE-STRUCTURED-LOCATION;VALUE=URI;X-ADDRESS=Pacific Street Operations Center – Room 114 2221 Pacific Street Bellingham WA 98229 United States;X-APPLE-RADIUS=500;X-TITLE=2221 Pacific Street:geo:-122.4565335,48.7597557
END:VEVENT
BEGIN:VEVENT
DTSTART;TZID=America/Vancouver:20260610T073000
DTEND;TZID=America/Vancouver:20260610T093000
DTSTAMP:20260425T134038
CREATED:20251031T193750Z
LAST-MODIFIED:20251210T164549Z
UID:10004262-1781076600-1781083800@cob.org
SUMMARY:Parks and Recreation Advisory Board Meeting
DESCRIPTION:Location: In Person at Pacific Street Operations Center – Room 114 (Entrance on Carolina St.)  \n\n\n\nJoin from a PC\, Mac\, iPad\, iPhone\, or Android device: \n\n\n\nYour Personal Meeting Link: https://cob.zoom.us/j/82609079670?pwd=EUEzLBb8LWCn3Ogpt2F7QDPkROEOEi.1 \n\n\n\nMeeting ID: 826 0907 9670 \n\n\n\nPassword: 616075 \n\n\n\nOr join by phone: \n\n\n\n    Dial (for higher quality\, dial a number based on your current location): \n\n\n\n       +1 253 215 8782        \n\n\n\n    Meeting ID: 826 0907 9670 \n\n\n\n    Password: 616075 \n\n\n\nNote: If joining by phone only you can raise your hand by entering *9 on your phone keypad.  You can use *6 to mute and un-mute yourself if you phone does not have built it mic muting.
URL:https://cob.org/event/parks-and-recreation-advisory-board-meeting-9/2026-06-10
LOCATION:Pacific Street Operations Center – Room 114\, 2221 Pacific Street\, Bellingham\, WA\, 98229\, United States
CATEGORIES:Boards and Commissions,Parks and Recreation Advisory Board
ATTACH;FMTTYPE=image/jpeg:https://cob.org/wp-content/uploads/Lee-Memorial-events.jpg
GEO:48.7597557;-122.4565335
X-APPLE-STRUCTURED-LOCATION;VALUE=URI;X-ADDRESS=Pacific Street Operations Center – Room 114 2221 Pacific Street Bellingham WA 98229 United States;X-APPLE-RADIUS=500;X-TITLE=2221 Pacific Street:geo:-122.4565335,48.7597557
END:VEVENT
BEGIN:VEVENT
DTSTART;TZID=America/Vancouver:20260708T073000
DTEND;TZID=America/Vancouver:20260708T093000
DTSTAMP:20260425T134038
CREATED:20251031T193750Z
LAST-MODIFIED:20251210T164549Z
UID:10004263-1783495800-1783503000@cob.org
SUMMARY:Parks and Recreation Advisory Board Meeting
DESCRIPTION:Location: In Person at Pacific Street Operations Center – Room 114 (Entrance on Carolina St.)  \n\n\n\nJoin from a PC\, Mac\, iPad\, iPhone\, or Android device: \n\n\n\nYour Personal Meeting Link: https://cob.zoom.us/j/82609079670?pwd=EUEzLBb8LWCn3Ogpt2F7QDPkROEOEi.1 \n\n\n\nMeeting ID: 826 0907 9670 \n\n\n\nPassword: 616075 \n\n\n\nOr join by phone: \n\n\n\n    Dial (for higher quality\, dial a number based on your current location): \n\n\n\n       +1 253 215 8782        \n\n\n\n    Meeting ID: 826 0907 9670 \n\n\n\n    Password: 616075 \n\n\n\nNote: If joining by phone only you can raise your hand by entering *9 on your phone keypad.  You can use *6 to mute and un-mute yourself if you phone does not have built it mic muting.
URL:https://cob.org/event/parks-and-recreation-advisory-board-meeting-9/2026-07-08
LOCATION:Pacific Street Operations Center – Room 114\, 2221 Pacific Street\, Bellingham\, WA\, 98229\, United States
CATEGORIES:Boards and Commissions,Parks and Recreation Advisory Board
ATTACH;FMTTYPE=image/jpeg:https://cob.org/wp-content/uploads/Lee-Memorial-events.jpg
GEO:48.7597557;-122.4565335
X-APPLE-STRUCTURED-LOCATION;VALUE=URI;X-ADDRESS=Pacific Street Operations Center – Room 114 2221 Pacific Street Bellingham WA 98229 United States;X-APPLE-RADIUS=500;X-TITLE=2221 Pacific Street:geo:-122.4565335,48.7597557
END:VEVENT
BEGIN:VEVENT
DTSTART;TZID=America/Vancouver:20260812T073000
DTEND;TZID=America/Vancouver:20260812T093000
DTSTAMP:20260425T134038
CREATED:20251031T193750Z
LAST-MODIFIED:20251210T164549Z
UID:10004264-1786519800-1786527000@cob.org
SUMMARY:Parks and Recreation Advisory Board Meeting
DESCRIPTION:Location: In Person at Pacific Street Operations Center – Room 114 (Entrance on Carolina St.)  \n\n\n\nJoin from a PC\, Mac\, iPad\, iPhone\, or Android device: \n\n\n\nYour Personal Meeting Link: https://cob.zoom.us/j/82609079670?pwd=EUEzLBb8LWCn3Ogpt2F7QDPkROEOEi.1 \n\n\n\nMeeting ID: 826 0907 9670 \n\n\n\nPassword: 616075 \n\n\n\nOr join by phone: \n\n\n\n    Dial (for higher quality\, dial a number based on your current location): \n\n\n\n       +1 253 215 8782        \n\n\n\n    Meeting ID: 826 0907 9670 \n\n\n\n    Password: 616075 \n\n\n\nNote: If joining by phone only you can raise your hand by entering *9 on your phone keypad.  You can use *6 to mute and un-mute yourself if you phone does not have built it mic muting.
URL:https://cob.org/event/parks-and-recreation-advisory-board-meeting-9/2026-08-12
LOCATION:Pacific Street Operations Center – Room 114\, 2221 Pacific Street\, Bellingham\, WA\, 98229\, United States
CATEGORIES:Boards and Commissions,Parks and Recreation Advisory Board
ATTACH;FMTTYPE=image/jpeg:https://cob.org/wp-content/uploads/Lee-Memorial-events.jpg
GEO:48.7597557;-122.4565335
X-APPLE-STRUCTURED-LOCATION;VALUE=URI;X-ADDRESS=Pacific Street Operations Center – Room 114 2221 Pacific Street Bellingham WA 98229 United States;X-APPLE-RADIUS=500;X-TITLE=2221 Pacific Street:geo:-122.4565335,48.7597557
END:VEVENT
BEGIN:VEVENT
DTSTART;TZID=America/Vancouver:20260909T073000
DTEND;TZID=America/Vancouver:20260909T093000
DTSTAMP:20260425T134038
CREATED:20251031T193750Z
LAST-MODIFIED:20251210T164549Z
UID:10004265-1788939000-1788946200@cob.org
SUMMARY:Parks and Recreation Advisory Board Meeting
DESCRIPTION:Location: In Person at Pacific Street Operations Center – Room 114 (Entrance on Carolina St.)  \n\n\n\nJoin from a PC\, Mac\, iPad\, iPhone\, or Android device: \n\n\n\nYour Personal Meeting Link: https://cob.zoom.us/j/82609079670?pwd=EUEzLBb8LWCn3Ogpt2F7QDPkROEOEi.1 \n\n\n\nMeeting ID: 826 0907 9670 \n\n\n\nPassword: 616075 \n\n\n\nOr join by phone: \n\n\n\n    Dial (for higher quality\, dial a number based on your current location): \n\n\n\n       +1 253 215 8782        \n\n\n\n    Meeting ID: 826 0907 9670 \n\n\n\n    Password: 616075 \n\n\n\nNote: If joining by phone only you can raise your hand by entering *9 on your phone keypad.  You can use *6 to mute and un-mute yourself if you phone does not have built it mic muting.
URL:https://cob.org/event/parks-and-recreation-advisory-board-meeting-9/2026-09-09
LOCATION:Pacific Street Operations Center – Room 114\, 2221 Pacific Street\, Bellingham\, WA\, 98229\, United States
CATEGORIES:Boards and Commissions,Parks and Recreation Advisory Board
ATTACH;FMTTYPE=image/jpeg:https://cob.org/wp-content/uploads/Lee-Memorial-events.jpg
GEO:48.7597557;-122.4565335
X-APPLE-STRUCTURED-LOCATION;VALUE=URI;X-ADDRESS=Pacific Street Operations Center – Room 114 2221 Pacific Street Bellingham WA 98229 United States;X-APPLE-RADIUS=500;X-TITLE=2221 Pacific Street:geo:-122.4565335,48.7597557
END:VEVENT
BEGIN:VEVENT
DTSTART;TZID=America/Vancouver:20261014T073000
DTEND;TZID=America/Vancouver:20261014T093000
DTSTAMP:20260425T134038
CREATED:20251031T193750Z
LAST-MODIFIED:20251210T164549Z
UID:10004266-1791963000-1791970200@cob.org
SUMMARY:Parks and Recreation Advisory Board Meeting
DESCRIPTION:Location: In Person at Pacific Street Operations Center – Room 114 (Entrance on Carolina St.)  \n\n\n\nJoin from a PC\, Mac\, iPad\, iPhone\, or Android device: \n\n\n\nYour Personal Meeting Link: https://cob.zoom.us/j/82609079670?pwd=EUEzLBb8LWCn3Ogpt2F7QDPkROEOEi.1 \n\n\n\nMeeting ID: 826 0907 9670 \n\n\n\nPassword: 616075 \n\n\n\nOr join by phone: \n\n\n\n    Dial (for higher quality\, dial a number based on your current location): \n\n\n\n       +1 253 215 8782        \n\n\n\n    Meeting ID: 826 0907 9670 \n\n\n\n    Password: 616075 \n\n\n\nNote: If joining by phone only you can raise your hand by entering *9 on your phone keypad.  You can use *6 to mute and un-mute yourself if you phone does not have built it mic muting.
URL:https://cob.org/event/parks-and-recreation-advisory-board-meeting-9/2026-10-14
LOCATION:Pacific Street Operations Center – Room 114\, 2221 Pacific Street\, Bellingham\, WA\, 98229\, United States
CATEGORIES:Boards and Commissions,Parks and Recreation Advisory Board
ATTACH;FMTTYPE=image/jpeg:https://cob.org/wp-content/uploads/Lee-Memorial-events.jpg
GEO:48.7597557;-122.4565335
X-APPLE-STRUCTURED-LOCATION;VALUE=URI;X-ADDRESS=Pacific Street Operations Center – Room 114 2221 Pacific Street Bellingham WA 98229 United States;X-APPLE-RADIUS=500;X-TITLE=2221 Pacific Street:geo:-122.4565335,48.7597557
END:VEVENT
BEGIN:VEVENT
DTSTART;TZID=America/Vancouver:20261111T073000
DTEND;TZID=America/Vancouver:20261111T093000
DTSTAMP:20260425T134038
CREATED:20251031T193750Z
LAST-MODIFIED:20251210T164549Z
UID:10004267-1794382200-1794389400@cob.org
SUMMARY:Parks and Recreation Advisory Board Meeting
DESCRIPTION:Location: In Person at Pacific Street Operations Center – Room 114 (Entrance on Carolina St.)  \n\n\n\nJoin from a PC\, Mac\, iPad\, iPhone\, or Android device: \n\n\n\nYour Personal Meeting Link: https://cob.zoom.us/j/82609079670?pwd=EUEzLBb8LWCn3Ogpt2F7QDPkROEOEi.1 \n\n\n\nMeeting ID: 826 0907 9670 \n\n\n\nPassword: 616075 \n\n\n\nOr join by phone: \n\n\n\n    Dial (for higher quality\, dial a number based on your current location): \n\n\n\n       +1 253 215 8782        \n\n\n\n    Meeting ID: 826 0907 9670 \n\n\n\n    Password: 616075 \n\n\n\nNote: If joining by phone only you can raise your hand by entering *9 on your phone keypad.  You can use *6 to mute and un-mute yourself if you phone does not have built it mic muting.
URL:https://cob.org/event/parks-and-recreation-advisory-board-meeting-9/2026-11-11
LOCATION:Pacific Street Operations Center – Room 114\, 2221 Pacific Street\, Bellingham\, WA\, 98229\, United States
CATEGORIES:Boards and Commissions,Parks and Recreation Advisory Board
ATTACH;FMTTYPE=image/jpeg:https://cob.org/wp-content/uploads/Lee-Memorial-events.jpg
GEO:48.7597557;-122.4565335
X-APPLE-STRUCTURED-LOCATION;VALUE=URI;X-ADDRESS=Pacific Street Operations Center – Room 114 2221 Pacific Street Bellingham WA 98229 United States;X-APPLE-RADIUS=500;X-TITLE=2221 Pacific Street:geo:-122.4565335,48.7597557
END:VEVENT
END:VCALENDAR