BEGIN:VCALENDAR
VERSION:2.0
PRODID:-//City of Bellingham - ECPv6.2.5//NONSGML v1.0//EN
CALSCALE:GREGORIAN
METHOD:PUBLISH
X-WR-CALNAME:City of Bellingham
X-ORIGINAL-URL:https://cob.org
X-WR-CALDESC:Events for City of Bellingham
REFRESH-INTERVAL;VALUE=DURATION:PT1H
X-Robots-Tag:noindex
X-PUBLISHED-TTL:PT1H
BEGIN:VTIMEZONE
TZID:America/Vancouver
BEGIN:DAYLIGHT
TZOFFSETFROM:-0800
TZOFFSETTO:-0700
TZNAME:PDT
DTSTART:20220313T100000
END:DAYLIGHT
BEGIN:STANDARD
TZOFFSETFROM:-0700
TZOFFSETTO:-0800
TZNAME:PST
DTSTART:20221106T090000
END:STANDARD
BEGIN:DAYLIGHT
TZOFFSETFROM:-0800
TZOFFSETTO:-0700
TZNAME:PDT
DTSTART:20230312T100000
END:DAYLIGHT
BEGIN:STANDARD
TZOFFSETFROM:-0700
TZOFFSETTO:-0800
TZNAME:PST
DTSTART:20231105T090000
END:STANDARD
END:VTIMEZONE
BEGIN:VEVENT
DTSTART;TZID=America/Vancouver:20231011T073000
DTEND;TZID=America/Vancouver:20231011T093000
DTSTAMP:20231104T015709
CREATED:20231006T220625Z
LAST-MODIFIED:20231006T220631Z
UID:10001898-1697009400-1697016600@cob.org
SUMMARY:*Canceled* Parks and Recreation Advisory Board Meeting
DESCRIPTION:Location: In Person at City Hall – Mayor’s Board Room or Remote Meeting Option Below \n\n\n\nJoin from a PC\, Mac\, iPad\, iPhone\, or Android device: \n\n\n\nYour Personal Meeting Link: https://cob.zoom.us/s/99623052639?pwd=M1RlWENpc0ZGaWlnTENJNHJLVWhYdz09 \n\n\n\nMeeting ID: 996 2305 2639Password: 914391 \n\n\n\nOr join by phone: \n\n\n\n    Dial (for higher quality\, dial a number based on your current location): \n\n\n\n+1 253 215 8782          +1 669 900 6833           +1 346 248 7799            +1 301 715 8592            +1 312 626 6799            +1 929 205 6099 \n\n\n\n    Meeting ID: 996 2305 2639    Password: 914391 \n\n\n\nNote: If joining by phone only you can raise your hand by entering *9 on your phone keypad.  You can use *6 to mute and un-mute yourself if you phone does not have built it mic muting.
URL:https://cob.org/event/parks-and-recreation-advisory-board-meeting-2
LOCATION:City Hall\, 210 Lottie St\, Bellingham\, Washington\, 98225\, United States
CATEGORIES:Boards and Commissions,Parks and Recreation Advisory Board
ATTACH;FMTTYPE=image/jpeg:https://cob.org/wp-content/uploads/Lee-Memorial-events.jpg
GEO:48.7552397;-122.4789188
X-APPLE-STRUCTURED-LOCATION;VALUE=URI;X-ADDRESS=City Hall 210 Lottie St Bellingham Washington 98225 United States;X-APPLE-RADIUS=500;X-TITLE=210 Lottie St:geo:-122.4789188,48.7552397
END:VEVENT
BEGIN:VEVENT
DTSTART;TZID=America/Vancouver:20230913T073000
DTEND;TZID=America/Vancouver:20230913T093000
DTSTAMP:20231104T015709
CREATED:20221101T153232Z
LAST-MODIFIED:20231006T203606Z
UID:10001172-1694590200-1694597400@cob.org
SUMMARY:Parks and Recreation Advisory Board Meeting
DESCRIPTION:Location: In Person at City Hall – Mayor’s Board Room or Remote Meeting Option Below \n\n\n\nJoin from a PC\, Mac\, iPad\, iPhone\, or Android device: \n\n\n\nYour Personal Meeting Link: https://cob.zoom.us/s/99623052639?pwd=M1RlWENpc0ZGaWlnTENJNHJLVWhYdz09 \n\n\n\nMeeting ID: 996 2305 2639Password: 914391 \n\n\n\nOr join by phone: \n\n\n\n    Dial (for higher quality\, dial a number based on your current location): \n\n\n\n+1 253 215 8782          +1 669 900 6833           +1 346 248 7799            +1 301 715 8592            +1 312 626 6799            +1 929 205 6099 \n\n\n\n    Meeting ID: 996 2305 2639    Password: 914391 \n\n\n\nNote: If joining by phone only you can raise your hand by entering *9 on your phone keypad.  You can use *6 to mute and un-mute yourself if you phone does not have built it mic muting.
URL:https://cob.org/event/parks-and-recreation-advisory-board-meeting/2023-09-13
LOCATION:City Hall\, 210 Lottie St\, Bellingham\, Washington\, 98225\, United States
CATEGORIES:Boards and Commissions,Parks and Recreation Advisory Board
ATTACH;FMTTYPE=image/jpeg:https://cob.org/wp-content/uploads/Lee-Memorial-events.jpg
GEO:48.7552397;-122.4789188
X-APPLE-STRUCTURED-LOCATION;VALUE=URI;X-ADDRESS=City Hall 210 Lottie St Bellingham Washington 98225 United States;X-APPLE-RADIUS=500;X-TITLE=210 Lottie St:geo:-122.4789188,48.7552397
END:VEVENT
BEGIN:VEVENT
DTSTART;TZID=America/Vancouver:20230809T073000
DTEND;TZID=America/Vancouver:20230809T093000
DTSTAMP:20231104T015709
CREATED:20221101T153232Z
LAST-MODIFIED:20231006T203606Z
UID:10001171-1691566200-1691573400@cob.org
SUMMARY:Parks and Recreation Advisory Board Meeting
DESCRIPTION:Location: In Person at City Hall – Mayor’s Board Room or Remote Meeting Option Below \n\n\n\nJoin from a PC\, Mac\, iPad\, iPhone\, or Android device: \n\n\n\nYour Personal Meeting Link: https://cob.zoom.us/s/99623052639?pwd=M1RlWENpc0ZGaWlnTENJNHJLVWhYdz09 \n\n\n\nMeeting ID: 996 2305 2639Password: 914391 \n\n\n\nOr join by phone: \n\n\n\n    Dial (for higher quality\, dial a number based on your current location): \n\n\n\n+1 253 215 8782          +1 669 900 6833           +1 346 248 7799            +1 301 715 8592            +1 312 626 6799            +1 929 205 6099 \n\n\n\n    Meeting ID: 996 2305 2639    Password: 914391 \n\n\n\nNote: If joining by phone only you can raise your hand by entering *9 on your phone keypad.  You can use *6 to mute and un-mute yourself if you phone does not have built it mic muting.
URL:https://cob.org/event/parks-and-recreation-advisory-board-meeting/2023-08-09
LOCATION:City Hall\, 210 Lottie St\, Bellingham\, Washington\, 98225\, United States
CATEGORIES:Boards and Commissions,Parks and Recreation Advisory Board
ATTACH;FMTTYPE=image/jpeg:https://cob.org/wp-content/uploads/Lee-Memorial-events.jpg
GEO:48.7552397;-122.4789188
X-APPLE-STRUCTURED-LOCATION;VALUE=URI;X-ADDRESS=City Hall 210 Lottie St Bellingham Washington 98225 United States;X-APPLE-RADIUS=500;X-TITLE=210 Lottie St:geo:-122.4789188,48.7552397
END:VEVENT
BEGIN:VEVENT
DTSTART;TZID=America/Vancouver:20230712T073000
DTEND;TZID=America/Vancouver:20230712T093000
DTSTAMP:20231104T015709
CREATED:20221101T153232Z
LAST-MODIFIED:20231006T203606Z
UID:10000760-1689147000-1689154200@cob.org
SUMMARY:Parks and Recreation Advisory Board Meeting
DESCRIPTION:Location: In Person at City Hall – Mayor’s Board Room or Remote Meeting Option Below \n\n\n\nJoin from a PC\, Mac\, iPad\, iPhone\, or Android device: \n\n\n\nYour Personal Meeting Link: https://cob.zoom.us/s/99623052639?pwd=M1RlWENpc0ZGaWlnTENJNHJLVWhYdz09 \n\n\n\nMeeting ID: 996 2305 2639Password: 914391 \n\n\n\nOr join by phone: \n\n\n\n    Dial (for higher quality\, dial a number based on your current location): \n\n\n\n+1 253 215 8782          +1 669 900 6833           +1 346 248 7799            +1 301 715 8592            +1 312 626 6799            +1 929 205 6099 \n\n\n\n    Meeting ID: 996 2305 2639    Password: 914391 \n\n\n\nNote: If joining by phone only you can raise your hand by entering *9 on your phone keypad.  You can use *6 to mute and un-mute yourself if you phone does not have built it mic muting.
URL:https://cob.org/event/parks-and-recreation-advisory-board-meeting/2023-07-12
LOCATION:City Hall\, 210 Lottie St\, Bellingham\, Washington\, 98225\, United States
CATEGORIES:Boards and Commissions,Parks and Recreation Advisory Board
ATTACH;FMTTYPE=image/jpeg:https://cob.org/wp-content/uploads/Lee-Memorial-events.jpg
GEO:48.7552397;-122.4789188
X-APPLE-STRUCTURED-LOCATION;VALUE=URI;X-ADDRESS=City Hall 210 Lottie St Bellingham Washington 98225 United States;X-APPLE-RADIUS=500;X-TITLE=210 Lottie St:geo:-122.4789188,48.7552397
END:VEVENT
BEGIN:VEVENT
DTSTART;TZID=America/Vancouver:20230614T073000
DTEND;TZID=America/Vancouver:20230614T093000
DTSTAMP:20231104T015709
CREATED:20221101T153232Z
LAST-MODIFIED:20231006T203606Z
UID:10000759-1686727800-1686735000@cob.org
SUMMARY:Parks and Recreation Advisory Board Meeting
DESCRIPTION:Location: In Person at City Hall – Mayor’s Board Room or Remote Meeting Option Below \n\n\n\nJoin from a PC\, Mac\, iPad\, iPhone\, or Android device: \n\n\n\nYour Personal Meeting Link: https://cob.zoom.us/s/99623052639?pwd=M1RlWENpc0ZGaWlnTENJNHJLVWhYdz09 \n\n\n\nMeeting ID: 996 2305 2639Password: 914391 \n\n\n\nOr join by phone: \n\n\n\n    Dial (for higher quality\, dial a number based on your current location): \n\n\n\n+1 253 215 8782          +1 669 900 6833           +1 346 248 7799            +1 301 715 8592            +1 312 626 6799            +1 929 205 6099 \n\n\n\n    Meeting ID: 996 2305 2639    Password: 914391 \n\n\n\nNote: If joining by phone only you can raise your hand by entering *9 on your phone keypad.  You can use *6 to mute and un-mute yourself if you phone does not have built it mic muting.
URL:https://cob.org/event/parks-and-recreation-advisory-board-meeting/2023-06-14
LOCATION:City Hall\, 210 Lottie St\, Bellingham\, Washington\, 98225\, United States
CATEGORIES:Boards and Commissions,Parks and Recreation Advisory Board
ATTACH;FMTTYPE=image/jpeg:https://cob.org/wp-content/uploads/Lee-Memorial-events.jpg
GEO:48.7552397;-122.4789188
X-APPLE-STRUCTURED-LOCATION;VALUE=URI;X-ADDRESS=City Hall 210 Lottie St Bellingham Washington 98225 United States;X-APPLE-RADIUS=500;X-TITLE=210 Lottie St:geo:-122.4789188,48.7552397
END:VEVENT
BEGIN:VEVENT
DTSTART;TZID=America/Vancouver:20230510T073000
DTEND;TZID=America/Vancouver:20230510T093000
DTSTAMP:20231104T015709
CREATED:20221101T153232Z
LAST-MODIFIED:20231006T203606Z
UID:10000758-1683703800-1683711000@cob.org
SUMMARY:Parks and Recreation Advisory Board Meeting
DESCRIPTION:Location: In Person at City Hall – Mayor’s Board Room or Remote Meeting Option Below \n\n\n\nJoin from a PC\, Mac\, iPad\, iPhone\, or Android device: \n\n\n\nYour Personal Meeting Link: https://cob.zoom.us/s/99623052639?pwd=M1RlWENpc0ZGaWlnTENJNHJLVWhYdz09 \n\n\n\nMeeting ID: 996 2305 2639Password: 914391 \n\n\n\nOr join by phone: \n\n\n\n    Dial (for higher quality\, dial a number based on your current location): \n\n\n\n+1 253 215 8782          +1 669 900 6833           +1 346 248 7799            +1 301 715 8592            +1 312 626 6799            +1 929 205 6099 \n\n\n\n    Meeting ID: 996 2305 2639    Password: 914391 \n\n\n\nNote: If joining by phone only you can raise your hand by entering *9 on your phone keypad.  You can use *6 to mute and un-mute yourself if you phone does not have built it mic muting.
URL:https://cob.org/event/parks-and-recreation-advisory-board-meeting/2023-05-10
LOCATION:City Hall\, 210 Lottie St\, Bellingham\, Washington\, 98225\, United States
CATEGORIES:Boards and Commissions,Parks and Recreation Advisory Board
ATTACH;FMTTYPE=image/jpeg:https://cob.org/wp-content/uploads/Lee-Memorial-events.jpg
GEO:48.7552397;-122.4789188
X-APPLE-STRUCTURED-LOCATION;VALUE=URI;X-ADDRESS=City Hall 210 Lottie St Bellingham Washington 98225 United States;X-APPLE-RADIUS=500;X-TITLE=210 Lottie St:geo:-122.4789188,48.7552397
END:VEVENT
BEGIN:VEVENT
DTSTART;TZID=America/Vancouver:20230412T073000
DTEND;TZID=America/Vancouver:20230412T093000
DTSTAMP:20231104T015709
CREATED:20221101T153232Z
LAST-MODIFIED:20231006T203606Z
UID:10000757-1681284600-1681291800@cob.org
SUMMARY:Parks and Recreation Advisory Board Meeting
DESCRIPTION:Location: In Person at City Hall – Mayor’s Board Room or Remote Meeting Option Below \n\n\n\nJoin from a PC\, Mac\, iPad\, iPhone\, or Android device: \n\n\n\nYour Personal Meeting Link: https://cob.zoom.us/s/99623052639?pwd=M1RlWENpc0ZGaWlnTENJNHJLVWhYdz09 \n\n\n\nMeeting ID: 996 2305 2639Password: 914391 \n\n\n\nOr join by phone: \n\n\n\n    Dial (for higher quality\, dial a number based on your current location): \n\n\n\n+1 253 215 8782          +1 669 900 6833           +1 346 248 7799            +1 301 715 8592            +1 312 626 6799            +1 929 205 6099 \n\n\n\n    Meeting ID: 996 2305 2639    Password: 914391 \n\n\n\nNote: If joining by phone only you can raise your hand by entering *9 on your phone keypad.  You can use *6 to mute and un-mute yourself if you phone does not have built it mic muting.
URL:https://cob.org/event/parks-and-recreation-advisory-board-meeting/2023-04-12
LOCATION:City Hall\, 210 Lottie St\, Bellingham\, Washington\, 98225\, United States
CATEGORIES:Boards and Commissions,Parks and Recreation Advisory Board
ATTACH;FMTTYPE=image/jpeg:https://cob.org/wp-content/uploads/Lee-Memorial-events.jpg
GEO:48.7552397;-122.4789188
X-APPLE-STRUCTURED-LOCATION;VALUE=URI;X-ADDRESS=City Hall 210 Lottie St Bellingham Washington 98225 United States;X-APPLE-RADIUS=500;X-TITLE=210 Lottie St:geo:-122.4789188,48.7552397
END:VEVENT
BEGIN:VEVENT
DTSTART;TZID=America/Vancouver:20230308T073000
DTEND;TZID=America/Vancouver:20230308T093000
DTSTAMP:20231104T015709
CREATED:20221101T153232Z
LAST-MODIFIED:20231006T203606Z
UID:10000756-1678260600-1678267800@cob.org
SUMMARY:Parks and Recreation Advisory Board Meeting
DESCRIPTION:Location: In Person at City Hall – Mayor’s Board Room or Remote Meeting Option Below \n\n\n\nJoin from a PC\, Mac\, iPad\, iPhone\, or Android device: \n\n\n\nYour Personal Meeting Link: https://cob.zoom.us/s/99623052639?pwd=M1RlWENpc0ZGaWlnTENJNHJLVWhYdz09 \n\n\n\nMeeting ID: 996 2305 2639Password: 914391 \n\n\n\nOr join by phone: \n\n\n\n    Dial (for higher quality\, dial a number based on your current location): \n\n\n\n+1 253 215 8782          +1 669 900 6833           +1 346 248 7799            +1 301 715 8592            +1 312 626 6799            +1 929 205 6099 \n\n\n\n    Meeting ID: 996 2305 2639    Password: 914391 \n\n\n\nNote: If joining by phone only you can raise your hand by entering *9 on your phone keypad.  You can use *6 to mute and un-mute yourself if you phone does not have built it mic muting.
URL:https://cob.org/event/parks-and-recreation-advisory-board-meeting/2023-03-08
LOCATION:City Hall\, 210 Lottie St\, Bellingham\, Washington\, 98225\, United States
CATEGORIES:Boards and Commissions,Parks and Recreation Advisory Board
ATTACH;FMTTYPE=image/jpeg:https://cob.org/wp-content/uploads/Lee-Memorial-events.jpg
GEO:48.7552397;-122.4789188
X-APPLE-STRUCTURED-LOCATION;VALUE=URI;X-ADDRESS=City Hall 210 Lottie St Bellingham Washington 98225 United States;X-APPLE-RADIUS=500;X-TITLE=210 Lottie St:geo:-122.4789188,48.7552397
END:VEVENT
BEGIN:VEVENT
DTSTART;TZID=America/Vancouver:20230208T073000
DTEND;TZID=America/Vancouver:20230208T093000
DTSTAMP:20231104T015709
CREATED:20221101T153232Z
LAST-MODIFIED:20231006T203606Z
UID:10000755-1675841400-1675848600@cob.org
SUMMARY:Parks and Recreation Advisory Board Meeting
DESCRIPTION:Location: In Person at City Hall – Mayor’s Board Room or Remote Meeting Option Below \n\n\n\nJoin from a PC\, Mac\, iPad\, iPhone\, or Android device: \n\n\n\nYour Personal Meeting Link: https://cob.zoom.us/s/99623052639?pwd=M1RlWENpc0ZGaWlnTENJNHJLVWhYdz09 \n\n\n\nMeeting ID: 996 2305 2639Password: 914391 \n\n\n\nOr join by phone: \n\n\n\n    Dial (for higher quality\, dial a number based on your current location): \n\n\n\n+1 253 215 8782          +1 669 900 6833           +1 346 248 7799            +1 301 715 8592            +1 312 626 6799            +1 929 205 6099 \n\n\n\n    Meeting ID: 996 2305 2639    Password: 914391 \n\n\n\nNote: If joining by phone only you can raise your hand by entering *9 on your phone keypad.  You can use *6 to mute and un-mute yourself if you phone does not have built it mic muting.
URL:https://cob.org/event/parks-and-recreation-advisory-board-meeting/2023-02-08
LOCATION:City Hall\, 210 Lottie St\, Bellingham\, Washington\, 98225\, United States
CATEGORIES:Boards and Commissions,Parks and Recreation Advisory Board
ATTACH;FMTTYPE=image/jpeg:https://cob.org/wp-content/uploads/Lee-Memorial-events.jpg
GEO:48.7552397;-122.4789188
X-APPLE-STRUCTURED-LOCATION;VALUE=URI;X-ADDRESS=City Hall 210 Lottie St Bellingham Washington 98225 United States;X-APPLE-RADIUS=500;X-TITLE=210 Lottie St:geo:-122.4789188,48.7552397
END:VEVENT
BEGIN:VEVENT
DTSTART;TZID=America/Vancouver:20230111T073000
DTEND;TZID=America/Vancouver:20230111T093000
DTSTAMP:20231104T015709
CREATED:20221101T153232Z
LAST-MODIFIED:20231006T203606Z
UID:10000754-1673422200-1673429400@cob.org
SUMMARY:Parks and Recreation Advisory Board Meeting
DESCRIPTION:Location: In Person at City Hall – Mayor’s Board Room or Remote Meeting Option Below \n\n\n\nJoin from a PC\, Mac\, iPad\, iPhone\, or Android device: \n\n\n\nYour Personal Meeting Link: https://cob.zoom.us/s/99623052639?pwd=M1RlWENpc0ZGaWlnTENJNHJLVWhYdz09 \n\n\n\nMeeting ID: 996 2305 2639Password: 914391 \n\n\n\nOr join by phone: \n\n\n\n    Dial (for higher quality\, dial a number based on your current location): \n\n\n\n+1 253 215 8782          +1 669 900 6833           +1 346 248 7799            +1 301 715 8592            +1 312 626 6799            +1 929 205 6099 \n\n\n\n    Meeting ID: 996 2305 2639    Password: 914391 \n\n\n\nNote: If joining by phone only you can raise your hand by entering *9 on your phone keypad.  You can use *6 to mute and un-mute yourself if you phone does not have built it mic muting.
URL:https://cob.org/event/parks-and-recreation-advisory-board-meeting/2023-01-11
LOCATION:City Hall\, 210 Lottie St\, Bellingham\, Washington\, 98225\, United States
CATEGORIES:Boards and Commissions,Parks and Recreation Advisory Board
ATTACH;FMTTYPE=image/jpeg:https://cob.org/wp-content/uploads/Lee-Memorial-events.jpg
GEO:48.7552397;-122.4789188
X-APPLE-STRUCTURED-LOCATION;VALUE=URI;X-ADDRESS=City Hall 210 Lottie St Bellingham Washington 98225 United States;X-APPLE-RADIUS=500;X-TITLE=210 Lottie St:geo:-122.4789188,48.7552397
END:VEVENT
BEGIN:VEVENT
DTSTART;TZID=America/Vancouver:20221214T073000
DTEND;TZID=America/Vancouver:20221214T093000
DTSTAMP:20231104T015709
CREATED:20221101T153232Z
LAST-MODIFIED:20231006T203606Z
UID:10001170-1671003000-1671010200@cob.org
SUMMARY:Parks and Recreation Advisory Board Meeting
DESCRIPTION:Location: In Person at City Hall – Mayor’s Board Room or Remote Meeting Option Below \n\n\n\nJoin from a PC\, Mac\, iPad\, iPhone\, or Android device: \n\n\n\nYour Personal Meeting Link: https://cob.zoom.us/s/99623052639?pwd=M1RlWENpc0ZGaWlnTENJNHJLVWhYdz09 \n\n\n\nMeeting ID: 996 2305 2639Password: 914391 \n\n\n\nOr join by phone: \n\n\n\n    Dial (for higher quality\, dial a number based on your current location): \n\n\n\n+1 253 215 8782          +1 669 900 6833           +1 346 248 7799            +1 301 715 8592            +1 312 626 6799            +1 929 205 6099 \n\n\n\n    Meeting ID: 996 2305 2639    Password: 914391 \n\n\n\nNote: If joining by phone only you can raise your hand by entering *9 on your phone keypad.  You can use *6 to mute and un-mute yourself if you phone does not have built it mic muting.
URL:https://cob.org/event/parks-and-recreation-advisory-board-meeting/2022-12-14
LOCATION:City Hall\, 210 Lottie St\, Bellingham\, Washington\, 98225\, United States
CATEGORIES:Boards and Commissions,Parks and Recreation Advisory Board
ATTACH;FMTTYPE=image/jpeg:https://cob.org/wp-content/uploads/Lee-Memorial-events.jpg
GEO:48.7552397;-122.4789188
X-APPLE-STRUCTURED-LOCATION;VALUE=URI;X-ADDRESS=City Hall 210 Lottie St Bellingham Washington 98225 United States;X-APPLE-RADIUS=500;X-TITLE=210 Lottie St:geo:-122.4789188,48.7552397
END:VEVENT
BEGIN:VEVENT
DTSTART;TZID=America/Vancouver:20221109T073000
DTEND;TZID=America/Vancouver:20221109T093000
DTSTAMP:20231104T015709
CREATED:20221101T153232Z
LAST-MODIFIED:20231006T203606Z
UID:10001169-1667979000-1667986200@cob.org
SUMMARY:Parks and Recreation Advisory Board Meeting
DESCRIPTION:Location: In Person at City Hall – Mayor’s Board Room or Remote Meeting Option Below \n\n\n\nJoin from a PC\, Mac\, iPad\, iPhone\, or Android device: \n\n\n\nYour Personal Meeting Link: https://cob.zoom.us/s/99623052639?pwd=M1RlWENpc0ZGaWlnTENJNHJLVWhYdz09 \n\n\n\nMeeting ID: 996 2305 2639Password: 914391 \n\n\n\nOr join by phone: \n\n\n\n    Dial (for higher quality\, dial a number based on your current location): \n\n\n\n+1 253 215 8782          +1 669 900 6833           +1 346 248 7799            +1 301 715 8592            +1 312 626 6799            +1 929 205 6099 \n\n\n\n    Meeting ID: 996 2305 2639    Password: 914391 \n\n\n\nNote: If joining by phone only you can raise your hand by entering *9 on your phone keypad.  You can use *6 to mute and un-mute yourself if you phone does not have built it mic muting.
URL:https://cob.org/event/parks-and-recreation-advisory-board-meeting/2022-11-09
LOCATION:City Hall\, 210 Lottie St\, Bellingham\, Washington\, 98225\, United States
CATEGORIES:Boards and Commissions,Parks and Recreation Advisory Board
ATTACH;FMTTYPE=image/jpeg:https://cob.org/wp-content/uploads/Lee-Memorial-events.jpg
GEO:48.7552397;-122.4789188
X-APPLE-STRUCTURED-LOCATION;VALUE=URI;X-ADDRESS=City Hall 210 Lottie St Bellingham Washington 98225 United States;X-APPLE-RADIUS=500;X-TITLE=210 Lottie St:geo:-122.4789188,48.7552397
END:VEVENT
BEGIN:VEVENT
DTSTART;TZID=America/Vancouver:20221012T073000
DTEND;TZID=America/Vancouver:20221012T093000
DTSTAMP:20231104T015709
CREATED:20221101T153232Z
LAST-MODIFIED:20231006T203606Z
UID:10001168-1665559800-1665567000@cob.org
SUMMARY:Parks and Recreation Advisory Board Meeting
DESCRIPTION:Location: In Person at City Hall – Mayor’s Board Room or Remote Meeting Option Below \n\n\n\nJoin from a PC\, Mac\, iPad\, iPhone\, or Android device: \n\n\n\nYour Personal Meeting Link: https://cob.zoom.us/s/99623052639?pwd=M1RlWENpc0ZGaWlnTENJNHJLVWhYdz09 \n\n\n\nMeeting ID: 996 2305 2639Password: 914391 \n\n\n\nOr join by phone: \n\n\n\n    Dial (for higher quality\, dial a number based on your current location): \n\n\n\n+1 253 215 8782          +1 669 900 6833           +1 346 248 7799            +1 301 715 8592            +1 312 626 6799            +1 929 205 6099 \n\n\n\n    Meeting ID: 996 2305 2639    Password: 914391 \n\n\n\nNote: If joining by phone only you can raise your hand by entering *9 on your phone keypad.  You can use *6 to mute and un-mute yourself if you phone does not have built it mic muting.
URL:https://cob.org/event/parks-and-recreation-advisory-board-meeting/2022-10-12
LOCATION:City Hall\, 210 Lottie St\, Bellingham\, Washington\, 98225\, United States
CATEGORIES:Boards and Commissions,Parks and Recreation Advisory Board
ATTACH;FMTTYPE=image/jpeg:https://cob.org/wp-content/uploads/Lee-Memorial-events.jpg
GEO:48.7552397;-122.4789188
X-APPLE-STRUCTURED-LOCATION;VALUE=URI;X-ADDRESS=City Hall 210 Lottie St Bellingham Washington 98225 United States;X-APPLE-RADIUS=500;X-TITLE=210 Lottie St:geo:-122.4789188,48.7552397
END:VEVENT
BEGIN:VEVENT
DTSTART;TZID=America/Vancouver:20220914T073000
DTEND;TZID=America/Vancouver:20220914T093000
DTSTAMP:20231104T015709
CREATED:20221101T153232Z
LAST-MODIFIED:20231006T203606Z
UID:10000753-1663140600-1663147800@cob.org
SUMMARY:Parks and Recreation Advisory Board Meeting
DESCRIPTION:Location: In Person at City Hall – Mayor’s Board Room or Remote Meeting Option Below \n\n\n\nJoin from a PC\, Mac\, iPad\, iPhone\, or Android device: \n\n\n\nYour Personal Meeting Link: https://cob.zoom.us/s/99623052639?pwd=M1RlWENpc0ZGaWlnTENJNHJLVWhYdz09 \n\n\n\nMeeting ID: 996 2305 2639Password: 914391 \n\n\n\nOr join by phone: \n\n\n\n    Dial (for higher quality\, dial a number based on your current location): \n\n\n\n+1 253 215 8782          +1 669 900 6833           +1 346 248 7799            +1 301 715 8592            +1 312 626 6799            +1 929 205 6099 \n\n\n\n    Meeting ID: 996 2305 2639    Password: 914391 \n\n\n\nNote: If joining by phone only you can raise your hand by entering *9 on your phone keypad.  You can use *6 to mute and un-mute yourself if you phone does not have built it mic muting.
URL:https://cob.org/event/parks-and-recreation-advisory-board-meeting/2022-09-14
LOCATION:City Hall\, 210 Lottie St\, Bellingham\, Washington\, 98225\, United States
CATEGORIES:Boards and Commissions,Parks and Recreation Advisory Board
ATTACH;FMTTYPE=image/jpeg:https://cob.org/wp-content/uploads/Lee-Memorial-events.jpg
GEO:48.7552397;-122.4789188
X-APPLE-STRUCTURED-LOCATION;VALUE=URI;X-ADDRESS=City Hall 210 Lottie St Bellingham Washington 98225 United States;X-APPLE-RADIUS=500;X-TITLE=210 Lottie St:geo:-122.4789188,48.7552397
END:VEVENT
END:VCALENDAR