BEGIN:VCALENDAR
VERSION:2.0
PRODID:-//City of Bellingham - ECPv6.2.5//NONSGML v1.0//EN
CALSCALE:GREGORIAN
METHOD:PUBLISH
X-WR-CALNAME:City of Bellingham
X-ORIGINAL-URL:https://cob.org
X-WR-CALDESC:Events for City of Bellingham
REFRESH-INTERVAL;VALUE=DURATION:PT1H
X-Robots-Tag:noindex
X-PUBLISHED-TTL:PT1H
BEGIN:VTIMEZONE
TZID:America/Vancouver
BEGIN:DAYLIGHT
TZOFFSETFROM:-0800
TZOFFSETTO:-0700
TZNAME:PDT
DTSTART:20220313T100000
END:DAYLIGHT
BEGIN:STANDARD
TZOFFSETFROM:-0700
TZOFFSETTO:-0800
TZNAME:PST
DTSTART:20221106T090000
END:STANDARD
BEGIN:DAYLIGHT
TZOFFSETFROM:-0800
TZOFFSETTO:-0700
TZNAME:PDT
DTSTART:20230312T100000
END:DAYLIGHT
BEGIN:STANDARD
TZOFFSETFROM:-0700
TZOFFSETTO:-0800
TZNAME:PST
DTSTART:20231105T090000
END:STANDARD
END:VTIMEZONE
BEGIN:VEVENT
DTSTART;TZID=America/Vancouver:20231019T160000
DTEND;TZID=America/Vancouver:20231019T173000
DTSTAMP:20231104T232441
CREATED:20230223T222423Z
LAST-MODIFIED:20230912T155739Z
UID:10001335-1697731200-1697736600@cob.org
SUMMARY:Sehome Hill Arboretum Board of Governors Meeting
DESCRIPTION:Every month on the Third Thu\, until November 16th. \n\n\n\n\nNovember 16\, 2023 at 4:00pm\n\n\n\n\nOn-site meeting location will be at the WWU Physical Plant in room PP-309. \n\n\n\nOr join from a PC\, Mac\, iPad\, iPhone or Android device: \n\n\n\nJoin Zoom Meetinghttps://wwu-edu.zoom.us/j/98381168519?pwd=R0U0eW83T29qWTN5WFUxdi91Tk9RUT09 \n\n\n\nMeeting ID: 983 8116 8519Passcode: 2023392 \n\n\n\nDial by your location• +1 253 215 8782 US (Tacoma)• +1 253 205 0468 US
URL:https://cob.org/event/sehome-hill-arboretum-board-of-governors-meeting-8
CATEGORIES:Boards and Commissions,Sehome Hill Arboretum,Sehome Hill Arboretum Board of Governors
ATTACH;FMTTYPE=image/jpeg:https://cob.org/wp-content/uploads/p001000.JPG
END:VEVENT
BEGIN:VEVENT
DTSTART;TZID=America/Vancouver:20230921T160000
DTEND;TZID=America/Vancouver:20230921T173000
DTSTAMP:20231104T232441
CREATED:20230223T222327Z
LAST-MODIFIED:20230912T155538Z
UID:10001334-1695312000-1695317400@cob.org
SUMMARY:Sehome Hill Arboretum Board of Governors Meeting
DESCRIPTION:Every month on the Third Thu\, until November 16th. \n\n\n\n\nOctober 19\, 2023 at 4:00pm\n\n\n\nNovember 16\, 2023 at 4:00pm\n\n\n\n\nOn-site meeting location will be at the WWU Physical Plant in room PP-309. \n\n\n\nOr join from a PC\, Mac\, iPad\, iPhone or Android device: \n\n\n\nJoin Zoom Meetinghttps://wwu-edu.zoom.us/j/98381168519?pwd=R0U0eW83T29qWTN5WFUxdi91Tk9RUT09 \n\n\n\nMeeting ID: 983 8116 8519Passcode: 2023392 \n\n\n\nDial by your location• +1 253 215 8782 US (Tacoma)• +1 253 205 0468 US
URL:https://cob.org/event/sehome-hill-arboretum-board-of-governors-meeting-7
CATEGORIES:Boards and Commissions,Sehome Hill Arboretum,Sehome Hill Arboretum Board of Governors
ATTACH;FMTTYPE=image/jpeg:https://cob.org/wp-content/uploads/p001000.JPG
END:VEVENT
BEGIN:VEVENT
DTSTART;TZID=America/Vancouver:20230615T160000
DTEND;TZID=America/Vancouver:20230615T173000
DTSTAMP:20231104T232441
CREATED:20230605T195450Z
LAST-MODIFIED:20230605T195453Z
UID:10001425-1686844800-1686850200@cob.org
SUMMARY:Sehome Hill Arboretum Board of Governors Meeting
DESCRIPTION:Every month on the Third Thu\, until November 16th. \n\n\n\n\nSeptember 21\, 2023 at 4:00pm\n\n\n\nOctober 19\, 2023 at 4:00pm\n\n\n\nNovember 16\, 2023 at 4:00pm\n\n\n\n\nJoin from a PC\, Mac\, iPad\, iPhone or Android device: \n\n\n\nYour Personal Meeting Link: https://cob.zoom.us/j/86561840413?pwd=NFRVSDFiTExXOHVFdTdMOXJ2a013UT09 \n\n\n\nMeeting ID: 865 6184 0413Password: 511360 \n\n\n\nOr join by phone:Dial (for higher quality\, dial a number based on your current location):+1 253 215 8782     +1 669 900 6833     +1 346 248 7799     +1 929 205 6099     +1 301 715 8592     +1 312 626 6799 \n\n\n\nNote: If joining by phone only you can raise your hand by entering *9 on your phone keypad. You can use *6 to mute and un-mute yourself if your phone does not have built it mic muting.
URL:https://cob.org/event/sehome-hill-arboretum-board-of-governors-meeting-10
CATEGORIES:Boards and Commissions,Sehome Hill Arboretum,Sehome Hill Arboretum Board of Governors
ATTACH;FMTTYPE=image/jpeg:https://cob.org/wp-content/uploads/p001000.JPG
END:VEVENT
BEGIN:VEVENT
DTSTART;TZID=America/Vancouver:20230518T160000
DTEND;TZID=America/Vancouver:20230518T173000
DTSTAMP:20231104T232441
CREATED:20230223T222142Z
LAST-MODIFIED:20230223T222145Z
UID:10001333-1684425600-1684431000@cob.org
SUMMARY:Sehome Hill Arboretum Board of Governors Meeting
DESCRIPTION:Every month on the Third Thu\, until November 16th. \n\n\n\n\nSeptember 21\, 2023 at 4:00pm\n\n\n\nOctober 19\, 2023 at 4:00pm\n\n\n\nNovember 16\, 2023 at 4:00pm\n\n\n\n\nJoin from a PC\, Mac\, iPad\, iPhone or Android device: \n\n\n\nYour Personal Meeting Link: https://cob.zoom.us/j/86561840413?pwd=NFRVSDFiTExXOHVFdTdMOXJ2a013UT09 \n\n\n\nMeeting ID: 865 6184 0413Password: 511360 \n\n\n\nOr join by phone:Dial (for higher quality\, dial a number based on your current location):+1 253 215 8782     +1 669 900 6833     +1 346 248 7799     +1 929 205 6099     +1 301 715 8592     +1 312 626 6799 \n\n\n\nNote: If joining by phone only you can raise your hand by entering *9 on your phone keypad. You can use *6 to mute and un-mute yourself if your phone does not have built it mic muting.
URL:https://cob.org/event/sehome-hill-arboretum-board-of-governors-meeting-6
CATEGORIES:Boards and Commissions,Sehome Hill Arboretum,Sehome Hill Arboretum Board of Governors
ATTACH;FMTTYPE=image/jpeg:https://cob.org/wp-content/uploads/p001000.JPG
END:VEVENT
BEGIN:VEVENT
DTSTART;TZID=America/Vancouver:20230420T040000
DTEND;TZID=America/Vancouver:20230420T173000
DTSTAMP:20231104T232441
CREATED:20230223T221758Z
LAST-MODIFIED:20230223T221802Z
UID:10001332-1681963200-1682011800@cob.org
SUMMARY:Sehome Hill Arboretum Board of Governors Meeting
DESCRIPTION:Every month on the Third Thu\, until November 16th. \n\n\n\n\nMay 18\, 2023 at 4:00pm\n\n\n\nSeptember 21\, 2023 at 4:00pm\n\n\n\nOctober 19\, 2023 at 4:00pm\n\n\n\nNovember 16\, 2023 at 4:00pm\n\n\n\n\nJoin from a PC\, Mac\, iPad\, iPhone or Android device: \n\n\n\nYour Personal Meeting Link: https://cob.zoom.us/j/86561840413?pwd=NFRVSDFiTExXOHVFdTdMOXJ2a013UT09 \n\n\n\nMeeting ID: 865 6184 0413Password: 511360 \n\n\n\nOr join by phone:Dial (for higher quality\, dial a number based on your current location):+1 253 215 8782     +1 669 900 6833     +1 346 248 7799     +1 929 205 6099     +1 301 715 8592     +1 312 626 6799 \n\n\n\nNote: If joining by phone only you can raise your hand by entering *9 on your phone keypad. You can use *6 to mute and un-mute yourself if your phone does not have built it mic muting.
URL:https://cob.org/event/sehome-hill-arboretum-board-of-governors-meeting-5
CATEGORIES:Boards and Commissions,Sehome Hill Arboretum,Sehome Hill Arboretum Board of Governors
ATTACH;FMTTYPE=image/jpeg:https://cob.org/wp-content/uploads/p001000.JPG
END:VEVENT
BEGIN:VEVENT
DTSTART;TZID=America/Vancouver:20230316T160000
DTEND;TZID=America/Vancouver:20230316T173000
DTSTAMP:20231104T232441
CREATED:20230223T220802Z
LAST-MODIFIED:20230223T220807Z
UID:10001331-1678982400-1678987800@cob.org
SUMMARY:Sehome Hill Arboretum Board of Governors Meeting
DESCRIPTION:Every month on the Third Thu\, until November 16th. \n\n\n\n\nApril 20\, 2023 at 4:00pm\n\n\n\nMay 18\, 2023 at 4:00pm\n\n\n\nSeptember 21\, 2023 at 4:00pm\n\n\n\nOctober 19\, 2023 at 4:00pm\n\n\n\nNovember 16\, 2023 at 4:00pm\n\n\n\n\nJoin from a PC\, Mac\, iPad\, iPhone or Android device: \n\n\n\nYour Personal Meeting Link: https://cob.zoom.us/j/86561840413?pwd=NFRVSDFiTExXOHVFdTdMOXJ2a013UT09 \n\n\n\nMeeting ID: 865 6184 0413Password: 511360 \n\n\n\nOr join by phone:Dial (for higher quality\, dial a number based on your current location):+1 253 215 8782     +1 669 900 6833     +1 346 248 7799     +1 929 205 6099     +1 301 715 8592     +1 312 626 6799 \n\n\n\nNote: If joining by phone only you can raise your hand by entering *9 on your phone keypad. You can use *6 to mute and un-mute yourself if your phone does not have built it mic muting.
URL:https://cob.org/event/sehome-hill-arboretum-board-of-governors-meeting-2
CATEGORIES:Boards and Commissions,Sehome Hill Arboretum,Sehome Hill Arboretum Board of Governors
ATTACH;FMTTYPE=image/jpeg:https://cob.org/wp-content/uploads/p001000.JPG
END:VEVENT
BEGIN:VEVENT
DTSTART;TZID=America/Vancouver:20230216T160000
DTEND;TZID=America/Vancouver:20230216T173000
DTSTAMP:20231104T232441
CREATED:20230215T214908Z
LAST-MODIFIED:20230223T220852Z
UID:10001330-1676563200-1676568600@cob.org
SUMMARY:Sehome Hill Arboretum Board of Governors Meeting
DESCRIPTION:Every month on the Third Thu\, until November 16th.  \n\n\n\n\nMarch 16\, 2023 at 4:00pm\n\n\n\nApril 20\, 2023 at 4:00pm\n\n\n\nMay 18\, 2023 at 4:00pm\n\n\n\nSeptember 21\, 2023 at 4:00pm\n\n\n\nOctober 19\, 2023 at 4:00pm\n\n\n\nNovember 16\, 2023 at 4:00pm\n\n\n\n\nJoin from a PC\, Mac\, iPad\, iPhone or Android device: \n\n\n\nYour Personal Meeting Link: https://cob.zoom.us/j/86561840413?pwd=NFRVSDFiTExXOHVFdTdMOXJ2a013UT09 \n\n\n\nMeeting ID: 865 6184 0413Password: 511360 \n\n\n\nOr join by phone: Dial (for higher quality\, dial a number based on your current location):+1 253 215 8782     +1 669 900 6833      +1 346 248 7799     +1 929 205 6099     +1 301 715 8592     +1 312 626 6799 \n\n\n\nNote: If joining by phone only you can raise your hand by entering *9 on your phone keypad. You can use *6 to mute and un-mute yourself if your phone does not have built it mic muting.
URL:https://cob.org/event/sehome-hill-arboretum-board-of-governors-meeting
LOCATION:Cornwall Conference Room\, 210 Lottie St - 2nd Floor (Parks Admin)\, Bellingham\, Washington\, 98225\, United States
CATEGORIES:Boards and Commissions,Sehome Hill Arboretum,Sehome Hill Arboretum Board of Governors
ATTACH;FMTTYPE=image/jpeg:https://cob.org/wp-content/uploads/p001000.JPG
GEO:48.7552397;-122.4789188
X-APPLE-STRUCTURED-LOCATION;VALUE=URI;X-ADDRESS=Cornwall Conference Room 210 Lottie St - 2nd Floor (Parks Admin) Bellingham Washington 98225 United States;X-APPLE-RADIUS=500;X-TITLE=210 Lottie St - 2nd Floor (Parks Admin):geo:-122.4789188,48.7552397
END:VEVENT
BEGIN:VEVENT
DTSTART;TZID=America/Vancouver:20221117T160000
DTEND;TZID=America/Vancouver:20221117T173000
DTSTAMP:20231104T232441
CREATED:20220113T203455Z
LAST-MODIFIED:20220909T223803Z
UID:10000995-1668700800-1668706200@cob.org
SUMMARY:Sehome Hill Arboretum Board of Governors Meeting
DESCRIPTION:Every month on the Third Thu\, until Nov 17\, 2022\, 3 occurrence(s)Sep 15\, 2022 04:00 PMOct 20\, 2022 04:00 PMNov 17\, 2022 04:00 PMPlease download and import the following iCalendar (.ics) files to your calendar system.Monthly: https://cob.zoom.us/webinar/tZ0pcuyspzMvGtwAzNptF98sDlAdx3fl8h56/ics?icsToken=98tyKuGhqj4vHt2dtRmPRpx5Bo_4Z-jxmFxYjbdKvQXLEzR1O1vlEu5jNqosFtSITopic: Sehome Hill Arboretum Board of Governors \n\n\n\nPlease click the link below to join the meeting: \n\n\n\nhttps://cob.zoom.us/j/89455498508?pwd=ZU1QVm9qMlRTVWFVZlMrclV6VTM1Zz09 \n\n\n\nCity of Bellingham Webinar InstructionsMeeting ID: 894 5549 8508Password: 454077If you have never used Zoom before you can download the zoom application before the meeting begins here: zoom.us/downloadYou can also test your connection here: zoom.us/test \n\n\n\nOr Telephone:Dial(for higher quality\, dial a number based on your current location):   +1 253 215 8782   +1 346 248 7799   +1 669 900 6833   +1 312 626 6799   +1 929 205 6099   +1 301 715 8592Meeting ID: 894 5549 8508Password: 454077
URL:https://cob.org/event/sehome-hill-arboretum-board-of-governors-meeting-4/2022-11-17
LOCATION:Online via Zoom\, Bellingham\, Washington\, 98225
CATEGORIES:Sehome Hill Arboretum Board of Governors
ATTACH;FMTTYPE=image/jpeg:https://cob.org/wp-content/uploads/p001000.JPG
END:VEVENT
BEGIN:VEVENT
DTSTART;TZID=America/Vancouver:20221020T160000
DTEND;TZID=America/Vancouver:20221020T173000
DTSTAMP:20231104T232441
CREATED:20220113T203455Z
LAST-MODIFIED:20220909T223803Z
UID:10000994-1666281600-1666287000@cob.org
SUMMARY:Sehome Hill Arboretum Board of Governors Meeting
DESCRIPTION:Every month on the Third Thu\, until Nov 17\, 2022\, 3 occurrence(s)Sep 15\, 2022 04:00 PMOct 20\, 2022 04:00 PMNov 17\, 2022 04:00 PMPlease download and import the following iCalendar (.ics) files to your calendar system.Monthly: https://cob.zoom.us/webinar/tZ0pcuyspzMvGtwAzNptF98sDlAdx3fl8h56/ics?icsToken=98tyKuGhqj4vHt2dtRmPRpx5Bo_4Z-jxmFxYjbdKvQXLEzR1O1vlEu5jNqosFtSITopic: Sehome Hill Arboretum Board of Governors \n\n\n\nPlease click the link below to join the meeting: \n\n\n\nhttps://cob.zoom.us/j/89455498508?pwd=ZU1QVm9qMlRTVWFVZlMrclV6VTM1Zz09 \n\n\n\nCity of Bellingham Webinar InstructionsMeeting ID: 894 5549 8508Password: 454077If you have never used Zoom before you can download the zoom application before the meeting begins here: zoom.us/downloadYou can also test your connection here: zoom.us/test \n\n\n\nOr Telephone:Dial(for higher quality\, dial a number based on your current location):   +1 253 215 8782   +1 346 248 7799   +1 669 900 6833   +1 312 626 6799   +1 929 205 6099   +1 301 715 8592Meeting ID: 894 5549 8508Password: 454077
URL:https://cob.org/event/sehome-hill-arboretum-board-of-governors-meeting-4/2022-10-20
LOCATION:Online via Zoom\, Bellingham\, Washington\, 98225
CATEGORIES:Sehome Hill Arboretum Board of Governors
ATTACH;FMTTYPE=image/jpeg:https://cob.org/wp-content/uploads/p001000.JPG
END:VEVENT
BEGIN:VEVENT
DTSTART;TZID=America/Vancouver:20220915T160000
DTEND;TZID=America/Vancouver:20220915T173000
DTSTAMP:20231104T232441
CREATED:20220113T203455Z
LAST-MODIFIED:20220909T223803Z
UID:10000993-1663257600-1663263000@cob.org
SUMMARY:Sehome Hill Arboretum Board of Governors Meeting
DESCRIPTION:Every month on the Third Thu\, until Nov 17\, 2022\, 3 occurrence(s)Sep 15\, 2022 04:00 PMOct 20\, 2022 04:00 PMNov 17\, 2022 04:00 PMPlease download and import the following iCalendar (.ics) files to your calendar system.Monthly: https://cob.zoom.us/webinar/tZ0pcuyspzMvGtwAzNptF98sDlAdx3fl8h56/ics?icsToken=98tyKuGhqj4vHt2dtRmPRpx5Bo_4Z-jxmFxYjbdKvQXLEzR1O1vlEu5jNqosFtSITopic: Sehome Hill Arboretum Board of Governors \n\n\n\nPlease click the link below to join the meeting: \n\n\n\nhttps://cob.zoom.us/j/89455498508?pwd=ZU1QVm9qMlRTVWFVZlMrclV6VTM1Zz09 \n\n\n\nCity of Bellingham Webinar InstructionsMeeting ID: 894 5549 8508Password: 454077If you have never used Zoom before you can download the zoom application before the meeting begins here: zoom.us/downloadYou can also test your connection here: zoom.us/test \n\n\n\nOr Telephone:Dial(for higher quality\, dial a number based on your current location):   +1 253 215 8782   +1 346 248 7799   +1 669 900 6833   +1 312 626 6799   +1 929 205 6099   +1 301 715 8592Meeting ID: 894 5549 8508Password: 454077
URL:https://cob.org/event/sehome-hill-arboretum-board-of-governors-meeting-4/2022-09-15
LOCATION:Online via Zoom\, Bellingham\, Washington\, 98225
CATEGORIES:Sehome Hill Arboretum Board of Governors
ATTACH;FMTTYPE=image/jpeg:https://cob.org/wp-content/uploads/p001000.JPG
END:VEVENT
END:VCALENDAR