BEGIN:VCALENDAR
VERSION:2.0
PRODID:-//City of Bellingham - ECPv6.2.5//NONSGML v1.0//EN
CALSCALE:GREGORIAN
METHOD:PUBLISH
X-WR-CALNAME:City of Bellingham
X-ORIGINAL-URL:https://cob.org
X-WR-CALDESC:Events for City of Bellingham
REFRESH-INTERVAL;VALUE=DURATION:PT1H
X-Robots-Tag:noindex
X-PUBLISHED-TTL:PT1H
BEGIN:VTIMEZONE
TZID:America/Vancouver
BEGIN:DAYLIGHT
TZOFFSETFROM:-0800
TZOFFSETTO:-0700
TZNAME:PDT
DTSTART:20240310T100000
END:DAYLIGHT
BEGIN:STANDARD
TZOFFSETFROM:-0700
TZOFFSETTO:-0800
TZNAME:PST
DTSTART:20241103T090000
END:STANDARD
END:VTIMEZONE
BEGIN:VEVENT
DTSTART;TZID=America/Vancouver:20240116T173000
DTEND;TZID=America/Vancouver:20240116T193000
DTSTAMP:20231105T012959
CREATED:20200610T201541Z
LAST-MODIFIED:20230714T182906Z
UID:10001703-1705426200-1705433400@cob.org
SUMMARY:Sister Cities Advisory Board Meeting
DESCRIPTION:The Sister Cities Advisory Board advises the Mayor and all involved city departments concerning the establishment and maintenance of sister city relationships between the City of Bellingham and cities of other countries. Meetings are held on the third Tuesday of each month at 5:30 p.m. in person as well as online via Zoom. Please see the Bellingham Sister Cities Association page or email sistercities@cob.org for more information. \n\n\n\nSee the Meeting Materials page for agendas and minutes. \n\n\n\nThe meeting will be held in person in the Mayor’s Board Room in City Hall at 210 Lottie St. There will also be the option to join remotely through an online web-based meeting platform\, with an option to call in by telephone. The meeting is open to the public. \n\n\n\nAppointed Board members of the Sister Cities Advisory Board: \n\n\n\n·       You will receive a personal invitation via email to participate as a panelist using Zoom. \n\n\n\n·       Follow the instructions included in your email invitation. \n\n\n\nParticipation / Attendance by Members of the Public \n\n\n\nParticipate by Zoom \n\n\n\nMembers of the public can join the meeting as an “attendee” by signing on at: \n\n\n\nhttps://cob.zoom.us/j/93515563881?pwd=b1Q2N21xaFFtZEt5NVh2blJYbDdSdz09 \n\n\n\nMeeting ID: 935 1556 3881                      Password: 175808 \n\n\n\nCity of Bellingham Webinar InstructionsIf you have never used Zoom before you can download the zoom application before the meeting begins here: zoom.us/download \n\n\n\nParticipate by Telephone:For anyone (appointed Board members and members of the public) who wish to participate by telephone\, dial any of the numbers below to join the meeting. \n\n\n\n(253) 215 8782  (346) 248 7799  (669) 900 6833      (312) 626 6799 \n\n\n\n(929) 205 6099  (301) 715 8592  \n\n\n\nWhen prompted use Meeting ID:  935 1556 3881    Password: 175808
URL:https://cob.org/event/bellingham-sister-cities-association-meeting-2021-01-19/2024-01-16
LOCATION:City Hall\, 210 Lottie Street\, Bellingham
CATEGORIES:Boards and Commissions,Sister Cities Advisory Board
ATTACH;FMTTYPE=image/jpeg:https://cob.org/wp-content/uploads/sister-cities-meetings.jpg
END:VEVENT
END:VCALENDAR