BEGIN:VCALENDAR
VERSION:2.0
PRODID:-//City of Bellingham - ECPv6.15.18//NONSGML v1.0//EN
CALSCALE:GREGORIAN
METHOD:PUBLISH
X-WR-CALNAME:City of Bellingham
X-ORIGINAL-URL:https://cob.org
X-WR-CALDESC:Events for City of Bellingham
REFRESH-INTERVAL;VALUE=DURATION:PT1H
X-Robots-Tag:noindex
X-PUBLISHED-TTL:PT1H
BEGIN:VTIMEZONE
TZID:America/Vancouver
BEGIN:DAYLIGHT
TZOFFSETFROM:-0800
TZOFFSETTO:-0700
TZNAME:PDT
DTSTART:20230312T100000
END:DAYLIGHT
BEGIN:STANDARD
TZOFFSETFROM:-0700
TZOFFSETTO:-0800
TZNAME:PST
DTSTART:20231105T090000
END:STANDARD
BEGIN:DAYLIGHT
TZOFFSETFROM:-0800
TZOFFSETTO:-0700
TZNAME:PDT
DTSTART:20240310T100000
END:DAYLIGHT
BEGIN:STANDARD
TZOFFSETFROM:-0700
TZOFFSETTO:-0800
TZNAME:PST
DTSTART:20241103T090000
END:STANDARD
BEGIN:DAYLIGHT
TZOFFSETFROM:-0800
TZOFFSETTO:-0700
TZNAME:PDT
DTSTART:20250309T100000
END:DAYLIGHT
BEGIN:STANDARD
TZOFFSETFROM:-0700
TZOFFSETTO:-0800
TZNAME:PST
DTSTART:20251102T090000
END:STANDARD
BEGIN:DAYLIGHT
TZOFFSETFROM:-0800
TZOFFSETTO:-0700
TZNAME:PDT
DTSTART:20260308T100000
END:DAYLIGHT
BEGIN:STANDARD
TZOFFSETFROM:-0700
TZOFFSETTO:-0800
TZNAME:PST
DTSTART:20261101T090000
END:STANDARD
BEGIN:DAYLIGHT
TZOFFSETFROM:-0800
TZOFFSETTO:-0700
TZNAME:PDT
DTSTART:20270314T100000
END:DAYLIGHT
BEGIN:STANDARD
TZOFFSETFROM:-0700
TZOFFSETTO:-0800
TZNAME:PST
DTSTART:20271107T090000
END:STANDARD
BEGIN:DAYLIGHT
TZOFFSETFROM:-0800
TZOFFSETTO:-0700
TZNAME:PDT
DTSTART:20280312T100000
END:DAYLIGHT
BEGIN:STANDARD
TZOFFSETFROM:-0700
TZOFFSETTO:-0800
TZNAME:PST
DTSTART:20281105T090000
END:STANDARD
BEGIN:DAYLIGHT
TZOFFSETFROM:-0800
TZOFFSETTO:-0700
TZNAME:PDT
DTSTART:20290311T100000
END:DAYLIGHT
BEGIN:STANDARD
TZOFFSETFROM:-0700
TZOFFSETTO:-0800
TZNAME:PST
DTSTART:20291104T090000
END:STANDARD
END:VTIMEZONE
BEGIN:VEVENT
DTSTART;TZID=America/Vancouver:20240530T130000
DTEND;TZID=America/Vancouver:20240530T150000
DTSTAMP:20260421T190248
CREATED:20200820T194834Z
LAST-MODIFIED:20260114T161635Z
UID:10002443-1717074000-1717081200@cob.org
SUMMARY:What-Comm Administrative Board Meeting
DESCRIPTION:The WHAT-COMM Administrative Board meeting will be conducted in a hybrid setting. The public may attend in person or via remote access. \n\n\n\n See the WHAT-COMM Administrative Board page for more information and meeting materials. \n\n\n\nThe public may attend online via the Zoom meeting link button \n\n\n\nJoin Zoom Meeting\n\n\n\n \n\n\n\nOr in person at the meeting location:625 Halleck St\, BellinghamThe meeting room is on the West side of the building\, downstairs.There is a wheelchair accessible ramp. \n\n\n\nGeneral comments can be presented to the Administrative Board in advance:by mail620 Alabama Street\, Bellingham\, WA 98225by telephone360-778-8902Or comments may be made in person at the meeting location\, during the public comment period.
URL:https://cob.org/event/what-comm-administrative-board-meeting/2024-05-30
LOCATION:Online via Zoom\, Bellingham\, Washington\, 98225
CATEGORIES:What-Comm Administrative Board
ATTACH;FMTTYPE=image/png:https://cob.org/wp-content/uploads/what-comm-logo-1.png
END:VEVENT
BEGIN:VEVENT
DTSTART;TZID=America/Vancouver:20240926T130000
DTEND;TZID=America/Vancouver:20240926T150000
DTSTAMP:20260421T190248
CREATED:20200820T194834Z
LAST-MODIFIED:20260114T161635Z
UID:10002444-1727355600-1727362800@cob.org
SUMMARY:What-Comm Administrative Board Meeting
DESCRIPTION:The WHAT-COMM Administrative Board meeting will be conducted in a hybrid setting. The public may attend in person or via remote access. \n\n\n\n See the WHAT-COMM Administrative Board page for more information and meeting materials. \n\n\n\nThe public may attend online via the Zoom meeting link button \n\n\n\nJoin Zoom Meeting\n\n\n\n \n\n\n\nOr in person at the meeting location:625 Halleck St\, BellinghamThe meeting room is on the West side of the building\, downstairs.There is a wheelchair accessible ramp. \n\n\n\nGeneral comments can be presented to the Administrative Board in advance:by mail620 Alabama Street\, Bellingham\, WA 98225by telephone360-778-8902Or comments may be made in person at the meeting location\, during the public comment period.
URL:https://cob.org/event/what-comm-administrative-board-meeting/2024-09-26
LOCATION:Online via Zoom\, Bellingham\, Washington\, 98225
CATEGORIES:What-Comm Administrative Board
ATTACH;FMTTYPE=image/png:https://cob.org/wp-content/uploads/what-comm-logo-1.png
END:VEVENT
BEGIN:VEVENT
DTSTART;TZID=America/Vancouver:20250130T130000
DTEND;TZID=America/Vancouver:20250130T150000
DTSTAMP:20260421T190248
CREATED:20200820T194834Z
LAST-MODIFIED:20260114T161635Z
UID:10003524-1738242000-1738249200@cob.org
SUMMARY:What-Comm Administrative Board Meeting
DESCRIPTION:The WHAT-COMM Administrative Board meeting will be conducted in a hybrid setting. The public may attend in person or via remote access. \n\n\n\n See the WHAT-COMM Administrative Board page for more information and meeting materials. \n\n\n\nThe public may attend online via the Zoom meeting link button \n\n\n\nJoin Zoom Meeting\n\n\n\n \n\n\n\nOr in person at the meeting location:625 Halleck St\, BellinghamThe meeting room is on the West side of the building\, downstairs.There is a wheelchair accessible ramp. \n\n\n\nGeneral comments can be presented to the Administrative Board in advance:by mail620 Alabama Street\, Bellingham\, WA 98225by telephone360-778-8902Or comments may be made in person at the meeting location\, during the public comment period.
URL:https://cob.org/event/what-comm-administrative-board-meeting/2025-01-30
LOCATION:Online via Zoom\, Bellingham\, Washington\, 98225
CATEGORIES:What-Comm Administrative Board
ATTACH;FMTTYPE=image/png:https://cob.org/wp-content/uploads/what-comm-logo-1.png
END:VEVENT
BEGIN:VEVENT
DTSTART;TZID=America/Vancouver:20250529T130000
DTEND;TZID=America/Vancouver:20250529T150000
DTSTAMP:20260421T190249
CREATED:20200820T194834Z
LAST-MODIFIED:20260114T161635Z
UID:10003525-1748523600-1748530800@cob.org
SUMMARY:What-Comm Administrative Board Meeting
DESCRIPTION:The WHAT-COMM Administrative Board meeting will be conducted in a hybrid setting. The public may attend in person or via remote access. \n\n\n\n See the WHAT-COMM Administrative Board page for more information and meeting materials. \n\n\n\nThe public may attend online via the Zoom meeting link button \n\n\n\nJoin Zoom Meeting\n\n\n\n \n\n\n\nOr in person at the meeting location:625 Halleck St\, BellinghamThe meeting room is on the West side of the building\, downstairs.There is a wheelchair accessible ramp. \n\n\n\nGeneral comments can be presented to the Administrative Board in advance:by mail620 Alabama Street\, Bellingham\, WA 98225by telephone360-778-8902Or comments may be made in person at the meeting location\, during the public comment period.
URL:https://cob.org/event/what-comm-administrative-board-meeting/2025-05-29
LOCATION:Online via Zoom\, Bellingham\, Washington\, 98225
CATEGORIES:What-Comm Administrative Board
ATTACH;FMTTYPE=image/png:https://cob.org/wp-content/uploads/what-comm-logo-1.png
END:VEVENT
BEGIN:VEVENT
DTSTART;TZID=America/Vancouver:20250925T130000
DTEND;TZID=America/Vancouver:20250925T150000
DTSTAMP:20260421T190249
CREATED:20200820T194834Z
LAST-MODIFIED:20260114T161635Z
UID:10003526-1758805200-1758812400@cob.org
SUMMARY:What-Comm Administrative Board Meeting
DESCRIPTION:The WHAT-COMM Administrative Board meeting will be conducted in a hybrid setting. The public may attend in person or via remote access. \n\n\n\n See the WHAT-COMM Administrative Board page for more information and meeting materials. \n\n\n\nThe public may attend online via the Zoom meeting link button \n\n\n\nJoin Zoom Meeting\n\n\n\n \n\n\n\nOr in person at the meeting location:625 Halleck St\, BellinghamThe meeting room is on the West side of the building\, downstairs.There is a wheelchair accessible ramp. \n\n\n\nGeneral comments can be presented to the Administrative Board in advance:by mail620 Alabama Street\, Bellingham\, WA 98225by telephone360-778-8902Or comments may be made in person at the meeting location\, during the public comment period.
URL:https://cob.org/event/what-comm-administrative-board-meeting/2025-09-25
LOCATION:Online via Zoom\, Bellingham\, Washington\, 98225
CATEGORIES:What-Comm Administrative Board
ATTACH;FMTTYPE=image/png:https://cob.org/wp-content/uploads/what-comm-logo-1.png
END:VEVENT
BEGIN:VEVENT
DTSTART;TZID=America/Vancouver:20260129T130000
DTEND;TZID=America/Vancouver:20260129T150000
DTSTAMP:20260421T190249
CREATED:20200820T194834Z
LAST-MODIFIED:20260114T161635Z
UID:10005166-1769691600-1769698800@cob.org
SUMMARY:What-Comm Administrative Board Meeting
DESCRIPTION:The WHAT-COMM Administrative Board meeting will be conducted in a hybrid setting. The public may attend in person or via remote access. \n\n\n\n See the WHAT-COMM Administrative Board page for more information and meeting materials. \n\n\n\nThe public may attend online via the Zoom meeting link button \n\n\n\nJoin Zoom Meeting\n\n\n\n \n\n\n\nOr in person at the meeting location:625 Halleck St\, BellinghamThe meeting room is on the West side of the building\, downstairs.There is a wheelchair accessible ramp. \n\n\n\nGeneral comments can be presented to the Administrative Board in advance:by mail620 Alabama Street\, Bellingham\, WA 98225by telephone360-778-8902Or comments may be made in person at the meeting location\, during the public comment period.
URL:https://cob.org/event/what-comm-administrative-board-meeting/2026-01-29
LOCATION:Online via Zoom\, Bellingham\, Washington\, 98225
CATEGORIES:What-Comm Administrative Board
ATTACH;FMTTYPE=image/png:https://cob.org/wp-content/uploads/what-comm-logo-1.png
END:VEVENT
BEGIN:VEVENT
DTSTART;TZID=America/Vancouver:20260528T130000
DTEND;TZID=America/Vancouver:20260528T150000
DTSTAMP:20260421T190249
CREATED:20200820T194834Z
LAST-MODIFIED:20260114T161635Z
UID:10005167-1779973200-1779980400@cob.org
SUMMARY:What-Comm Administrative Board Meeting
DESCRIPTION:The WHAT-COMM Administrative Board meeting will be conducted in a hybrid setting. The public may attend in person or via remote access. \n\n\n\n See the WHAT-COMM Administrative Board page for more information and meeting materials. \n\n\n\nThe public may attend online via the Zoom meeting link button \n\n\n\nJoin Zoom Meeting\n\n\n\n \n\n\n\nOr in person at the meeting location:625 Halleck St\, BellinghamThe meeting room is on the West side of the building\, downstairs.There is a wheelchair accessible ramp. \n\n\n\nGeneral comments can be presented to the Administrative Board in advance:by mail620 Alabama Street\, Bellingham\, WA 98225by telephone360-778-8902Or comments may be made in person at the meeting location\, during the public comment period.
URL:https://cob.org/event/what-comm-administrative-board-meeting/2026-05-28
LOCATION:Online via Zoom\, Bellingham\, Washington\, 98225
CATEGORIES:What-Comm Administrative Board
ATTACH;FMTTYPE=image/png:https://cob.org/wp-content/uploads/what-comm-logo-1.png
END:VEVENT
BEGIN:VEVENT
DTSTART;TZID=America/Vancouver:20260924T130000
DTEND;TZID=America/Vancouver:20260924T150000
DTSTAMP:20260421T190249
CREATED:20200820T194834Z
LAST-MODIFIED:20260114T161635Z
UID:10005168-1790254800-1790262000@cob.org
SUMMARY:What-Comm Administrative Board Meeting
DESCRIPTION:The WHAT-COMM Administrative Board meeting will be conducted in a hybrid setting. The public may attend in person or via remote access. \n\n\n\n See the WHAT-COMM Administrative Board page for more information and meeting materials. \n\n\n\nThe public may attend online via the Zoom meeting link button \n\n\n\nJoin Zoom Meeting\n\n\n\n \n\n\n\nOr in person at the meeting location:625 Halleck St\, BellinghamThe meeting room is on the West side of the building\, downstairs.There is a wheelchair accessible ramp. \n\n\n\nGeneral comments can be presented to the Administrative Board in advance:by mail620 Alabama Street\, Bellingham\, WA 98225by telephone360-778-8902Or comments may be made in person at the meeting location\, during the public comment period.
URL:https://cob.org/event/what-comm-administrative-board-meeting/2026-09-24
LOCATION:Online via Zoom\, Bellingham\, Washington\, 98225
CATEGORIES:What-Comm Administrative Board
ATTACH;FMTTYPE=image/png:https://cob.org/wp-content/uploads/what-comm-logo-1.png
END:VEVENT
BEGIN:VEVENT
DTSTART;TZID=America/Vancouver:20260930T130000
DTEND;TZID=America/Vancouver:20260930T150000
DTSTAMP:20260421T190249
CREATED:20200820T194834Z
LAST-MODIFIED:20260114T161635Z
UID:10005169-1790773200-1790780400@cob.org
SUMMARY:What-Comm Administrative Board Meeting
DESCRIPTION:The WHAT-COMM Administrative Board meeting will be conducted in a hybrid setting. The public may attend in person or via remote access. \n\n\n\n See the WHAT-COMM Administrative Board page for more information and meeting materials. \n\n\n\nThe public may attend online via the Zoom meeting link button \n\n\n\nJoin Zoom Meeting\n\n\n\n \n\n\n\nOr in person at the meeting location:625 Halleck St\, BellinghamThe meeting room is on the West side of the building\, downstairs.There is a wheelchair accessible ramp. \n\n\n\nGeneral comments can be presented to the Administrative Board in advance:by mail620 Alabama Street\, Bellingham\, WA 98225by telephone360-778-8902Or comments may be made in person at the meeting location\, during the public comment period.
URL:https://cob.org/event/what-comm-administrative-board-meeting/2026-09-30
LOCATION:Online via Zoom\, Bellingham\, Washington\, 98225
CATEGORIES:What-Comm Administrative Board
ATTACH;FMTTYPE=image/png:https://cob.org/wp-content/uploads/what-comm-logo-1.png
END:VEVENT
BEGIN:VEVENT
DTSTART;TZID=America/Vancouver:20270128T130000
DTEND;TZID=America/Vancouver:20270128T150000
DTSTAMP:20260421T190249
CREATED:20200820T194834Z
LAST-MODIFIED:20260114T161635Z
UID:10005170-1801141200-1801148400@cob.org
SUMMARY:What-Comm Administrative Board Meeting
DESCRIPTION:The WHAT-COMM Administrative Board meeting will be conducted in a hybrid setting. The public may attend in person or via remote access. \n\n\n\n See the WHAT-COMM Administrative Board page for more information and meeting materials. \n\n\n\nThe public may attend online via the Zoom meeting link button \n\n\n\nJoin Zoom Meeting\n\n\n\n \n\n\n\nOr in person at the meeting location:625 Halleck St\, BellinghamThe meeting room is on the West side of the building\, downstairs.There is a wheelchair accessible ramp. \n\n\n\nGeneral comments can be presented to the Administrative Board in advance:by mail620 Alabama Street\, Bellingham\, WA 98225by telephone360-778-8902Or comments may be made in person at the meeting location\, during the public comment period.
URL:https://cob.org/event/what-comm-administrative-board-meeting/2027-01-28
LOCATION:Online via Zoom\, Bellingham\, Washington\, 98225
CATEGORIES:What-Comm Administrative Board
ATTACH;FMTTYPE=image/png:https://cob.org/wp-content/uploads/what-comm-logo-1.png
END:VEVENT
BEGIN:VEVENT
DTSTART;TZID=America/Vancouver:20270527T130000
DTEND;TZID=America/Vancouver:20270527T150000
DTSTAMP:20260421T190249
CREATED:20200820T194834Z
LAST-MODIFIED:20260114T161635Z
UID:10005171-1811422800-1811430000@cob.org
SUMMARY:What-Comm Administrative Board Meeting
DESCRIPTION:The WHAT-COMM Administrative Board meeting will be conducted in a hybrid setting. The public may attend in person or via remote access. \n\n\n\n See the WHAT-COMM Administrative Board page for more information and meeting materials. \n\n\n\nThe public may attend online via the Zoom meeting link button \n\n\n\nJoin Zoom Meeting\n\n\n\n \n\n\n\nOr in person at the meeting location:625 Halleck St\, BellinghamThe meeting room is on the West side of the building\, downstairs.There is a wheelchair accessible ramp. \n\n\n\nGeneral comments can be presented to the Administrative Board in advance:by mail620 Alabama Street\, Bellingham\, WA 98225by telephone360-778-8902Or comments may be made in person at the meeting location\, during the public comment period.
URL:https://cob.org/event/what-comm-administrative-board-meeting/2027-05-27
LOCATION:Online via Zoom\, Bellingham\, Washington\, 98225
CATEGORIES:What-Comm Administrative Board
ATTACH;FMTTYPE=image/png:https://cob.org/wp-content/uploads/what-comm-logo-1.png
END:VEVENT
BEGIN:VEVENT
DTSTART;TZID=America/Vancouver:20280101T130000
DTEND;TZID=America/Vancouver:20280101T150000
DTSTAMP:20260421T190249
CREATED:20200820T194834Z
LAST-MODIFIED:20260114T161635Z
UID:10005172-1830344400-1830351600@cob.org
SUMMARY:What-Comm Administrative Board Meeting
DESCRIPTION:The WHAT-COMM Administrative Board meeting will be conducted in a hybrid setting. The public may attend in person or via remote access. \n\n\n\n See the WHAT-COMM Administrative Board page for more information and meeting materials. \n\n\n\nThe public may attend online via the Zoom meeting link button \n\n\n\nJoin Zoom Meeting\n\n\n\n \n\n\n\nOr in person at the meeting location:625 Halleck St\, BellinghamThe meeting room is on the West side of the building\, downstairs.There is a wheelchair accessible ramp. \n\n\n\nGeneral comments can be presented to the Administrative Board in advance:by mail620 Alabama Street\, Bellingham\, WA 98225by telephone360-778-8902Or comments may be made in person at the meeting location\, during the public comment period.
URL:https://cob.org/event/what-comm-administrative-board-meeting/2028-01-01
LOCATION:Online via Zoom\, Bellingham\, Washington\, 98225
CATEGORIES:What-Comm Administrative Board
ATTACH;FMTTYPE=image/png:https://cob.org/wp-content/uploads/what-comm-logo-1.png
END:VEVENT
END:VCALENDAR