BEGIN:VCALENDAR
VERSION:2.0
PRODID:-//City of Bellingham - ECPv6.2.5//NONSGML v1.0//EN
CALSCALE:GREGORIAN
METHOD:PUBLISH
X-ORIGINAL-URL:https://cob.org
X-WR-CALDESC:Events for City of Bellingham
REFRESH-INTERVAL;VALUE=DURATION:PT1H
X-Robots-Tag:noindex
X-PUBLISHED-TTL:PT1H
BEGIN:VTIMEZONE
TZID:America/Vancouver
BEGIN:DAYLIGHT
TZOFFSETFROM:-0800
TZOFFSETTO:-0700
TZNAME:PDT
DTSTART:20220313T100000
END:DAYLIGHT
BEGIN:STANDARD
TZOFFSETFROM:-0700
TZOFFSETTO:-0800
TZNAME:PST
DTSTART:20221106T090000
END:STANDARD
BEGIN:DAYLIGHT
TZOFFSETFROM:-0800
TZOFFSETTO:-0700
TZNAME:PDT
DTSTART:20230312T100000
END:DAYLIGHT
BEGIN:STANDARD
TZOFFSETFROM:-0700
TZOFFSETTO:-0800
TZNAME:PST
DTSTART:20231105T090000
END:STANDARD
END:VTIMEZONE
BEGIN:VEVENT
DTSTART;TZID=America/Vancouver:20230928T130000
DTEND;TZID=America/Vancouver:20230928T150000
DTSTAMP:20231105T025618
CREATED:20230807T200315Z
LAST-MODIFIED:20230807T200319Z
UID:10001408-1695906000-1695913200@cob.org
SUMMARY:What-Comm Administrative Board Meeting
DESCRIPTION:The WHAT-COMM Administrative Board meeting will be conducted in a hybrid setting: The public may attend in-person or via remote access. \n\n\n\nSee the WHAT-COMM Administrative Board page for more information and meeting materials. \n\n\n\nThe public may attend online via the ZOOM meeting link Or in person at the meeting location:  625 Halleck Street\, BellinghamThe meeting room is on the west side of the building\, downstairs.There is a wheelchair accessible ramp. \n\n\n\nGeneral comments can be presented to the Administrative Board in advance:·by mail620 Alabama Street\, Bellingham\, WA 98225· by telephone360-778-8902Or comments may be made in person at the meeting location\, during the public comment period.
URL:https://cob.org/event/what-comm-administrative-board-meeting-4
LOCATION:Online via Zoom\, Bellingham\, Washington\, 98225
CATEGORIES:What-Comm Administrative Board
ATTACH;FMTTYPE=image/png:https://cob.org/wp-content/uploads/what-comm-logo.png
END:VEVENT
BEGIN:VEVENT
DTSTART;TZID=America/Vancouver:20230601T130000
DTEND;TZID=America/Vancouver:20230601T150000
DTSTAMP:20231105T025618
CREATED:20230512T174839Z
LAST-MODIFIED:20230602T173044Z
UID:10001407-1685624400-1685631600@cob.org
SUMMARY:What-Comm Administrative Board Meeting
DESCRIPTION:The WHAT-COMM Administrative Board meeting will be conducted in a hybrid setting: The public may attend in-person or via remote access. \n\n\n\nSee the WHAT-COMM Administrative Board page for more information and meeting materials. \n\n\n\nThe public may attend online via the ZOOM meeting link Or in person at the meeting location:  625 Halleck Street\, BellinghamThe meeting room is on the west side of the building\, downstairs.There is a wheelchair accessible ramp. \n\n\n\nGeneral comments can be presented to the Administrative Board in advance:·by mail620 Alabama Street\, Bellingham\, WA 98225· by telephone360-778-8902 \n\n\n\nOr comments may be made in person at the meeting location\, during the public comment period.
URL:https://cob.org/event/what-comm-administrative-board-meeting-3
LOCATION:Online via Zoom\, Bellingham\, Washington\, 98225
CATEGORIES:What-Comm Administrative Board
ATTACH;FMTTYPE=image/png:https://cob.org/wp-content/uploads/what-comm-logo.png
END:VEVENT
BEGIN:VEVENT
DTSTART;TZID=America/Vancouver:20230126T130000
DTEND;TZID=America/Vancouver:20230126T150000
DTSTAMP:20231105T025618
CREATED:20200820T194834Z
LAST-MODIFIED:20221202T163641Z
UID:10000813-1674738000-1674745200@cob.org
SUMMARY:What-Comm Administrative Board Meeting
DESCRIPTION:The location of this meeting will be online through Zoom. See the WHAT-COMM Administrative Board page for more information and meeting materials. \n\n\n\nJoin Zoom Meeting
URL:https://cob.org/event/what-comm-administrative-board-meeting/2023-01-26
LOCATION:Online via Zoom\, Bellingham\, Washington\, 98225
CATEGORIES:What-Comm Administrative Board
ATTACH;FMTTYPE=image/png:https://cob.org/wp-content/uploads/what-comm-logo.png
END:VEVENT
BEGIN:VEVENT
DTSTART;TZID=America/Vancouver:20221215T130000
DTEND;TZID=America/Vancouver:20221215T150000
DTSTAMP:20231105T025618
CREATED:20221202T200527Z
LAST-MODIFIED:20230807T200308Z
UID:10001234-1671109200-1671116400@cob.org
SUMMARY:What-Comm Administrative Board Meeting
DESCRIPTION:The WHAT-COMM Administrative Board meeting will be conducted in a hybrid setting: The public may attend in-person or via remote access. \n\n\n\nSee the WHAT-COMM Administrative Board page for more information and meeting materials. \n\n\n\nThe public may attend online via the ZOOM meeting link Or in person at the meeting location:  625 Halleck Street\, BellinghamThe meeting room is on the west side of the building\, downstairs.There is a wheelchair accessible ramp. \n\n\n\nGeneral comments can be presented to the Administrative Board in advance:·by mail620 Alabama Street\, Bellingham\, WA 98225· by telephone360-778-8902Or comments may be made in person at the meeting location\, during the public comment period.
URL:https://cob.org/event/what-comm-administrative-board-meeting-2
LOCATION:Online via Zoom\, Bellingham\, Washington\, 98225
CATEGORIES:What-Comm Administrative Board
ATTACH;FMTTYPE=image/png:https://cob.org/wp-content/uploads/what-comm-logo.png
END:VEVENT
BEGIN:VEVENT
DTSTART;TZID=America/Vancouver:20220127T130000
DTEND;TZID=America/Vancouver:20220127T150000
DTSTAMP:20231105T025618
CREATED:20200820T194834Z
LAST-MODIFIED:20221202T163641Z
UID:10000810-1643288400-1643295600@cob.org
SUMMARY:What-Comm Administrative Board Meeting
DESCRIPTION:The location of this meeting will be online through Zoom. See the WHAT-COMM Administrative Board page for more information and meeting materials. \n\n\n\nJoin Zoom Meeting
URL:https://cob.org/event/what-comm-administrative-board-meeting/2022-01-27
LOCATION:Online via Zoom\, Bellingham\, Washington\, 98225
CATEGORIES:What-Comm Administrative Board
ATTACH;FMTTYPE=image/png:https://cob.org/wp-content/uploads/what-comm-logo.png
END:VEVENT
END:VCALENDAR