BEGIN:VCALENDAR
VERSION:2.0
PRODID:-//City of Bellingham - ECPv6.2.5//NONSGML v1.0//EN
CALSCALE:GREGORIAN
METHOD:PUBLISH
X-ORIGINAL-URL:https://cob.org
X-WR-CALDESC:Events for City of Bellingham
REFRESH-INTERVAL;VALUE=DURATION:PT1H
X-Robots-Tag:noindex
X-PUBLISHED-TTL:PT1H
BEGIN:VTIMEZONE
TZID:America/Vancouver
BEGIN:DAYLIGHT
TZOFFSETFROM:-0800
TZOFFSETTO:-0700
TZNAME:PDT
DTSTART:20230312T100000
END:DAYLIGHT
BEGIN:STANDARD
TZOFFSETFROM:-0700
TZOFFSETTO:-0800
TZNAME:PST
DTSTART:20231105T090000
END:STANDARD
END:VTIMEZONE
BEGIN:VEVENT
DTSTART;TZID=America/Vancouver:20231024T140000
DTEND;TZID=America/Vancouver:20231024T170000
DTSTAMP:20231105T003914
CREATED:20231019T180028Z
LAST-MODIFIED:20231019T180056Z
UID:10001207-1698156000-1698166800@cob.org
SUMMARY:Tourism Commission Meeting *CHECK AGENDA FOR SPECIAL TIME & LOCATION*
DESCRIPTION:The Bellingham Tourism Commission makes recommendations to the City for allocations to local organizations as part of the Tourism Promotion grant program. \n\n\n\nParticipation Options\n\n\n\nMeetings can be attended either in-person (see agenda for specific locations as it changes monthly) or virtually via Zoom Webinar (Meeting ID: 926 3348 0860  / Password: 9). \n\n\n\n\nThe meeting can also be attended via phone by calling listen by phone at 1-253-215-8782\, 1-669-900-6833 or 1-929-205-6099 and using the meeting information above.\n\n\n\n\nRegistration via www.cob.org/tourism is required to attend the meeting via Zoom or to provide public comment. \n\n\n\nMeeting Materials\n\n\n\nVisit meetings.cob.org to view meeting agendas and supporting materials\, which are posted approximately one week prior to the meeting date. If you are interested in meetings held prior to March\, 2023 – visit the Tourism Commission Meeting Materials webpage.
URL:https://cob.org/event/tourism-commission-meeting-check-agenda-for-special-time-location-2
CATEGORIES:Boards and Commissions,Tourism Commission
ATTACH;FMTTYPE=image/jpeg:https://cob.org/wp-content/uploads/p9010911-visiting-1.jpg
ORGANIZER;CN="Shannon Taysi":MAILTO:staysi@cob.org
END:VEVENT
BEGIN:VEVENT
DTSTART;TZID=America/Vancouver:20231024T160000
DTEND;TZID=America/Vancouver:20231024T190000
DTSTAMP:20231105T003914
CREATED:20230227T175908Z
LAST-MODIFIED:20231005T174726Z
UID:10001203-1698163200-1698174000@cob.org
SUMMARY:*CANCELLED* Historic Preservation Commission Meeting
DESCRIPTION:The Historic Preservation Commission (HPC) is responsible for identifying and actively encouraging the conservation of the City of Bellingham’s historic resources. \n\n\n\nParticipation Options\n\n\n\nMeetings can be attended either in-person at City Hall (210 Lottie Street)\, or virtually via Zoom Webinar (Meeting ID: 940 8891 9905  / Password: 9) via https://cob.zoom.us/j/94088919905. \n\n\n\n\nThe meeting can also be attended via phone by calling listen by phone at 1-253-215-8782\, 1-669-900-6833 or 1-929-205-6099 and using the meeting information above.\n\n\n\n\nNo registration required to attend this meeting.  \n\n\n\nMeeting Materials\n\n\n\nVisit the Historic Preservation Commission Meeting Materials webpage to view meeting agendas and supporting materials\, which are posted approximately one week prior to the meeting date. Also viewable\, are the minutes and audio from past meetings.
URL:https://cob.org/event/historic-preservation-commission-meeting-19
CATEGORIES:Historic Preservation Commission
END:VEVENT
END:VCALENDAR