BEGIN:VCALENDAR
VERSION:2.0
PRODID:-//City of Bellingham - ECPv6.2.5//NONSGML v1.0//EN
CALSCALE:GREGORIAN
METHOD:PUBLISH
X-ORIGINAL-URL:https://cob.org
X-WR-CALDESC:Events for City of Bellingham
REFRESH-INTERVAL;VALUE=DURATION:PT1H
X-Robots-Tag:noindex
X-PUBLISHED-TTL:PT1H
BEGIN:VTIMEZONE
TZID:America/Vancouver
BEGIN:DAYLIGHT
TZOFFSETFROM:-0800
TZOFFSETTO:-0700
TZNAME:PDT
DTSTART:20230312T100000
END:DAYLIGHT
BEGIN:STANDARD
TZOFFSETFROM:-0700
TZOFFSETTO:-0800
TZNAME:PST
DTSTART:20231105T090000
END:STANDARD
END:VTIMEZONE
BEGIN:VEVENT
DTSTART;TZID=America/Vancouver:20231225T000000
DTEND;TZID=America/Vancouver:20231225T235959
DTSTAMP:20231105T004951
CREATED:20220908T092911Z
LAST-MODIFIED:20220908T093404Z
UID:10001096-1703462400-1703548799@cob.org
SUMMARY:City Holiday - Christmas
DESCRIPTION:Most City of Bellingham services are closed for City holidays. For a complete list of holidays\, closures and information about emergency and after-hours services\, please visit our Holidays and Closures page.
URL:https://cob.org/event/holiday-christmas-day/2023-12-25
CATEGORIES:Holidays
ATTACH;FMTTYPE=image/jpeg:https://cob.org/wp-content/uploads/christmas-holiday-holidays-1.jpg
END:VEVENT
BEGIN:VEVENT
DTSTART;TZID=America/Vancouver:20231226T000000
DTEND;TZID=America/Vancouver:20231226T235959
DTSTAMP:20231105T004951
CREATED:20220908T093151Z
LAST-MODIFIED:20220908T093154Z
UID:10001101-1703548800-1703635199@cob.org
SUMMARY:City Holiday - Christmas Holiday
DESCRIPTION:Most City of Bellingham services are closed for City holidays. For a complete list of holidays\, closures and information about emergency and after-hours services\, please visit our Holidays and Closures page.
URL:https://cob.org/event/holiday-christmas-holiday/2023-12-26
CATEGORIES:Holidays
ATTACH;FMTTYPE=image/jpeg:https://cob.org/wp-content/uploads/christmas-holiday-holidays-1.jpg
END:VEVENT
END:VCALENDAR