BEGIN:VCALENDAR
VERSION:2.0
PRODID:-//City of Bellingham - ECPv6.15.18//NONSGML v1.0//EN
CALSCALE:GREGORIAN
METHOD:PUBLISH
X-ORIGINAL-URL:https://cob.org
X-WR-CALDESC:Events for City of Bellingham
REFRESH-INTERVAL;VALUE=DURATION:PT1H
X-Robots-Tag:noindex
X-PUBLISHED-TTL:PT1H
BEGIN:VTIMEZONE
TZID:America/Vancouver
BEGIN:DAYLIGHT
TZOFFSETFROM:-0800
TZOFFSETTO:-0700
TZNAME:PDT
DTSTART:20230312T100000
END:DAYLIGHT
BEGIN:STANDARD
TZOFFSETFROM:-0700
TZOFFSETTO:-0800
TZNAME:PST
DTSTART:20231105T090000
END:STANDARD
BEGIN:DAYLIGHT
TZOFFSETFROM:-0800
TZOFFSETTO:-0700
TZNAME:PDT
DTSTART:20240310T100000
END:DAYLIGHT
BEGIN:STANDARD
TZOFFSETFROM:-0700
TZOFFSETTO:-0800
TZNAME:PST
DTSTART:20241103T090000
END:STANDARD
BEGIN:DAYLIGHT
TZOFFSETFROM:-0800
TZOFFSETTO:-0700
TZNAME:PDT
DTSTART:20250309T100000
END:DAYLIGHT
BEGIN:STANDARD
TZOFFSETFROM:-0700
TZOFFSETTO:-0800
TZNAME:PST
DTSTART:20251102T090000
END:STANDARD
BEGIN:DAYLIGHT
TZOFFSETFROM:-0800
TZOFFSETTO:-0700
TZNAME:PDT
DTSTART:20260308T100000
END:DAYLIGHT
BEGIN:STANDARD
TZOFFSETFROM:-0700
TZOFFSETTO:-0800
TZNAME:PST
DTSTART:20261101T090000
END:STANDARD
BEGIN:DAYLIGHT
TZOFFSETFROM:-0800
TZOFFSETTO:-0700
TZNAME:PDT
DTSTART:20270314T100000
END:DAYLIGHT
BEGIN:STANDARD
TZOFFSETFROM:-0700
TZOFFSETTO:-0800
TZNAME:PST
DTSTART:20271107T090000
END:STANDARD
END:VTIMEZONE
BEGIN:VEVENT
DTSTART;TZID=America/Vancouver:20240527T000000
DTEND;TZID=America/Vancouver:20240527T235959
DTSTAMP:20260420T213921
CREATED:20200616T194650Z
LAST-MODIFIED:20231229T225627Z
UID:10002246-1716768000-1716854399@cob.org
SUMMARY:City Holiday - Memorial Day
DESCRIPTION:Most City of Bellingham services are closed for City holidays. For a complete list of holidays\, closures and information about emergency and after-hours services\, please visit our Holidays and Closures page.
URL:https://cob.org/event/city-holiday-memorial-day-2/2024-05-27
CATEGORIES:Holidays
ATTACH;FMTTYPE=image/jpeg:https://cob.org/wp-content/uploads/memorial-day-holidays.jpg
END:VEVENT
BEGIN:VEVENT
DTSTART;TZID=America/Vancouver:20240619T000000
DTEND;TZID=America/Vancouver:20240619T235959
DTSTAMP:20260420T213921
CREATED:20211207T201737Z
LAST-MODIFIED:20220615T191759Z
UID:10000900-1718755200-1718841599@cob.org
SUMMARY:City Holiday - Juneteenth
DESCRIPTION:Juneteenth commemorates the ending of slavery in the United States and is now a City of Bellingham holiday as well as a state and federal holiday.  \n\n\n\nFor more information about Juneteenth and local Juneteenth events\, please visit our Juneteenth webpage.​ \n\n\n\nMost City of Bellingham services are closed for City holidays. For a complete list of holidays\, closures and information about emergency and after-hours services\, please visit our Holidays and Closures page.
URL:https://cob.org/event/city-holiday-juneteenth/2024-06-19
CATEGORIES:Holidays
ATTACH;FMTTYPE=image/png:https://cob.org/wp-content/uploads/iStock-1388383887-1.png
END:VEVENT
BEGIN:VEVENT
DTSTART;TZID=America/Vancouver:20240704T000000
DTEND;TZID=America/Vancouver:20240704T235959
DTSTAMP:20260420T213921
CREATED:20200616T194459Z
LAST-MODIFIED:20231229T225344Z
UID:10002243-1720051200-1720137599@cob.org
SUMMARY:City Holiday - Independence Day
DESCRIPTION:​Most City of Bellingham services are closed for City holidays. For a complete list of holidays\, closures and information about emergency and after-hours services\, please visit our Holidays and Closures page.
URL:https://cob.org/event/city-holiday-independence-day-2/2024-07-04
CATEGORIES:Holidays
ATTACH;FMTTYPE=image/jpeg:https://cob.org/wp-content/uploads/independence-day-holidays-1.jpg
END:VEVENT
BEGIN:VEVENT
DTSTART;TZID=America/Vancouver:20240902T000000
DTEND;TZID=America/Vancouver:20240902T235959
DTSTAMP:20260420T213921
CREATED:20200616T194230Z
LAST-MODIFIED:20231229T225038Z
UID:10002240-1725235200-1725321599@cob.org
SUMMARY:City Holiday - Labor Day
DESCRIPTION:Most City of Bellingham services are closed for City holidays. For a complete list of holidays\, closures and information about emergency and after-hours services\, please visit our Holidays and Closures page.
URL:https://cob.org/event/city-holiday-labor-day-2/2024-09-02
CATEGORIES:Holidays
ATTACH;FMTTYPE=image/jpeg:https://cob.org/wp-content/uploads/labor-day-holidays-1.jpg
END:VEVENT
BEGIN:VEVENT
DTSTART;TZID=America/Vancouver:20241111T000000
DTEND;TZID=America/Vancouver:20241111T235959
DTSTAMP:20260420T213921
CREATED:20200616T194050Z
LAST-MODIFIED:20231229T224801Z
UID:10002237-1731283200-1731369599@cob.org
SUMMARY:City Holiday - Veterans Day
DESCRIPTION:​Most City of Bellingham services are closed for City holidays. For a complete list of holidays\, closures and information about emergency and after-hours services\, please visit our Holidays and Closures page.
URL:https://cob.org/event/city-holiday-veterans-day-2/2024-11-11
CATEGORIES:Holidays
ATTACH;FMTTYPE=image/jpeg:https://cob.org/wp-content/uploads/veterans-day-holidays-1.jpg
END:VEVENT
BEGIN:VEVENT
DTSTART;TZID=America/Vancouver:20241128T000000
DTEND;TZID=America/Vancouver:20241128T235959
DTSTAMP:20260420T213921
CREATED:20200616T193929Z
LAST-MODIFIED:20231229T224602Z
UID:10002233-1732752000-1732838399@cob.org
SUMMARY:City Holiday - Thanksgiving Day
DESCRIPTION:Most City of Bellingham services are closed for City holidays. For a complete list of holidays\, closures and information about emergency and after-hours services\, please visit our Holidays and Closures page.
URL:https://cob.org/event/city-holiday-thanksgiving-day-2/2024-11-28
CATEGORIES:Holidays
ATTACH;FMTTYPE=image/jpeg:https://cob.org/wp-content/uploads/thanksgiving-holidays.jpg
END:VEVENT
BEGIN:VEVENT
DTSTART;TZID=America/Vancouver:20241129T000000
DTEND;TZID=America/Vancouver:20241129T235959
DTSTAMP:20260420T213921
CREATED:20200616T193806Z
LAST-MODIFIED:20231229T224132Z
UID:10002230-1732838400-1732924799@cob.org
SUMMARY:City Holiday - Day after Thanksgiving
DESCRIPTION:​Most City of Bellingham services are closed for City holidays. For a complete list of holidays\, closures and information about emergency and after-hours services\, please visit our Holidays and Closures page.
URL:https://cob.org/event/city-holiday-day-after-thanksgiving-2/2024-11-29
CATEGORIES:Holidays
ATTACH;FMTTYPE=image/jpeg:https://cob.org/wp-content/uploads/thanksgiving-holidays.jpg
END:VEVENT
BEGIN:VEVENT
DTSTART;TZID=America/Vancouver:20241224T000000
DTEND;TZID=America/Vancouver:20241224T235959
DTSTAMP:20260420T213921
CREATED:20220908T093151Z
LAST-MODIFIED:20231229T221707Z
UID:10002227-1734998400-1735084799@cob.org
SUMMARY:City Holiday - Christmas Holiday
DESCRIPTION:Most City of Bellingham services are closed for City holidays. For a complete list of holidays\, closures and information about emergency and after-hours services\, please visit our Holidays and Closures page.
URL:https://cob.org/event/holiday-christmas-holiday/2024-12-24
CATEGORIES:Holidays
ATTACH;FMTTYPE=image/jpeg:https://cob.org/wp-content/uploads/christmas-holiday-holidays-1.jpg
END:VEVENT
BEGIN:VEVENT
DTSTART;TZID=America/Vancouver:20241225T000000
DTEND;TZID=America/Vancouver:20241225T235959
DTSTAMP:20260420T213921
CREATED:20220908T092911Z
LAST-MODIFIED:20220908T093404Z
UID:10001097-1735084800-1735171199@cob.org
SUMMARY:City Holiday - Christmas
DESCRIPTION:Most City of Bellingham services are closed for City holidays. For a complete list of holidays\, closures and information about emergency and after-hours services\, please visit our Holidays and Closures page.
URL:https://cob.org/event/holiday-christmas-day/2024-12-25
CATEGORIES:Holidays
ATTACH;FMTTYPE=image/jpeg:https://cob.org/wp-content/uploads/christmas-holiday-holidays-1.jpg
END:VEVENT
BEGIN:VEVENT
DTSTART;TZID=America/Vancouver:20250101T000000
DTEND;TZID=America/Vancouver:20250101T235959
DTSTAMP:20260420T213921
CREATED:20200616T195541Z
LAST-MODIFIED:20231229T230300Z
UID:10002256-1735689600-1735775999@cob.org
SUMMARY:City Holiday - New Year's Day
DESCRIPTION:Most City of Bellingham services are closed for City holidays. For a complete list of holidays\, closures and information about emergency and after-hours services\, please visit our Holidays and Closures page.
URL:https://cob.org/event/city-holiday-new-years-day-2/2025-01-01
CATEGORIES:Holidays
ATTACH;FMTTYPE=image/jpeg:https://cob.org/wp-content/uploads/new-years-day-holidays.jpg
END:VEVENT
BEGIN:VEVENT
DTSTART;TZID=America/Vancouver:20250120T000000
DTEND;TZID=America/Vancouver:20250120T235959
DTSTAMP:20260420T213921
CREATED:20200616T195419Z
LAST-MODIFIED:20231229T230100Z
UID:10002253-1737331200-1737417599@cob.org
SUMMARY:City Holiday - Martin Luther King\, Jr. Day
DESCRIPTION:Most City of Bellingham services are closed for City holidays. For a complete list of holidays\, closures and information about emergency and after-hours services\, please visit our Holidays and Closures page.
URL:https://cob.org/event/city-holiday-martin-luther-king-jr-day-2/2025-01-20
CATEGORIES:Holidays
ATTACH;FMTTYPE=image/jpeg:https://cob.org/wp-content/uploads/martin-luther-king-day-holidays.jpg
END:VEVENT
BEGIN:VEVENT
DTSTART;TZID=America/Vancouver:20250217T000000
DTEND;TZID=America/Vancouver:20250217T235959
DTSTAMP:20260420T213921
CREATED:20200616T194756Z
LAST-MODIFIED:20231229T225856Z
UID:10002250-1739750400-1739836799@cob.org
SUMMARY:City Holiday - President's Day
DESCRIPTION:Most City of Bellingham services are closed for City holidays. For a complete list of holidays\, closures and information about emergency and after-hours services\, please visit our Holidays and Closures page.
URL:https://cob.org/event/city-holiday-presidents-day-2/2025-02-17
CATEGORIES:Holidays
ATTACH;FMTTYPE=image/jpeg:https://cob.org/wp-content/uploads/presidents-day-holidays.jpg
END:VEVENT
BEGIN:VEVENT
DTSTART;TZID=America/Vancouver:20250526T000000
DTEND;TZID=America/Vancouver:20250526T235959
DTSTAMP:20260420T213921
CREATED:20200616T194650Z
LAST-MODIFIED:20231229T225627Z
UID:10002247-1748217600-1748303999@cob.org
SUMMARY:City Holiday - Memorial Day
DESCRIPTION:Most City of Bellingham services are closed for City holidays. For a complete list of holidays\, closures and information about emergency and after-hours services\, please visit our Holidays and Closures page.
URL:https://cob.org/event/city-holiday-memorial-day-2/2025-05-26
CATEGORIES:Holidays
ATTACH;FMTTYPE=image/jpeg:https://cob.org/wp-content/uploads/memorial-day-holidays.jpg
END:VEVENT
BEGIN:VEVENT
DTSTART;TZID=America/Vancouver:20250619T000000
DTEND;TZID=America/Vancouver:20250619T235959
DTSTAMP:20260420T213921
CREATED:20211207T201737Z
LAST-MODIFIED:20220615T191759Z
UID:10000901-1750291200-1750377599@cob.org
SUMMARY:City Holiday - Juneteenth
DESCRIPTION:Juneteenth commemorates the ending of slavery in the United States and is now a City of Bellingham holiday as well as a state and federal holiday.  \n\n\n\nFor more information about Juneteenth and local Juneteenth events\, please visit our Juneteenth webpage.​ \n\n\n\nMost City of Bellingham services are closed for City holidays. For a complete list of holidays\, closures and information about emergency and after-hours services\, please visit our Holidays and Closures page.
URL:https://cob.org/event/city-holiday-juneteenth/2025-06-19
CATEGORIES:Holidays
ATTACH;FMTTYPE=image/png:https://cob.org/wp-content/uploads/iStock-1388383887-1.png
END:VEVENT
BEGIN:VEVENT
DTSTART;TZID=America/Vancouver:20250704T000000
DTEND;TZID=America/Vancouver:20250704T235959
DTSTAMP:20260420T213921
CREATED:20200616T194459Z
LAST-MODIFIED:20231229T225344Z
UID:10002244-1751587200-1751673599@cob.org
SUMMARY:City Holiday - Independence Day
DESCRIPTION:​Most City of Bellingham services are closed for City holidays. For a complete list of holidays\, closures and information about emergency and after-hours services\, please visit our Holidays and Closures page.
URL:https://cob.org/event/city-holiday-independence-day-2/2025-07-04
CATEGORIES:Holidays
ATTACH;FMTTYPE=image/jpeg:https://cob.org/wp-content/uploads/independence-day-holidays-1.jpg
END:VEVENT
BEGIN:VEVENT
DTSTART;TZID=America/Vancouver:20250901T000000
DTEND;TZID=America/Vancouver:20250901T235959
DTSTAMP:20260420T213921
CREATED:20200616T194230Z
LAST-MODIFIED:20231229T225038Z
UID:10002241-1756684800-1756771199@cob.org
SUMMARY:City Holiday - Labor Day
DESCRIPTION:Most City of Bellingham services are closed for City holidays. For a complete list of holidays\, closures and information about emergency and after-hours services\, please visit our Holidays and Closures page.
URL:https://cob.org/event/city-holiday-labor-day-2/2025-09-01
CATEGORIES:Holidays
ATTACH;FMTTYPE=image/jpeg:https://cob.org/wp-content/uploads/labor-day-holidays-1.jpg
END:VEVENT
BEGIN:VEVENT
DTSTART;TZID=America/Vancouver:20251111T000000
DTEND;TZID=America/Vancouver:20251111T235959
DTSTAMP:20260420T213921
CREATED:20200616T194050Z
LAST-MODIFIED:20231229T224801Z
UID:10002238-1762819200-1762905599@cob.org
SUMMARY:City Holiday - Veterans Day
DESCRIPTION:​Most City of Bellingham services are closed for City holidays. For a complete list of holidays\, closures and information about emergency and after-hours services\, please visit our Holidays and Closures page.
URL:https://cob.org/event/city-holiday-veterans-day-2/2025-11-11
CATEGORIES:Holidays
ATTACH;FMTTYPE=image/jpeg:https://cob.org/wp-content/uploads/veterans-day-holidays-1.jpg
END:VEVENT
BEGIN:VEVENT
DTSTART;TZID=America/Vancouver:20251127T000000
DTEND;TZID=America/Vancouver:20251127T235959
DTSTAMP:20260420T213921
CREATED:20200616T193929Z
LAST-MODIFIED:20231229T224602Z
UID:10002235-1764201600-1764287999@cob.org
SUMMARY:City Holiday - Thanksgiving Day
DESCRIPTION:Most City of Bellingham services are closed for City holidays. For a complete list of holidays\, closures and information about emergency and after-hours services\, please visit our Holidays and Closures page.
URL:https://cob.org/event/city-holiday-thanksgiving-day-2/2025-11-27
CATEGORIES:Holidays
ATTACH;FMTTYPE=image/jpeg:https://cob.org/wp-content/uploads/thanksgiving-holidays.jpg
END:VEVENT
BEGIN:VEVENT
DTSTART;TZID=America/Vancouver:20251128T000000
DTEND;TZID=America/Vancouver:20251128T235959
DTSTAMP:20260420T213921
CREATED:20200616T193806Z
LAST-MODIFIED:20231229T224132Z
UID:10002231-1764288000-1764374399@cob.org
SUMMARY:City Holiday - Day after Thanksgiving
DESCRIPTION:​Most City of Bellingham services are closed for City holidays. For a complete list of holidays\, closures and information about emergency and after-hours services\, please visit our Holidays and Closures page.
URL:https://cob.org/event/city-holiday-day-after-thanksgiving-2/2025-11-28
CATEGORIES:Holidays
ATTACH;FMTTYPE=image/jpeg:https://cob.org/wp-content/uploads/thanksgiving-holidays.jpg
END:VEVENT
BEGIN:VEVENT
DTSTART;TZID=America/Vancouver:20251224T000000
DTEND;TZID=America/Vancouver:20251224T235959
DTSTAMP:20260420T213921
CREATED:20220908T093151Z
LAST-MODIFIED:20231229T221707Z
UID:10002228-1766534400-1766620799@cob.org
SUMMARY:City Holiday - Christmas Holiday
DESCRIPTION:Most City of Bellingham services are closed for City holidays. For a complete list of holidays\, closures and information about emergency and after-hours services\, please visit our Holidays and Closures page.
URL:https://cob.org/event/holiday-christmas-holiday/2025-12-24
CATEGORIES:Holidays
ATTACH;FMTTYPE=image/jpeg:https://cob.org/wp-content/uploads/christmas-holiday-holidays-1.jpg
END:VEVENT
BEGIN:VEVENT
DTSTART;TZID=America/Vancouver:20251225T000000
DTEND;TZID=America/Vancouver:20251225T235959
DTSTAMP:20260420T213921
CREATED:20220908T092911Z
LAST-MODIFIED:20220908T093404Z
UID:10001098-1766620800-1766707199@cob.org
SUMMARY:City Holiday - Christmas
DESCRIPTION:Most City of Bellingham services are closed for City holidays. For a complete list of holidays\, closures and information about emergency and after-hours services\, please visit our Holidays and Closures page.
URL:https://cob.org/event/holiday-christmas-day/2025-12-25
CATEGORIES:Holidays
ATTACH;FMTTYPE=image/jpeg:https://cob.org/wp-content/uploads/christmas-holiday-holidays-1.jpg
END:VEVENT
BEGIN:VEVENT
DTSTART;TZID=America/Vancouver:20260101T000000
DTEND;TZID=America/Vancouver:20260101T235959
DTSTAMP:20260420T213921
CREATED:20200616T195541Z
LAST-MODIFIED:20231229T230300Z
UID:10002257-1767225600-1767311999@cob.org
SUMMARY:City Holiday - New Year's Day
DESCRIPTION:Most City of Bellingham services are closed for City holidays. For a complete list of holidays\, closures and information about emergency and after-hours services\, please visit our Holidays and Closures page.
URL:https://cob.org/event/city-holiday-new-years-day-2/2026-01-01
CATEGORIES:Holidays
ATTACH;FMTTYPE=image/jpeg:https://cob.org/wp-content/uploads/new-years-day-holidays.jpg
END:VEVENT
BEGIN:VEVENT
DTSTART;TZID=America/Vancouver:20260119T000000
DTEND;TZID=America/Vancouver:20260119T235959
DTSTAMP:20260420T213921
CREATED:20200616T195419Z
LAST-MODIFIED:20231229T230100Z
UID:10002254-1768780800-1768867199@cob.org
SUMMARY:City Holiday - Martin Luther King\, Jr. Day
DESCRIPTION:Most City of Bellingham services are closed for City holidays. For a complete list of holidays\, closures and information about emergency and after-hours services\, please visit our Holidays and Closures page.
URL:https://cob.org/event/city-holiday-martin-luther-king-jr-day-2/2026-01-19
CATEGORIES:Holidays
ATTACH;FMTTYPE=image/jpeg:https://cob.org/wp-content/uploads/martin-luther-king-day-holidays.jpg
END:VEVENT
BEGIN:VEVENT
DTSTART;TZID=America/Vancouver:20260216T000000
DTEND;TZID=America/Vancouver:20260216T235959
DTSTAMP:20260420T213921
CREATED:20200616T194756Z
LAST-MODIFIED:20231229T225856Z
UID:10002251-1771200000-1771286399@cob.org
SUMMARY:City Holiday - President's Day
DESCRIPTION:Most City of Bellingham services are closed for City holidays. For a complete list of holidays\, closures and information about emergency and after-hours services\, please visit our Holidays and Closures page.
URL:https://cob.org/event/city-holiday-presidents-day-2/2026-02-16
CATEGORIES:Holidays
ATTACH;FMTTYPE=image/jpeg:https://cob.org/wp-content/uploads/presidents-day-holidays.jpg
END:VEVENT
BEGIN:VEVENT
DTSTART;TZID=America/Vancouver:20260525T000000
DTEND;TZID=America/Vancouver:20260525T235959
DTSTAMP:20260420T213921
CREATED:20200616T194650Z
LAST-MODIFIED:20231229T225627Z
UID:10002248-1779667200-1779753599@cob.org
SUMMARY:City Holiday - Memorial Day
DESCRIPTION:Most City of Bellingham services are closed for City holidays. For a complete list of holidays\, closures and information about emergency and after-hours services\, please visit our Holidays and Closures page.
URL:https://cob.org/event/city-holiday-memorial-day-2/2026-05-25
CATEGORIES:Holidays
ATTACH;FMTTYPE=image/jpeg:https://cob.org/wp-content/uploads/memorial-day-holidays.jpg
END:VEVENT
BEGIN:VEVENT
DTSTART;TZID=America/Vancouver:20260619T000000
DTEND;TZID=America/Vancouver:20260619T235959
DTSTAMP:20260420T213921
CREATED:20211207T201737Z
LAST-MODIFIED:20220615T191759Z
UID:10000902-1781827200-1781913599@cob.org
SUMMARY:City Holiday - Juneteenth
DESCRIPTION:Juneteenth commemorates the ending of slavery in the United States and is now a City of Bellingham holiday as well as a state and federal holiday.  \n\n\n\nFor more information about Juneteenth and local Juneteenth events\, please visit our Juneteenth webpage.​ \n\n\n\nMost City of Bellingham services are closed for City holidays. For a complete list of holidays\, closures and information about emergency and after-hours services\, please visit our Holidays and Closures page.
URL:https://cob.org/event/city-holiday-juneteenth/2026-06-19
CATEGORIES:Holidays
ATTACH;FMTTYPE=image/png:https://cob.org/wp-content/uploads/iStock-1388383887-1.png
END:VEVENT
BEGIN:VEVENT
DTSTART;TZID=America/Vancouver:20260703T000000
DTEND;TZID=America/Vancouver:20260703T235959
DTSTAMP:20260420T213921
CREATED:20200616T194459Z
LAST-MODIFIED:20231229T225344Z
UID:10002245-1783036800-1783123199@cob.org
SUMMARY:City Holiday - Independence Day
DESCRIPTION:​Most City of Bellingham services are closed for City holidays. For a complete list of holidays\, closures and information about emergency and after-hours services\, please visit our Holidays and Closures page.
URL:https://cob.org/event/city-holiday-independence-day-2/2026-07-03
CATEGORIES:Holidays
ATTACH;FMTTYPE=image/jpeg:https://cob.org/wp-content/uploads/independence-day-holidays-1.jpg
END:VEVENT
BEGIN:VEVENT
DTSTART;TZID=America/Vancouver:20260907T000000
DTEND;TZID=America/Vancouver:20260907T235959
DTSTAMP:20260420T213921
CREATED:20200616T194230Z
LAST-MODIFIED:20231229T225038Z
UID:10002242-1788739200-1788825599@cob.org
SUMMARY:City Holiday - Labor Day
DESCRIPTION:Most City of Bellingham services are closed for City holidays. For a complete list of holidays\, closures and information about emergency and after-hours services\, please visit our Holidays and Closures page.
URL:https://cob.org/event/city-holiday-labor-day-2/2026-09-07
CATEGORIES:Holidays
ATTACH;FMTTYPE=image/jpeg:https://cob.org/wp-content/uploads/labor-day-holidays-1.jpg
END:VEVENT
BEGIN:VEVENT
DTSTART;TZID=America/Vancouver:20261111T000000
DTEND;TZID=America/Vancouver:20261111T235959
DTSTAMP:20260420T213921
CREATED:20200616T194050Z
LAST-MODIFIED:20231229T224801Z
UID:10002239-1794355200-1794441599@cob.org
SUMMARY:City Holiday - Veterans Day
DESCRIPTION:​Most City of Bellingham services are closed for City holidays. For a complete list of holidays\, closures and information about emergency and after-hours services\, please visit our Holidays and Closures page.
URL:https://cob.org/event/city-holiday-veterans-day-2/2026-11-11
CATEGORIES:Holidays
ATTACH;FMTTYPE=image/jpeg:https://cob.org/wp-content/uploads/veterans-day-holidays-1.jpg
END:VEVENT
BEGIN:VEVENT
DTSTART;TZID=America/Vancouver:20261126T000000
DTEND;TZID=America/Vancouver:20261126T235959
DTSTAMP:20260420T213921
CREATED:20200616T193929Z
LAST-MODIFIED:20231229T224602Z
UID:10002236-1795651200-1795737599@cob.org
SUMMARY:City Holiday - Thanksgiving Day
DESCRIPTION:Most City of Bellingham services are closed for City holidays. For a complete list of holidays\, closures and information about emergency and after-hours services\, please visit our Holidays and Closures page.
URL:https://cob.org/event/city-holiday-thanksgiving-day-2/2026-11-26
CATEGORIES:Holidays
ATTACH;FMTTYPE=image/jpeg:https://cob.org/wp-content/uploads/thanksgiving-holidays.jpg
END:VEVENT
END:VCALENDAR