BEGIN:VCALENDAR
VERSION:2.0
PRODID:-//City of Bellingham - ECPv6.2.5//NONSGML v1.0//EN
CALSCALE:GREGORIAN
METHOD:PUBLISH
X-ORIGINAL-URL:https://cob.org
X-WR-CALDESC:Events for City of Bellingham
REFRESH-INTERVAL;VALUE=DURATION:PT1H
X-Robots-Tag:noindex
X-PUBLISHED-TTL:PT1H
BEGIN:VTIMEZONE
TZID:America/Vancouver
BEGIN:DAYLIGHT
TZOFFSETFROM:-0800
TZOFFSETTO:-0700
TZNAME:PDT
DTSTART:20250309T100000
END:DAYLIGHT
BEGIN:STANDARD
TZOFFSETFROM:-0700
TZOFFSETTO:-0800
TZNAME:PST
DTSTART:20251102T090000
END:STANDARD
BEGIN:DAYLIGHT
TZOFFSETFROM:-0800
TZOFFSETTO:-0700
TZNAME:PDT
DTSTART:20260308T100000
END:DAYLIGHT
BEGIN:STANDARD
TZOFFSETFROM:-0700
TZOFFSETTO:-0800
TZNAME:PST
DTSTART:20261101T090000
END:STANDARD
BEGIN:DAYLIGHT
TZOFFSETFROM:-0800
TZOFFSETTO:-0700
TZNAME:PDT
DTSTART:20270314T100000
END:DAYLIGHT
BEGIN:STANDARD
TZOFFSETFROM:-0700
TZOFFSETTO:-0800
TZNAME:PST
DTSTART:20271107T090000
END:STANDARD
END:VTIMEZONE
BEGIN:VEVENT
DTSTART;TZID=America/Vancouver:20251226T000000
DTEND;TZID=America/Vancouver:20251226T235959
DTSTAMP:20231105T004003
CREATED:20220908T093151Z
LAST-MODIFIED:20220908T093154Z
UID:10001103-1766707200-1766793599@cob.org
SUMMARY:City Holiday - Christmas Holiday
DESCRIPTION:Most City of Bellingham services are closed for City holidays. For a complete list of holidays\, closures and information about emergency and after-hours services\, please visit our Holidays and Closures page.
URL:https://cob.org/event/holiday-christmas-holiday/2025-12-26
CATEGORIES:Holidays
ATTACH;FMTTYPE=image/jpeg:https://cob.org/wp-content/uploads/christmas-holiday-holidays-1.jpg
END:VEVENT
BEGIN:VEVENT
DTSTART;TZID=America/Vancouver:20260619T000000
DTEND;TZID=America/Vancouver:20260619T235959
DTSTAMP:20231105T004003
CREATED:20211207T201737Z
LAST-MODIFIED:20220615T191759Z
UID:10000902-1781827200-1781913599@cob.org
SUMMARY:City Holiday - Juneteenth
DESCRIPTION:Juneteenth commemorates the ending of slavery in the United States and is now a City of Bellingham holiday as well as a state and federal holiday.  \n\n\n\nFor more information about Juneteenth and local Juneteenth events\, please visit our Juneteenth webpage.​ \n\n\n\nMost City of Bellingham services are closed for City holidays. For a complete list of holidays\, closures and information about emergency and after-hours services\, please visit our Holidays and Closures page.
URL:https://cob.org/event/city-holiday-juneteenth/2026-06-19
CATEGORIES:Holidays
ATTACH;FMTTYPE=image/png:https://cob.org/wp-content/uploads/iStock-1388383887-1.png
END:VEVENT
BEGIN:VEVENT
DTSTART;TZID=America/Vancouver:20261225T000000
DTEND;TZID=America/Vancouver:20261225T235959
DTSTAMP:20231105T004003
CREATED:20220908T092911Z
LAST-MODIFIED:20220908T093404Z
UID:10001099-1798156800-1798243199@cob.org
SUMMARY:City Holiday - Christmas
DESCRIPTION:Most City of Bellingham services are closed for City holidays. For a complete list of holidays\, closures and information about emergency and after-hours services\, please visit our Holidays and Closures page.
URL:https://cob.org/event/holiday-christmas-day/2026-12-25
CATEGORIES:Holidays
ATTACH;FMTTYPE=image/jpeg:https://cob.org/wp-content/uploads/christmas-holiday-holidays-1.jpg
END:VEVENT
BEGIN:VEVENT
DTSTART;TZID=America/Vancouver:20261228T000000
DTEND;TZID=America/Vancouver:20261228T235959
DTSTAMP:20231105T004003
CREATED:20220908T093151Z
LAST-MODIFIED:20220908T093154Z
UID:10001104-1798416000-1798502399@cob.org
SUMMARY:City Holiday - Christmas Holiday
DESCRIPTION:Most City of Bellingham services are closed for City holidays. For a complete list of holidays\, closures and information about emergency and after-hours services\, please visit our Holidays and Closures page.
URL:https://cob.org/event/holiday-christmas-holiday/2026-12-28
CATEGORIES:Holidays
ATTACH;FMTTYPE=image/jpeg:https://cob.org/wp-content/uploads/christmas-holiday-holidays-1.jpg
END:VEVENT
BEGIN:VEVENT
DTSTART;TZID=America/Vancouver:20270618T000000
DTEND;TZID=America/Vancouver:20270618T235959
DTSTAMP:20231105T004003
CREATED:20211207T201737Z
LAST-MODIFIED:20220615T191759Z
UID:10000903-1813276800-1813363199@cob.org
SUMMARY:City Holiday - Juneteenth
DESCRIPTION:Juneteenth commemorates the ending of slavery in the United States and is now a City of Bellingham holiday as well as a state and federal holiday.  \n\n\n\nFor more information about Juneteenth and local Juneteenth events\, please visit our Juneteenth webpage.​ \n\n\n\nMost City of Bellingham services are closed for City holidays. For a complete list of holidays\, closures and information about emergency and after-hours services\, please visit our Holidays and Closures page.
URL:https://cob.org/event/city-holiday-juneteenth/2027-06-18
CATEGORIES:Holidays
ATTACH;FMTTYPE=image/png:https://cob.org/wp-content/uploads/iStock-1388383887-1.png
END:VEVENT
END:VCALENDAR