BEGIN:VCALENDAR
VERSION:2.0
PRODID:-//City of Bellingham - ECPv6.2.5//NONSGML v1.0//EN
CALSCALE:GREGORIAN
METHOD:PUBLISH
X-WR-CALNAME:City of Bellingham
X-ORIGINAL-URL:https://cob.org
X-WR-CALDESC:Events for City of Bellingham
REFRESH-INTERVAL;VALUE=DURATION:PT1H
X-Robots-Tag:noindex
X-PUBLISHED-TTL:PT1H
BEGIN:VTIMEZONE
TZID:America/Vancouver
BEGIN:DAYLIGHT
TZOFFSETFROM:-0800
TZOFFSETTO:-0700
TZNAME:PDT
DTSTART:20230312T100000
END:DAYLIGHT
BEGIN:STANDARD
TZOFFSETFROM:-0700
TZOFFSETTO:-0800
TZNAME:PST
DTSTART:20231105T090000
END:STANDARD
END:VTIMEZONE
BEGIN:VEVENT
DTSTART;TZID=America/Vancouver:20231007T090000
DTEND;TZID=America/Vancouver:20231007T120000
DTSTAMP:20231103T230141
CREATED:20230912T204249Z
LAST-MODIFIED:20230912T204256Z
UID:10001881-1696669200-1696680000@cob.org
SUMMARY:Volunteer Opportunity: Community Work Party at Broadway Park
DESCRIPTION:We will be removing invasive species\, planting native shrubs. Help us spruce up one of Bellingham’s oldest parks! \n\n\n\nAll ages and abilities welcome. Participants under age 14 must be accompanied by a parent/guardian. Tools\, gloves\, and instructions are provided. Please dress for the weather and wear sturdy shoes.  \n\n\n\nAdditional information will be emailed to registered participants. Register early\, space is limited! If you sign up\, please show up! \n\n\n\nRegister Now!\n\n\n\nQuestions? Contact pkvolunteers@cob.org or 360-778-7105. \n\n\n\nThis event is Parkscriptions Certified!
URL:https://cob.org/event/volunteer-opportunity-community-work-party-at-broadway-park
LOCATION:Broadway Park\, 2700 N Park Drive\, Bellingham\, Washington\, 98225\, United States
CATEGORIES:Broadway,Parks and Recreation,Volunteer Opportunities
ATTACH;FMTTYPE=image/jpeg:https://cob.org/wp-content/uploads/2023-10-07-Broadway-Park.jpg
END:VEVENT
END:VCALENDAR