BEGIN:VCALENDAR
VERSION:2.0
PRODID:-//City of Bellingham - ECPv6.2.5//NONSGML v1.0//EN
CALSCALE:GREGORIAN
METHOD:PUBLISH
X-ORIGINAL-URL:https://cob.org
X-WR-CALDESC:Events for City of Bellingham
REFRESH-INTERVAL;VALUE=DURATION:PT1H
X-Robots-Tag:noindex
X-PUBLISHED-TTL:PT1H
BEGIN:VTIMEZONE
TZID:America/Vancouver
BEGIN:DAYLIGHT
TZOFFSETFROM:-0800
TZOFFSETTO:-0700
TZNAME:PDT
DTSTART:20230312T100000
END:DAYLIGHT
BEGIN:STANDARD
TZOFFSETFROM:-0700
TZOFFSETTO:-0800
TZNAME:PST
DTSTART:20231105T090000
END:STANDARD
END:VTIMEZONE
BEGIN:VEVENT
DTSTART;TZID=America/Vancouver:20231014T090000
DTEND;TZID=America/Vancouver:20231014T120000
DTSTAMP:20231103T230129
CREATED:20230912T204521Z
LAST-MODIFIED:20230912T204528Z
UID:10001882-1697274000-1697284800@cob.org
SUMMARY:Volunteer Opportunity: Community Work Party at Padden Creek Daylighting
DESCRIPTION:We will be working alongside Padden Creek near 20th St. and Old Fairhaven Parkway to remove invasive species and reduce erosion into this salmon-bearing stream. \n\n\n\nAll ages and abilities welcome. Participants under age 14 must be accompanied by a parent/guardian. Tools\, gloves\, and instructions are provided. Please dress for the weather and wear sturdy shoes.  \n\n\n\nAdditional information will be emailed to registered participants. Register early\, space is limited! If you sign up\, please show up! \n\n\n\nRegister Now!\n\n\n\n \n\n\n\nQuestions? Contact pkvolunteers@cob.org or 360-778-7105. \n\n\n\nThis event is Parkscriptions Certified!
URL:https://cob.org/event/volunteer-opportunity-community-work-party-at-padden-creek-daylighting
LOCATION:wa
CATEGORIES:Parks and Recreation,Volunteer Opportunities
ATTACH;FMTTYPE=image/jpeg:https://cob.org/wp-content/uploads/2023-10-14-Padden-Creek-Daylighting.jpg
END:VEVENT
END:VCALENDAR