BEGIN:VCALENDAR
VERSION:2.0
PRODID:-//City of Bellingham - ECPv6.2.5//NONSGML v1.0//EN
CALSCALE:GREGORIAN
METHOD:PUBLISH
X-WR-CALNAME:City of Bellingham
X-ORIGINAL-URL:https://cob.org
X-WR-CALDESC:Events for City of Bellingham
REFRESH-INTERVAL;VALUE=DURATION:PT1H
X-Robots-Tag:noindex
X-PUBLISHED-TTL:PT1H
BEGIN:VTIMEZONE
TZID:America/Vancouver
BEGIN:DAYLIGHT
TZOFFSETFROM:-0800
TZOFFSETTO:-0700
TZNAME:PDT
DTSTART:20220313T100000
END:DAYLIGHT
BEGIN:STANDARD
TZOFFSETFROM:-0700
TZOFFSETTO:-0800
TZNAME:PST
DTSTART:20221106T090000
END:STANDARD
BEGIN:DAYLIGHT
TZOFFSETFROM:-0800
TZOFFSETTO:-0700
TZNAME:PDT
DTSTART:20230312T100000
END:DAYLIGHT
BEGIN:STANDARD
TZOFFSETFROM:-0700
TZOFFSETTO:-0800
TZNAME:PST
DTSTART:20231105T090000
END:STANDARD
END:VTIMEZONE
BEGIN:VEVENT
DTSTART;TZID=America/Vancouver:20230408T090000
DTEND;TZID=America/Vancouver:20230408T120000
DTSTAMP:20231105T055613
CREATED:20230110T000249Z
LAST-MODIFIED:20230110T000252Z
UID:10001273-1680944400-1680955200@cob.org
SUMMARY:Volunteer Opportunity: Community Work Party at Arroyo Park with NSEA
DESCRIPTION:Team up with The City and NSEA to remove invasive species and reduce erosion into this salmon-bearing stream. \n\n\n\nAll ages and abilities welcome. Participants under age 14 must be accompanied by a parent/guardian. Tools\, gloves\, and instructions are provided. Please dress for the weather and wear sturdy shoes. \n\n\n\nAdditional information will be emailed to registered participants. Register early\, space is limited! If you sign up\, please show up! \n\n\n\nRegister early. Space is limited! \n\n\n\nRegister Now!\n\n\n\n \n\n\n\nQuestions? Contact pkvolunteers@cob.org or 360-778-7105.This event is Parkscriptions Certified!
URL:https://cob.org/event/volunteer-opportunity-community-work-party-at-arroyo-park-with-nsea-2
LOCATION:Arroyo Park\, 1700 Old Samish Rd\, Bellingham\, Washington\, 98229\, United States
CATEGORIES:Arroyo,Parks and Recreation,Volunteer Opportunities
ATTACH;FMTTYPE=image/jpeg:https://cob.org/wp-content/uploads/04-08-2023-Arroyo.jpg
GEO:48.6965159;-122.4637835
X-APPLE-STRUCTURED-LOCATION;VALUE=URI;X-ADDRESS=Arroyo Park 1700 Old Samish Rd Bellingham Washington 98229 United States;X-APPLE-RADIUS=500;X-TITLE=1700 Old Samish Rd:geo:-122.4637835,48.6965159
END:VEVENT
BEGIN:VEVENT
DTSTART;TZID=America/Vancouver:20221008T090000
DTEND;TZID=America/Vancouver:20221008T120000
DTSTAMP:20231105T055613
CREATED:20220908T183005Z
LAST-MODIFIED:20221005T205158Z
UID:10001118-1665219600-1665230400@cob.org
SUMMARY:Volunteer Opportunity: Community Work Party at Arroyo Park with NSEA
DESCRIPTION:Team up with The City and NSEA to remove invasive species and reduce erosion into this salmon-bearing stream. \n\n\n\nAll ages and abilities welcome! Participants under age 14 must be accompanied by a parent/guardian. Tools\, gloves\, and instructions are provided. Please dress for the weather and wear sturdy shoes. \n\n\n\nThis event will follow current health department guidelines and safety protocols. Additional information and reminders will be emailed to registered participants. If you sign up\, please show up! \n\n\n\nRegister Now!\n\n\n\n \n\n\n\nQuestions? Contact pkvolunteers@cob.org or 360-778-7105.This event is Parkscriptions Certified!
URL:https://cob.org/event/volunteer-opportunity-community-work-party-at-arroyo-park-with-nsea
LOCATION:Arroyo Park\, 1467 Chuckanut Dr N\, Bellingham\, Washington\, 98229\, United States
CATEGORIES:Arroyo,Parks and Recreation,Volunteer Opportunities
ATTACH;FMTTYPE=image/jpeg:https://cob.org/wp-content/uploads/Arroyo-Park.jpg
GEO:48.6958139;-122.4956469
X-APPLE-STRUCTURED-LOCATION;VALUE=URI;X-ADDRESS=Arroyo Park 1467 Chuckanut Dr N Bellingham Washington 98229 United States;X-APPLE-RADIUS=500;X-TITLE=1467 Chuckanut Dr N:geo:-122.4956469,48.6958139
END:VEVENT
END:VCALENDAR