BEGIN:VCALENDAR
VERSION:2.0
PRODID:-//City of Bellingham - ECPv6.2.5//NONSGML v1.0//EN
CALSCALE:GREGORIAN
METHOD:PUBLISH
X-ORIGINAL-URL:https://cob.org
X-WR-CALDESC:Events for City of Bellingham
REFRESH-INTERVAL;VALUE=DURATION:PT1H
X-Robots-Tag:noindex
X-PUBLISHED-TTL:PT1H
BEGIN:VTIMEZONE
TZID:America/Vancouver
BEGIN:DAYLIGHT
TZOFFSETFROM:-0800
TZOFFSETTO:-0700
TZNAME:PDT
DTSTART:20230312T100000
END:DAYLIGHT
BEGIN:STANDARD
TZOFFSETFROM:-0700
TZOFFSETTO:-0800
TZNAME:PST
DTSTART:20231105T090000
END:STANDARD
END:VTIMEZONE
BEGIN:VEVENT
DTSTART;TZID=America/Vancouver:20230805T110000
DTEND;TZID=America/Vancouver:20230805T150000
DTSTAMP:20231105T011429
CREATED:20230417T174602Z
LAST-MODIFIED:20230417T174605Z
UID:10001376-1691233200-1691247600@cob.org
SUMMARY:Kids Fest
DESCRIPTION:Bellingham Parks and Recreation and WestEdge Credit Union invite you and your family to this one-of-a-kind spectacular event! Kids Fest is one of the community’s most loved offerings every summer. Come see for yourself and enjoy the tremendous variety of activities available to kids and families of Whatcom County. New this year…first 150 kids in the gate get a tee shirt! And\, stop by our Sensory-Friendly station for headphones and tinker toys! \n\n\n\nDoes your organization offer recreational\, educational or health related activities for Whatcom County children? Can you provide an activity and prizes at the event? Participation is free so apply today. For more information: wpreeves@cob.org\, (360) 778-7000.  \n\n\n\nFree!
URL:https://cob.org/event/kids-fest
LOCATION:Civic Stadium\, 1355 Civic Field Way\, Bellingham\, Washington\, 98229\, United States
CATEGORIES:Civic Athletic Complex,Parks and Recreation
ATTACH;FMTTYPE=image/jpeg:https://cob.org/wp-content/uploads/Kids-Fest.jpg
GEO:48.747516;-122.4566464
X-APPLE-STRUCTURED-LOCATION;VALUE=URI;X-ADDRESS=Civic Stadium 1355 Civic Field Way Bellingham Washington 98229 United States;X-APPLE-RADIUS=500;X-TITLE=1355 Civic Field Way:geo:-122.4566464,48.747516
END:VEVENT
END:VCALENDAR