BEGIN:VCALENDAR
VERSION:2.0
PRODID:-//City of Bellingham - ECPv6.15.18//NONSGML v1.0//EN
CALSCALE:GREGORIAN
METHOD:PUBLISH
X-WR-CALNAME:City of Bellingham
X-ORIGINAL-URL:https://cob.org
X-WR-CALDESC:Events for City of Bellingham
REFRESH-INTERVAL;VALUE=DURATION:PT1H
X-Robots-Tag:noindex
X-PUBLISHED-TTL:PT1H
BEGIN:VTIMEZONE
TZID:America/Vancouver
BEGIN:DAYLIGHT
TZOFFSETFROM:-0800
TZOFFSETTO:-0700
TZNAME:PDT
DTSTART:20230312T100000
END:DAYLIGHT
BEGIN:STANDARD
TZOFFSETFROM:-0700
TZOFFSETTO:-0800
TZNAME:PST
DTSTART:20231105T090000
END:STANDARD
BEGIN:DAYLIGHT
TZOFFSETFROM:-0800
TZOFFSETTO:-0700
TZNAME:PDT
DTSTART:20240310T100000
END:DAYLIGHT
BEGIN:STANDARD
TZOFFSETFROM:-0700
TZOFFSETTO:-0800
TZNAME:PST
DTSTART:20241103T090000
END:STANDARD
BEGIN:DAYLIGHT
TZOFFSETFROM:-0800
TZOFFSETTO:-0700
TZNAME:PDT
DTSTART:20250309T100000
END:DAYLIGHT
BEGIN:STANDARD
TZOFFSETFROM:-0700
TZOFFSETTO:-0800
TZNAME:PST
DTSTART:20251102T090000
END:STANDARD
BEGIN:DAYLIGHT
TZOFFSETFROM:-0800
TZOFFSETTO:-0700
TZNAME:PDT
DTSTART:20260308T100000
END:DAYLIGHT
BEGIN:STANDARD
TZOFFSETFROM:-0700
TZOFFSETTO:-0800
TZNAME:PST
DTSTART:20261101T090000
END:STANDARD
END:VTIMEZONE
BEGIN:VEVENT
DTSTART;TZID=America/Vancouver:20250821T180000
DTEND;TZID=America/Vancouver:20250821T200000
DTSTAMP:20260421T091337
CREATED:20250514T195027Z
LAST-MODIFIED:20250514T195039Z
UID:10003892-1755799200-1755806400@cob.org
SUMMARY:Elizabeth Park Concert Series: bandZandt- Summer 2025
DESCRIPTION:Join us for the 31st season of Elizabeth Park Summer Concerts! Thank you to the Eldridge Society for History and Preservation for their continued partnership with Bellingham Parks and Recreation for providing these family-friendly concerts. Tonight’s band is – bandZandt\, the East County’s favorite dance band.  \n\n\n\nPlease remember that dogs must be leashed. All alcohol\, smoking\, & vaping are not permitted in the city parks!
URL:https://cob.org/event/elizabeth-park-concert-series-bandzandt-summer-2025
LOCATION:Elizabeth Park\, 2205 Elizabeth St\, Bellingham\, Washington\, 98225
CATEGORIES:Elizabeth
ATTACH;FMTTYPE=image/jpeg:https://cob.org/wp-content/uploads/20220825_190905.jpg
GEO:48.7602186;-122.4907968
X-APPLE-STRUCTURED-LOCATION;VALUE=URI;X-ADDRESS=Elizabeth Park 2205 Elizabeth St Bellingham Washington 98225;X-APPLE-RADIUS=500;X-TITLE=2205 Elizabeth St:geo:-122.4907968,48.7602186
END:VEVENT
BEGIN:VEVENT
DTSTART;TZID=America/Vancouver:20250814T180000
DTEND;TZID=America/Vancouver:20250814T200000
DTSTAMP:20260421T091337
CREATED:20250514T194848Z
LAST-MODIFIED:20250514T194852Z
UID:10003891-1755194400-1755201600@cob.org
SUMMARY:Elizabeth Park Concert Series: Groovebot - Summer 2025
DESCRIPTION:Join us for the 31st season of Elizabeth Park Summer Concerts! Thank you to the Eldridge Society for History and Preservation for their continued partnership with Bellingham Parks and Recreation for providing these family-friendly concerts. Tonight’s band is – Groovebot\, a high-energy funk experience.  \n\n\n\nPlease remember that dogs must be leashed. All alcohol\, smoking\, & vaping are not permitted in the city parks!
URL:https://cob.org/event/elizabeth-park-concert-series-groovebot-summer-2025
LOCATION:Elizabeth Park\, 2205 Elizabeth St\, Bellingham\, Washington\, 98225
CATEGORIES:Elizabeth
ATTACH;FMTTYPE=image/jpeg:https://cob.org/wp-content/uploads/20220825_190905.jpg
GEO:48.7602186;-122.4907968
X-APPLE-STRUCTURED-LOCATION;VALUE=URI;X-ADDRESS=Elizabeth Park 2205 Elizabeth St Bellingham Washington 98225;X-APPLE-RADIUS=500;X-TITLE=2205 Elizabeth St:geo:-122.4907968,48.7602186
END:VEVENT
BEGIN:VEVENT
DTSTART;TZID=America/Vancouver:20250807T180000
DTEND;TZID=America/Vancouver:20250807T200000
DTSTAMP:20260421T091337
CREATED:20250514T194639Z
LAST-MODIFIED:20250514T194643Z
UID:10003890-1754589600-1754596800@cob.org
SUMMARY:Elizabeth Park Concert Series: Sweet 'n Juicy - Summer 2025
DESCRIPTION:Join us for the 31st season of Elizabeth Park Summer Concerts! Thank you to the Eldridge Society for History and Preservation for their continued partnership with Bellingham Parks and Recreation for providing these family-friendly concerts. Tonight’s band is – Sweet ‘n Juicy\, playing Funk\, Soul & Rock!  \n\n\n\nPlease remember that dogs must be leashed. All alcohol\, smoking\, & vaping are not permitted in the city parks!
URL:https://cob.org/event/elizabeth-park-concert-series-sweet-n-juicy-summer-2025
LOCATION:Elizabeth Park\, 2205 Elizabeth St\, Bellingham\, Washington\, 98225
CATEGORIES:Elizabeth
ATTACH;FMTTYPE=image/jpeg:https://cob.org/wp-content/uploads/20220825_190905.jpg
GEO:48.7602186;-122.4907968
X-APPLE-STRUCTURED-LOCATION;VALUE=URI;X-ADDRESS=Elizabeth Park 2205 Elizabeth St Bellingham Washington 98225;X-APPLE-RADIUS=500;X-TITLE=2205 Elizabeth St:geo:-122.4907968,48.7602186
END:VEVENT
BEGIN:VEVENT
DTSTART;TZID=America/Vancouver:20250731T180000
DTEND;TZID=America/Vancouver:20250731T200000
DTSTAMP:20260421T091337
CREATED:20250514T194414Z
LAST-MODIFIED:20250514T194419Z
UID:10003889-1753984800-1753992000@cob.org
SUMMARY:Elizabeth Park Concert Series: Upbeat Vibe Collective - Summer 2025
DESCRIPTION:Join us for the 31st season of Elizabeth Park Summer Concerts! Thank you to the Eldridge Society for History and Preservation for their continued partnership with Bellingham Parks and Recreation for providing these family-friendly concerts. Tonight’s band is – Upbeat Vibe Collective\, playing Vibrant Pop & Rock Sensations.  \n\n\n\nPlease remember that dogs must be leashed. All alcohol\, smoking\, & vaping are not permitted in the city parks!
URL:https://cob.org/event/elizabeth-park-concert-series-upbeat-vibe-collective-summer-2025
LOCATION:Elizabeth Park\, 2205 Elizabeth St\, Bellingham\, Washington\, 98225
CATEGORIES:Elizabeth
ATTACH;FMTTYPE=image/jpeg:https://cob.org/wp-content/uploads/20220825_190905.jpg
GEO:48.7602186;-122.4907968
X-APPLE-STRUCTURED-LOCATION;VALUE=URI;X-ADDRESS=Elizabeth Park 2205 Elizabeth St Bellingham Washington 98225;X-APPLE-RADIUS=500;X-TITLE=2205 Elizabeth St:geo:-122.4907968,48.7602186
END:VEVENT
BEGIN:VEVENT
DTSTART;TZID=America/Vancouver:20250724T180000
DTEND;TZID=America/Vancouver:20250724T200000
DTSTAMP:20260421T091337
CREATED:20250514T194000Z
LAST-MODIFIED:20250514T194015Z
UID:10003888-1753380000-1753387200@cob.org
SUMMARY:Elizabeth Park Concert Series: D'Vas and Dudes - Summer 2025
DESCRIPTION:Join us for the 31st season of Elizabeth Park Summer Concerts! Thank you to the Eldridge Society for History and Preservation for their continued partnership with Bellingham Parks and Recreation for providing these family-friendly concerts. Tonight’s band is – D’Vas and Dudes\, playing Country\, Folk\, Rock\, Blues & More!  \n\n\n\nPlease remember that dogs must be leashed. All alcohol\, smoking\, & vaping are not permitted in the city parks!
URL:https://cob.org/event/elizabeth-park-concert-series-dvas-and-dudes-summer-2025
LOCATION:Elizabeth Park\, 2205 Elizabeth St\, Bellingham\, Washington\, 98225
CATEGORIES:Elizabeth
ATTACH;FMTTYPE=image/jpeg:https://cob.org/wp-content/uploads/20220825_190905.jpg
GEO:48.7602186;-122.4907968
X-APPLE-STRUCTURED-LOCATION;VALUE=URI;X-ADDRESS=Elizabeth Park 2205 Elizabeth St Bellingham Washington 98225;X-APPLE-RADIUS=500;X-TITLE=2205 Elizabeth St:geo:-122.4907968,48.7602186
END:VEVENT
BEGIN:VEVENT
DTSTART;TZID=America/Vancouver:20250717T180000
DTEND;TZID=America/Vancouver:20250717T200000
DTSTAMP:20260421T091337
CREATED:20250514T193816Z
LAST-MODIFIED:20250514T193821Z
UID:10003887-1752775200-1752782400@cob.org
SUMMARY:Elizabeth Park Concert Series: North Country Highway - Summer 2025
DESCRIPTION:Join us for the 31st season of Elizabeth Park Summer Concerts! Thank you to the Eldridge Society for History and Preservation for their continued partnership with Bellingham Parks and Recreation for providing these family-friendly concerts. Tonight’s band is – North Country Highway\, playing Northwest Americana.  \n\n\n\nPlease remember that dogs must be leashed. All alcohol\, smoking\, & vaping are not permitted in the city parks!
URL:https://cob.org/event/elizabeth-park-concert-series-north-country-highway-summer-2025
LOCATION:Elizabeth Park\, 2205 Elizabeth St\, Bellingham\, Washington\, 98225
CATEGORIES:Elizabeth
ATTACH;FMTTYPE=image/jpeg:https://cob.org/wp-content/uploads/20220825_190905.jpg
GEO:48.7602186;-122.4907968
X-APPLE-STRUCTURED-LOCATION;VALUE=URI;X-ADDRESS=Elizabeth Park 2205 Elizabeth St Bellingham Washington 98225;X-APPLE-RADIUS=500;X-TITLE=2205 Elizabeth St:geo:-122.4907968,48.7602186
END:VEVENT
BEGIN:VEVENT
DTSTART;TZID=America/Vancouver:20250710T180000
DTEND;TZID=America/Vancouver:20250710T200000
DTSTAMP:20260421T091337
CREATED:20250514T193520Z
LAST-MODIFIED:20250514T193525Z
UID:10003886-1752170400-1752177600@cob.org
SUMMARY:Elizabeth Park Concert Series: The Walrus - Summer 2025
DESCRIPTION:Join us for the 31st season of Elizabeth Park Summer Concerts! Thank you to the Eldridge Society for History and Preservation for their continued partnership with Bellingham Parks and Recreation for providing these family-friendly concerts. Tonight’s band is – The Walrus. Playing Classic Rock at its BEST!  \n\n\n\nPlease remember that dogs must be leashed. All alcohol\, smoking\, & vaping are not permitted in the city parks!
URL:https://cob.org/event/elizabeth-park-concert-series-the-walrus-summer-2025
LOCATION:Elizabeth Park\, 2205 Elizabeth St\, Bellingham\, Washington\, 98225
CATEGORIES:Elizabeth
ATTACH;FMTTYPE=image/jpeg:https://cob.org/wp-content/uploads/20220825_190905.jpg
GEO:48.7602186;-122.4907968
X-APPLE-STRUCTURED-LOCATION;VALUE=URI;X-ADDRESS=Elizabeth Park 2205 Elizabeth St Bellingham Washington 98225;X-APPLE-RADIUS=500;X-TITLE=2205 Elizabeth St:geo:-122.4907968,48.7602186
END:VEVENT
BEGIN:VEVENT
DTSTART;TZID=America/Vancouver:20250703T180000
DTEND;TZID=America/Vancouver:20250703T200000
DTSTAMP:20260421T091337
CREATED:20250514T193319Z
LAST-MODIFIED:20250514T193324Z
UID:10003885-1751565600-1751572800@cob.org
SUMMARY:Elizabeth Park Concert Series: Swing Connection - Summer 2025
DESCRIPTION:Join us for the 31st season of Elizabeth Park Summer Concerts! Thank you to the Eldridge Society for History and Preservation for their continued partnership with Bellingham Parks and Recreation for providing these family-friendly concerts. Tonight’s band is – Swing Connection\, Big Band Swing.  \n\n\n\nPlease remember that dogs must be leashed. All alcohol\, smoking\, & vaping are not permitted in the city parks!
URL:https://cob.org/event/elizabeth-park-concert-series-swing-connection-summer-2025
LOCATION:Elizabeth Park\, 2205 Elizabeth St\, Bellingham\, Washington\, 98225
CATEGORIES:Elizabeth
ATTACH;FMTTYPE=image/jpeg:https://cob.org/wp-content/uploads/20220825_190905.jpg
GEO:48.7602186;-122.4907968
X-APPLE-STRUCTURED-LOCATION;VALUE=URI;X-ADDRESS=Elizabeth Park 2205 Elizabeth St Bellingham Washington 98225;X-APPLE-RADIUS=500;X-TITLE=2205 Elizabeth St:geo:-122.4907968,48.7602186
END:VEVENT
BEGIN:VEVENT
DTSTART;TZID=America/Vancouver:20250626T180000
DTEND;TZID=America/Vancouver:20250626T200000
DTSTAMP:20260421T091337
CREATED:20250414T212641Z
LAST-MODIFIED:20250414T214338Z
UID:10003870-1750960800-1750968000@cob.org
SUMMARY:Elizabeth Park Concert Series: North Sound Soul
DESCRIPTION:Join us for the 31st season of Elizabeth Park Summer Concerts! Thank you to the Eldridge Society for History and Preservation for their continued partnership with Bellingham Parks and Recreation for providing these family-friendly concerts. Tonight’s band is – North Sound Soul. They are a Bellingham based 9-piece band that will be performing Horn Driven Soul\, Funk and Rock Classics. \n\n\n\nPlease remember that dogs must be leashed. All alcohol\, smoking\, & vaping are not permitted in the city parks!
URL:https://cob.org/event/elizabeth-park-concert-series-north-sound-soul
LOCATION:Elizabeth Park\, 2205 Elizabeth St\, Bellingham\, Washington\, 98225
CATEGORIES:Elizabeth,Parks and Recreation
ATTACH;FMTTYPE=image/jpeg:https://cob.org/wp-content/uploads/20220825_190905.jpg
GEO:48.7602186;-122.4907968
X-APPLE-STRUCTURED-LOCATION;VALUE=URI;X-ADDRESS=Elizabeth Park 2205 Elizabeth St Bellingham Washington 98225;X-APPLE-RADIUS=500;X-TITLE=2205 Elizabeth St:geo:-122.4907968,48.7602186
END:VEVENT
BEGIN:VEVENT
DTSTART;TZID=America/Vancouver:20250619T180000
DTEND;TZID=America/Vancouver:20250619T200000
DTSTAMP:20260421T091337
CREATED:20250414T190121Z
LAST-MODIFIED:20250528T160049Z
UID:10003869-1750356000-1750363200@cob.org
SUMMARY:Elizabeth Park Concert Series: The Unknowns - Summer 2025
DESCRIPTION:Join us for the 31st season of Elizabeth Park Summer Concerts! Thank you to the Eldridge Society for History and Preservation for their continued partnership with Bellingham Parks and Recreation for providing these family-friendly concerts. Tonight’s band is – The Unknowns. They will be performing Jazz\, Blues & Sultry Vocals \n\n\n\nPlease remember that dogs must be leashed. All alcohol\, smoking\, & vaping are not permitted in the city parks!
URL:https://cob.org/event/boulevard-park-concert-series-brie-mueller-band-summer-2025
LOCATION:Elizabeth Park\, 2205 Elizabeth St\, Bellingham\, Washington\, 98225
CATEGORIES:Elizabeth,Parks and Recreation
ATTACH;FMTTYPE=image/jpeg:https://cob.org/wp-content/uploads/20220825_190905.jpg
GEO:48.7602186;-122.4907968
X-APPLE-STRUCTURED-LOCATION;VALUE=URI;X-ADDRESS=Elizabeth Park 2205 Elizabeth St Bellingham Washington 98225;X-APPLE-RADIUS=500;X-TITLE=2205 Elizabeth St:geo:-122.4907968,48.7602186
END:VEVENT
BEGIN:VEVENT
DTSTART;TZID=America/Vancouver:20240822T180000
DTEND;TZID=America/Vancouver:20240822T200000
DTSTAMP:20260421T091337
CREATED:20240613T215707Z
LAST-MODIFIED:20240613T215717Z
UID:10002708-1724349600-1724356800@cob.org
SUMMARY:Elizabeth Park Concert Series 2024 - bandZandt
DESCRIPTION:Join us for the 30th season of Elizabeth Park Summer Concerts! Thank you to the Eldridge Society for History and Preservation for their continued partnership with Bellingham Parks and Recreation providing these family-friendly concerts. Tonight’s band is – bandZandt-they continue to be the East County’s Favorite Dance Band.
URL:https://cob.org/event/elizabeth-park-concert-series-2024-bandzandt
LOCATION:Elizabeth Park\, 2205 Elizabeth St\, Bellingham\, Washington\, 98225
CATEGORIES:Elizabeth,Parks and Recreation
GEO:48.7602186;-122.4907968
X-APPLE-STRUCTURED-LOCATION;VALUE=URI;X-ADDRESS=Elizabeth Park 2205 Elizabeth St Bellingham Washington 98225;X-APPLE-RADIUS=500;X-TITLE=2205 Elizabeth St:geo:-122.4907968,48.7602186
END:VEVENT
BEGIN:VEVENT
DTSTART;TZID=America/Vancouver:20240815T180000
DTEND;TZID=America/Vancouver:20240815T200000
DTSTAMP:20260421T091337
CREATED:20240613T215429Z
LAST-MODIFIED:20240613T215439Z
UID:10002707-1723744800-1723752000@cob.org
SUMMARY:Elizabeth Park Concert Series 2024 - Unknowns
DESCRIPTION:Join us for the 30th season of Elizabeth Park Summer Concerts! Thank you to the Eldridge Society for History and Preservation for their continued partnership with Bellingham Parks and Recreation providing these family-friendly concerts. Tonight’s band is – Unknowns blending Jazz\, Blues & Sultry Vocals.
URL:https://cob.org/event/elizabeth-park-concert-series-2024-unknowns
LOCATION:Elizabeth Park\, 2205 Elizabeth St\, Bellingham\, Washington\, 98225
CATEGORIES:Elizabeth,Parks and Recreation
GEO:48.7602186;-122.4907968
X-APPLE-STRUCTURED-LOCATION;VALUE=URI;X-ADDRESS=Elizabeth Park 2205 Elizabeth St Bellingham Washington 98225;X-APPLE-RADIUS=500;X-TITLE=2205 Elizabeth St:geo:-122.4907968,48.7602186
END:VEVENT
BEGIN:VEVENT
DTSTART;TZID=America/Vancouver:20240808T180000
DTEND;TZID=America/Vancouver:20240808T200000
DTSTAMP:20260421T091337
CREATED:20240613T215207Z
LAST-MODIFIED:20240613T215217Z
UID:10002706-1723140000-1723147200@cob.org
SUMMARY:Elizabeth Park Concert Series 2024 - Millie and The Mentshn
DESCRIPTION:Join us for the 30th season of Elizabeth Park Summer Concerts! Thank you to the Eldridge Society for History and Preservation for their continued partnership with Bellingham Parks and Recreation providing these family-friendly concerts. Tonight’s band is – Millie and The Mentshn entertaining everyone with a fun mixture of Klezmer and World Music.
URL:https://cob.org/event/elizabeth-park-concert-series-2024-millie-and-the-mentshn
LOCATION:Elizabeth Park\, 2205 Elizabeth St\, Bellingham\, Washington\, 98225
CATEGORIES:Elizabeth,Parks and Recreation
GEO:48.7602186;-122.4907968
X-APPLE-STRUCTURED-LOCATION;VALUE=URI;X-ADDRESS=Elizabeth Park 2205 Elizabeth St Bellingham Washington 98225;X-APPLE-RADIUS=500;X-TITLE=2205 Elizabeth St:geo:-122.4907968,48.7602186
END:VEVENT
BEGIN:VEVENT
DTSTART;TZID=America/Vancouver:20240801T180000
DTEND;TZID=America/Vancouver:20240801T200000
DTSTAMP:20260421T091337
CREATED:20240613T214803Z
LAST-MODIFIED:20240613T214811Z
UID:10002705-1722535200-1722542400@cob.org
SUMMARY:Elizabeth Park Concert Series 2024 - Brie Mueller Band
DESCRIPTION:Join us for the 30th season of Elizabeth Park Summer Concerts! Thank you to the Eldridge Society for History and Preservation for their continued partnership with Bellingham Parks and Recreation providing these family-friendly concerts. Tonight’s band is – Brie Mueller Band bringing Top 40-Pop\, Blues\, Country & Rock tonight.
URL:https://cob.org/event/elizabeth-park-concert-series-2024-brie-mueller-band
LOCATION:Elizabeth Park\, 2205 Elizabeth St\, Bellingham\, Washington\, 98225
CATEGORIES:Elizabeth,Parks and Recreation
GEO:48.7602186;-122.4907968
X-APPLE-STRUCTURED-LOCATION;VALUE=URI;X-ADDRESS=Elizabeth Park 2205 Elizabeth St Bellingham Washington 98225;X-APPLE-RADIUS=500;X-TITLE=2205 Elizabeth St:geo:-122.4907968,48.7602186
END:VEVENT
BEGIN:VEVENT
DTSTART;TZID=America/Vancouver:20240725T180000
DTEND;TZID=America/Vancouver:20240725T200000
DTSTAMP:20260421T091337
CREATED:20240613T214550Z
LAST-MODIFIED:20240613T214557Z
UID:10002704-1721930400-1721937600@cob.org
SUMMARY:Elizabeth Park Concert Series 2024 - Sweet Goodbyes
DESCRIPTION:Join us for the 30th season of Elizabeth Park Summer Concerts! Thank you to the Eldridge Society for History and Preservation for their continued partnership with Bellingham Parks and Recreation providing these family-friendly concerts. Tonight’s band is – Sweet Goodbyes performing Folk & Pop melodies.
URL:https://cob.org/event/elizabeth-park-concert-series-2024-sweet-goodbyes
LOCATION:Elizabeth Park\, 2205 Elizabeth St\, Bellingham\, Washington\, 98225
CATEGORIES:Elizabeth,Parks and Recreation
GEO:48.7602186;-122.4907968
X-APPLE-STRUCTURED-LOCATION;VALUE=URI;X-ADDRESS=Elizabeth Park 2205 Elizabeth St Bellingham Washington 98225;X-APPLE-RADIUS=500;X-TITLE=2205 Elizabeth St:geo:-122.4907968,48.7602186
END:VEVENT
BEGIN:VEVENT
DTSTART;TZID=America/Vancouver:20240718T180000
DTEND;TZID=America/Vancouver:20240718T200000
DTSTAMP:20260421T091337
CREATED:20240613T214315Z
LAST-MODIFIED:20240613T214322Z
UID:10002703-1721325600-1721332800@cob.org
SUMMARY:Elizabeth Park Concert Series 2024 - Dana Lyons
DESCRIPTION:Join us for the 30th season of Elizabeth Park Summer Concerts! Thank you to the Eldridge Society for History and Preservation for their continued partnership with Bellingham Parks and Recreation providing these family-friendly concerts. Tonight’s band is – Dana Lyons returning with his mix of Singer-Songwriter Americana tunes.
URL:https://cob.org/event/elizabeth-park-concert-series-2024-dana-lyons
LOCATION:Elizabeth Park\, 2205 Elizabeth St\, Bellingham\, Washington\, 98225
CATEGORIES:Elizabeth,Parks and Recreation
GEO:48.7602186;-122.4907968
X-APPLE-STRUCTURED-LOCATION;VALUE=URI;X-ADDRESS=Elizabeth Park 2205 Elizabeth St Bellingham Washington 98225;X-APPLE-RADIUS=500;X-TITLE=2205 Elizabeth St:geo:-122.4907968,48.7602186
END:VEVENT
BEGIN:VEVENT
DTSTART;TZID=America/Vancouver:20240711T180000
DTEND;TZID=America/Vancouver:20240711T200000
DTSTAMP:20260421T091337
CREATED:20240613T200907Z
LAST-MODIFIED:20240613T200931Z
UID:10002702-1720720800-1720728000@cob.org
SUMMARY:Elizabeth Park Concert Series 2024 - Flattery
DESCRIPTION:Join us for the 30th season of Elizabeth Park Summer Concerts! Thank you to the Eldridge Society for History and Preservation for their continued partnership with Bellingham Parks and Recreation providing these family-friendly concerts. Tonight’s band is – Flattery featuring Sweet Celtic Melodies with Driving Rhythms.
URL:https://cob.org/event/elizabeth-park-concert-series-2024-flattery
LOCATION:Elizabeth Park\, 2205 Elizabeth St\, Bellingham\, Washington\, 98225
CATEGORIES:Elizabeth,Parks and Recreation
GEO:48.7602186;-122.4907968
X-APPLE-STRUCTURED-LOCATION;VALUE=URI;X-ADDRESS=Elizabeth Park 2205 Elizabeth St Bellingham Washington 98225;X-APPLE-RADIUS=500;X-TITLE=2205 Elizabeth St:geo:-122.4907968,48.7602186
END:VEVENT
BEGIN:VEVENT
DTSTART;TZID=America/Vancouver:20240704T180000
DTEND;TZID=America/Vancouver:20240704T200000
DTSTAMP:20260421T091337
CREATED:20240613T190541Z
LAST-MODIFIED:20240613T190549Z
UID:10002701-1720116000-1720123200@cob.org
SUMMARY:Elizabeth Park Concert Series 2024 - Mary Ellen Lykins and the CC Adams Band
DESCRIPTION:Join us for the 30th season of Elizabeth Park Summer Concerts! Thank you to the Eldridge Society for History and Preservation for their continued partnership with Bellingham Parks and Recreation providing these family-friendly concerts. Tonight’s band is – Mary Ellen Lykins and the CC Adams Band mixing Tasty Rock & Cookin’ Blues.
URL:https://cob.org/event/elizabeth-park-concert-series-2024-mary-ellen-lykins-and-the-cc-adams-band
LOCATION:Elizabeth Park\, 2205 Elizabeth St\, Bellingham\, Washington\, 98225
CATEGORIES:Elizabeth,Parks and Recreation
GEO:48.7602186;-122.4907968
X-APPLE-STRUCTURED-LOCATION;VALUE=URI;X-ADDRESS=Elizabeth Park 2205 Elizabeth St Bellingham Washington 98225;X-APPLE-RADIUS=500;X-TITLE=2205 Elizabeth St:geo:-122.4907968,48.7602186
END:VEVENT
BEGIN:VEVENT
DTSTART;TZID=America/Vancouver:20240627T180000
DTEND;TZID=America/Vancouver:20240627T200000
DTSTAMP:20260421T091337
CREATED:20240613T163550Z
LAST-MODIFIED:20240613T163600Z
UID:10002700-1719511200-1719518400@cob.org
SUMMARY:Elizabeth Park Concert Series 2024 - SpaceBand
DESCRIPTION:Join us for the 30th season of Elizabeth Park Summer Concerts! Thank you to the Eldridge Society for History and Preservation for their continued partnership with Bellingham Parks and Recreation providing these family-friendly concerts. Tonight’s band is\, SpaceBand-they’ll have you moving and grooving to Old-School Dance Covers & New Classics.
URL:https://cob.org/event/elizabeth-park-concert-series-2024-spaceband
LOCATION:Elizabeth Park\, 2205 Elizabeth St\, Bellingham\, Washington\, 98225
CATEGORIES:Elizabeth,Parks and Recreation
GEO:48.7602186;-122.4907968
X-APPLE-STRUCTURED-LOCATION;VALUE=URI;X-ADDRESS=Elizabeth Park 2205 Elizabeth St Bellingham Washington 98225;X-APPLE-RADIUS=500;X-TITLE=2205 Elizabeth St:geo:-122.4907968,48.7602186
END:VEVENT
BEGIN:VEVENT
DTSTART;TZID=America/Vancouver:20240620T180000
DTEND;TZID=America/Vancouver:20240620T200000
DTSTAMP:20260421T091337
CREATED:20240613T160147Z
LAST-MODIFIED:20240613T160156Z
UID:10002699-1718906400-1718913600@cob.org
SUMMARY:Elizabeth Park Concert Series 2024 - North Sound Soul
DESCRIPTION:Join us for the 30th season of Elizabeth Park Summer Concerts! Thank you to the Eldridge Society for History and Preservation for their continued partnership with Bellingham Parks and Recreation providing these family-friendly concerts. Tonight’s band is – North Sound Soul featuring Horn-Driven Soul\, Funk & Rock.
URL:https://cob.org/event/elizabeth-park-concert-series-2024-north-sound-soul
LOCATION:Elizabeth Park\, 2205 Elizabeth St\, Bellingham\, Washington\, 98225
CATEGORIES:Elizabeth,Parks and Recreation
GEO:48.7602186;-122.4907968
X-APPLE-STRUCTURED-LOCATION;VALUE=URI;X-ADDRESS=Elizabeth Park 2205 Elizabeth St Bellingham Washington 98225;X-APPLE-RADIUS=500;X-TITLE=2205 Elizabeth St:geo:-122.4907968,48.7602186
END:VEVENT
END:VCALENDAR