BEGIN:VCALENDAR
VERSION:2.0
PRODID:-//City of Bellingham - ECPv6.2.5//NONSGML v1.0//EN
CALSCALE:GREGORIAN
METHOD:PUBLISH
X-WR-CALNAME:City of Bellingham
X-ORIGINAL-URL:https://cob.org
X-WR-CALDESC:Events for City of Bellingham
REFRESH-INTERVAL;VALUE=DURATION:PT1H
X-Robots-Tag:noindex
X-PUBLISHED-TTL:PT1H
BEGIN:VTIMEZONE
TZID:America/Vancouver
BEGIN:DAYLIGHT
TZOFFSETFROM:-0800
TZOFFSETTO:-0700
TZNAME:PDT
DTSTART:20230312T100000
END:DAYLIGHT
BEGIN:STANDARD
TZOFFSETFROM:-0700
TZOFFSETTO:-0800
TZNAME:PST
DTSTART:20231105T090000
END:STANDARD
END:VTIMEZONE
BEGIN:VEVENT
DTSTART;TZID=America/Vancouver:20230506T090000
DTEND;TZID=America/Vancouver:20230506T120000
DTSTAMP:20231105T055553
CREATED:20230424T193529Z
LAST-MODIFIED:20230424T193533Z
UID:10001386-1683363600-1683374400@cob.org
SUMMARY:Volunteer Opportunity: Community Work Party at Happy Valley Park with NSEA
DESCRIPTION:The salmon in Connelly Creek\, which runs through this lovely neighborhood park\, need some help from our friends at NSEA\, who will be joining us to help with improving habitat by removing invasives and planting native plants! \n\n\n\nAll ages and abilities welcome. Participants under age 14 must be accompanied by a parent/guardian. Tools\, gloves\, and instructions are provided. Please dress for the weather and wear sturdy shoes. \n\n\n\nAdditional information will be emailed to registered participants. Register early\, space is limited! If you sign up\, please show up! \n\n\n\nRegister early. Space is limited! \n\n\n\nRegister Now!\n\n\n\n \n\n\n\nQuestions? Contact pkvolunteers@cob.org or 360-778-7105.This event is Parkscriptions Certified!
URL:https://cob.org/event/volunteer-opportunity-community-work-party-at-happy-valley-park-with-nsea
LOCATION:Happy Valley Park\, 2710 Donovan Ave\, Bellingham\, Washington\, 98225\, United States
CATEGORIES:Happy Valley,Parks and Recreation,Volunteer Opportunities
ATTACH;FMTTYPE=image/jpeg:https://cob.org/wp-content/uploads/05-06-2023-Happy-Valley-Park-w-NSEA.jpeg
GEO:48.7171433;-122.4815254
X-APPLE-STRUCTURED-LOCATION;VALUE=URI;X-ADDRESS=Happy Valley Park 2710 Donovan Ave Bellingham Washington 98225 United States;X-APPLE-RADIUS=500;X-TITLE=2710 Donovan Ave:geo:-122.4815254,48.7171433
END:VEVENT
END:VCALENDAR