BEGIN:VCALENDAR
VERSION:2.0
PRODID:-//City of Bellingham - ECPv6.15.18//NONSGML v1.0//EN
CALSCALE:GREGORIAN
METHOD:PUBLISH
X-WR-CALNAME:City of Bellingham
X-ORIGINAL-URL:https://cob.org
X-WR-CALDESC:Events for City of Bellingham
REFRESH-INTERVAL;VALUE=DURATION:PT1H
X-Robots-Tag:noindex
X-PUBLISHED-TTL:PT1H
BEGIN:VTIMEZONE
TZID:America/Vancouver
BEGIN:DAYLIGHT
TZOFFSETFROM:-0800
TZOFFSETTO:-0700
TZNAME:PDT
DTSTART:20230312T100000
END:DAYLIGHT
BEGIN:STANDARD
TZOFFSETFROM:-0700
TZOFFSETTO:-0800
TZNAME:PST
DTSTART:20231105T090000
END:STANDARD
BEGIN:DAYLIGHT
TZOFFSETFROM:-0800
TZOFFSETTO:-0700
TZNAME:PDT
DTSTART:20240310T100000
END:DAYLIGHT
BEGIN:STANDARD
TZOFFSETFROM:-0700
TZOFFSETTO:-0800
TZNAME:PST
DTSTART:20241103T090000
END:STANDARD
BEGIN:DAYLIGHT
TZOFFSETFROM:-0800
TZOFFSETTO:-0700
TZNAME:PDT
DTSTART:20250309T100000
END:DAYLIGHT
BEGIN:STANDARD
TZOFFSETFROM:-0700
TZOFFSETTO:-0800
TZNAME:PST
DTSTART:20251102T090000
END:STANDARD
BEGIN:DAYLIGHT
TZOFFSETFROM:-0800
TZOFFSETTO:-0700
TZNAME:PDT
DTSTART:20260308T100000
END:DAYLIGHT
BEGIN:STANDARD
TZOFFSETFROM:-0700
TZOFFSETTO:-0800
TZNAME:PST
DTSTART:20261101T090000
END:STANDARD
BEGIN:DAYLIGHT
TZOFFSETFROM:-0800
TZOFFSETTO:-0700
TZNAME:PDT
DTSTART:20270314T100000
END:DAYLIGHT
BEGIN:STANDARD
TZOFFSETFROM:-0700
TZOFFSETTO:-0800
TZNAME:PST
DTSTART:20271107T090000
END:STANDARD
END:VTIMEZONE
BEGIN:VEVENT
DTSTART;TZID=America/Vancouver:20260131T100000
DTEND;TZID=America/Vancouver:20260131T130000
DTSTAMP:20260421T205418
CREATED:20260109T214226Z
LAST-MODIFIED:20260112T195840Z
UID:10005149-1769853600-1769864400@cob.org
SUMMARY:Volunteer Opportunity Community Work Party at Harriet Spanel Park  Jan 2026
DESCRIPTION:This park in the York Neighborhood near the Loving Space School needs some love. Join us and the York Neighborhood Association to help to remove weeds\, spread mulch\, and pick up litter to revitalize the space! \n\n\n\nPlease note that this event is from 10 a.m. to 1 p.m. \n\n\n\nAll ages and abilities welcome. Participants under age 16 must be accompanied by a parent/guardian. Tools\, gloves\, and instructions are provided. Please dress for the weather and wear sturdy shoes.  \n\n\n\nAdditional information will be emailed to registered participants. Register early\, space is limited! If you sign up\, please show up! \n\n\n\nRegister early. Space is limited! \n\n\n\nRegister Here\n\n\n\n \n\n\n\nQuestions? Contact pkvolunteers@cob.org or 360-778-7105.This event is Parkscriptions Certified!
URL:https://cob.org/event/volunteer-opportunity-jan-2026
LOCATION:Harriet Spanel Park\, 1200 Franklin Street\, Bellingham\, Washington\, 98225\, United States
CATEGORIES:Harriet Spanel,Volunteer Opportunities
ATTACH;FMTTYPE=image/jpeg:https://cob.org/wp-content/uploads/4-Harriet-Spanel-Park-Photo-by-Ryan-Robie.jpg
GEO:48.7431108;-122.4701636
X-APPLE-STRUCTURED-LOCATION;VALUE=URI;X-ADDRESS=Harriet Spanel Park 1200 Franklin Street Bellingham Washington 98225 United States;X-APPLE-RADIUS=500;X-TITLE=1200 Franklin Street:geo:-122.4701636,48.7431108
END:VEVENT
BEGIN:VEVENT
DTSTART;TZID=America/Vancouver:20240921T090000
DTEND;TZID=America/Vancouver:20240921T120000
DTSTAMP:20260421T205418
CREATED:20240822T195303Z
LAST-MODIFIED:20240822T195309Z
UID:10002807-1726909200-1726920000@cob.org
SUMMARY:Volunteer Opportunity: Community Work Party at Harriet Spanel Park - Fall 2024
DESCRIPTION:The York Neighborhood Association needs our help to remove weeds\, mulch\, and pick up litter at this awesome park. Join us at Harriet Spanel Park as we celebrate National Clean Up Day! \n\n\n\nAll ages and abilities welcome. Participants under age 16 must be accompanied by a parent/guardian. Tools\, gloves\, and instructions are provided. Please dress for the weather and wear sturdy shoes.  \n\n\n\nAdditional information will be emailed to registered participants. Register early\, space is limited! If you sign up\, please show up! \n\n\n\nRegister early. Space is limited! \n\n\n\nRegister Here!\n\n\n\n \n\n\n\nQuestions? Contact pkvolunteers@cob.org or 360-778-7105.This event is Parkscriptions Certified!
URL:https://cob.org/event/volunteer-opportunity-community-work-party-at-harriet-spanel-park-fall-2024
LOCATION:Harriet Spanel Park\, 1200 Franklin Street\, Bellingham\, Washington\, 98225\, United States
CATEGORIES:Harriet Spanel,Parks and Recreation,Volunteer Opportunities
ATTACH;FMTTYPE=image/png:https://cob.org/wp-content/uploads/2-Harriet-Spanel-Park-Photo-by-Ryan-Robie-6.png
GEO:48.7431108;-122.4701636
X-APPLE-STRUCTURED-LOCATION;VALUE=URI;X-ADDRESS=Harriet Spanel Park 1200 Franklin Street Bellingham Washington 98225 United States;X-APPLE-RADIUS=500;X-TITLE=1200 Franklin Street:geo:-122.4701636,48.7431108
END:VEVENT
END:VCALENDAR