BEGIN:VCALENDAR
VERSION:2.0
PRODID:-//City of Bellingham - ECPv6.2.5//NONSGML v1.0//EN
CALSCALE:GREGORIAN
METHOD:PUBLISH
X-WR-CALNAME:City of Bellingham
X-ORIGINAL-URL:https://cob.org
X-WR-CALDESC:Events for City of Bellingham
REFRESH-INTERVAL;VALUE=DURATION:PT1H
X-Robots-Tag:noindex
X-PUBLISHED-TTL:PT1H
BEGIN:VTIMEZONE
TZID:America/Vancouver
BEGIN:DAYLIGHT
TZOFFSETFROM:-0800
TZOFFSETTO:-0700
TZNAME:PDT
DTSTART:20220313T100000
END:DAYLIGHT
BEGIN:STANDARD
TZOFFSETFROM:-0700
TZOFFSETTO:-0800
TZNAME:PST
DTSTART:20221106T090000
END:STANDARD
BEGIN:DAYLIGHT
TZOFFSETFROM:-0800
TZOFFSETTO:-0700
TZNAME:PDT
DTSTART:20230312T100000
END:DAYLIGHT
BEGIN:STANDARD
TZOFFSETFROM:-0700
TZOFFSETTO:-0800
TZNAME:PST
DTSTART:20231105T090000
END:STANDARD
END:VTIMEZONE
BEGIN:VEVENT
DTSTART;TZID=America/Vancouver:20230318T090000
DTEND;TZID=America/Vancouver:20230318T120000
DTSTAMP:20231105T045504
CREATED:20230109T221521Z
LAST-MODIFIED:20230109T221525Z
UID:10001270-1679130000-1679140800@cob.org
SUMMARY:Volunteer Opportunity: Community Work Party at Julianna Park with WMTP & NSEA
DESCRIPTION:Join the city\, Whatcom Million Trees Project (WMTP)\, and the Nooksack Salmon Enhancement Association (NSEA) and restore habitat at one of Bellingham’s newest parks. \n\n\n\nAll ages and abilities welcome. Participants under age 14 must be accompanied by a parent/guardian. Tools\, gloves\, and instructions are provided. Please dress for the weather and wear sturdy shoes. \n\n\n\nAdditional information will be emailed to registered participants. Register early\, space is limited! If you sign up\, please show up! \n\n\n\nRegister early. Space is limited! \n\n\n\nRegister Now!\n\n\n\n \n\n\n\nQuestions? Contact pkvolunteers@cob.org or 360-778-7105.This event is Parkscriptions Certified!
URL:https://cob.org/event/volunteer-opportunity-community-work-party-at-julianna-park-with-wmtp-nsea
LOCATION:Julianna Park*\, 651 W Horton Rd\, Bellingham\, Washington\, 98226\, United States
CATEGORIES:Julianna,Parks and Recreation,Volunteer Opportunities
ATTACH;FMTTYPE=image/jpeg:https://cob.org/wp-content/uploads/03-18-2023-Julianna.jpg
GEO:48.804268;-122.5012036
X-APPLE-STRUCTURED-LOCATION;VALUE=URI;X-ADDRESS=Julianna Park* 651 W Horton Rd Bellingham Washington 98226 United States;X-APPLE-RADIUS=500;X-TITLE=651 W Horton Rd:geo:-122.5012036,48.804268
END:VEVENT
BEGIN:VEVENT
DTSTART;TZID=America/Vancouver:20221001T090000
DTEND;TZID=America/Vancouver:20221001T120000
DTSTAMP:20231105T045504
CREATED:20220908T182455Z
LAST-MODIFIED:20220908T182458Z
UID:10001117-1664614800-1664625600@cob.org
SUMMARY:Volunteer Opportunity: Community Work Party at Julianna Park
DESCRIPTION:Restore habitat at one of Bellingham’s newest parks. \n\n\n\nAll ages and abilities welcome. Participants under age 14 must be accompanied by a parent/guardian. Tools\, gloves\, and instructions are provided. Please dress for the weather and wear sturdy shoes. \n\n\n\nThis event will follow current health department guidelines and safety protocols. Additional information and reminders will be emailed to registered participants. If you sign up\, please show up! \n\n\n\nRegister Now!\n\n\n\n \n\n\n\nQuestions? Contact pkvolunteers@cob.org or 360-778-7105.This event is Parkscriptions Certified!
URL:https://cob.org/event/volunteer-opportunity-community-work-party-at-julianna-park
LOCATION:Julianna Park\, 800 West Horton Road\, Bellingham\, Washington
CATEGORIES:Julianna,Parks and Recreation,Volunteer Opportunities
ATTACH;FMTTYPE=image/jpeg:https://cob.org/wp-content/uploads/2022-10-01-Julianna-Park-Photo-by-Zach-Griffin-2.jpg
GEO:48.8043436;-122.5187852
X-APPLE-STRUCTURED-LOCATION;VALUE=URI;X-ADDRESS=Julianna Park 800 West Horton Road Bellingham Washington;X-APPLE-RADIUS=500;X-TITLE=800 West Horton Road:geo:-122.5187852,48.8043436
END:VEVENT
END:VCALENDAR