BEGIN:VCALENDAR
VERSION:2.0
PRODID:-//City of Bellingham - ECPv6.2.5//NONSGML v1.0//EN
CALSCALE:GREGORIAN
METHOD:PUBLISH
X-WR-CALNAME:City of Bellingham
X-ORIGINAL-URL:https://cob.org
X-WR-CALDESC:Events for City of Bellingham
REFRESH-INTERVAL;VALUE=DURATION:PT1H
X-Robots-Tag:noindex
X-PUBLISHED-TTL:PT1H
BEGIN:VTIMEZONE
TZID:America/Vancouver
BEGIN:DAYLIGHT
TZOFFSETFROM:-0800
TZOFFSETTO:-0700
TZNAME:PDT
DTSTART:20230312T100000
END:DAYLIGHT
BEGIN:STANDARD
TZOFFSETFROM:-0700
TZOFFSETTO:-0800
TZNAME:PST
DTSTART:20231105T090000
END:STANDARD
END:VTIMEZONE
BEGIN:VEVENT
DTSTART;TZID=America/Vancouver:20230211T090000
DTEND;TZID=America/Vancouver:20230211T120000
DTSTAMP:20231105T011054
CREATED:20230109T200815Z
LAST-MODIFIED:20230109T200858Z
UID:10001263-1676106000-1676116800@cob.org
SUMMARY:Volunteer Opportunity: Community Work Party at Northridge Park
DESCRIPTION:Join us as we work to beautify and restore this beloved and secluded park. \n\n\n\nAll ages and abilities welcome. Participants under age 14 must be accompanied by a parent/guardian. Tools\, gloves\, and instructions are provided. Please dress for the weather and wear sturdy shoes. \n\n\n\nParking will be available for this work party at Squalicum High School’s parking lot\, located at 3773 E McLeod Rd\, Bellingham\, WA 98226. \n\n\n\nAdditional information will be emailed to registered participants. Register early\, space is limited! If you sign up\, please show up! \n\n\n\nRegister early. Space is limited! \n\n\n\nRegister Now!\n\n\n\n \n\n\n\nQuestions? Contact pkvolunteers@cob.org or 360-778-7105.This event is Parkscriptions Certified!
URL:https://cob.org/event/volunteer-opportunity-community-work-party-at-northridge-park
LOCATION:Northridge Park\, 3400 Carrington Way\, Bellingham\, Washington\, 98226\, United States
CATEGORIES:Northridge,Parks and Recreation,Volunteer Opportunities
ATTACH;FMTTYPE=image/jpeg:https://cob.org/wp-content/uploads/02-11-2023-Northridge-Park.jpg
GEO:48.7763176;-122.4234723
X-APPLE-STRUCTURED-LOCATION;VALUE=URI;X-ADDRESS=Northridge Park 3400 Carrington Way Bellingham Washington 98226 United States;X-APPLE-RADIUS=500;X-TITLE=3400 Carrington Way:geo:-122.4234723,48.7763176
END:VEVENT
END:VCALENDAR