BEGIN:VCALENDAR
VERSION:2.0
PRODID:-//City of Bellingham - ECPv6.15.18//NONSGML v1.0//EN
CALSCALE:GREGORIAN
METHOD:PUBLISH
X-WR-CALNAME:City of Bellingham
X-ORIGINAL-URL:https://cob.org
X-WR-CALDESC:Events for City of Bellingham
REFRESH-INTERVAL;VALUE=DURATION:PT1H
X-Robots-Tag:noindex
X-PUBLISHED-TTL:PT1H
BEGIN:VTIMEZONE
TZID:America/Vancouver
BEGIN:DAYLIGHT
TZOFFSETFROM:-0800
TZOFFSETTO:-0700
TZNAME:PDT
DTSTART:20230312T100000
END:DAYLIGHT
BEGIN:STANDARD
TZOFFSETFROM:-0700
TZOFFSETTO:-0800
TZNAME:PST
DTSTART:20231105T090000
END:STANDARD
BEGIN:DAYLIGHT
TZOFFSETFROM:-0800
TZOFFSETTO:-0700
TZNAME:PDT
DTSTART:20240310T100000
END:DAYLIGHT
BEGIN:STANDARD
TZOFFSETFROM:-0700
TZOFFSETTO:-0800
TZNAME:PST
DTSTART:20241103T090000
END:STANDARD
BEGIN:DAYLIGHT
TZOFFSETFROM:-0800
TZOFFSETTO:-0700
TZNAME:PDT
DTSTART:20250309T100000
END:DAYLIGHT
BEGIN:STANDARD
TZOFFSETFROM:-0700
TZOFFSETTO:-0800
TZNAME:PST
DTSTART:20251102T090000
END:STANDARD
BEGIN:DAYLIGHT
TZOFFSETFROM:-0800
TZOFFSETTO:-0700
TZNAME:PDT
DTSTART:20260308T100000
END:DAYLIGHT
BEGIN:STANDARD
TZOFFSETFROM:-0700
TZOFFSETTO:-0800
TZNAME:PST
DTSTART:20261101T090000
END:STANDARD
END:VTIMEZONE
BEGIN:VEVENT
DTSTART;TZID=America/Vancouver:20250531T090000
DTEND;TZID=America/Vancouver:20250531T120000
DTSTAMP:20260421T165909
CREATED:20250407T184342Z
LAST-MODIFIED:20250407T184347Z
UID:10003865-1748682000-1748692800@cob.org
SUMMARY:Volunteer Opportunity: Community Work Party at Rock Hill Park - May 2025
DESCRIPTION:This hidden park in the York neighborhood needs some love! Join the City and the York Neighborhood Association in removing Himalayan Blackberry and sprucing up the Butterfly Garden. \n\n\n\nAll ages and abilities welcome. Participants under the age of 16 must be accompanied by a parent/guardian. Tools\, gloves\, and instructions are provided. Please dress for the weather and wear sturdy shoes. \n\n\n\nAdditional information will be emailed to registered participants. Register early\, space is limited! If you sign up\, please show up! \n\n\n\nRegister early. Space is limited! \n\n\n\nRegister Here\n\n\n\n \n\n\n\nQuestions? Contact pkvolunteers@cob.org or 360-778-7105.This event is Parkscriptions Certified!
URL:https://cob.org/event/volunteer-opportunity-community-work-party-at-rock-hill-park-may-2025
LOCATION:Rock Hill Park\, 1329 Iron Street\, Bellingham\, Washington
CATEGORIES:Parks and Recreation,Rock Hill,Volunteer Opportunities
ATTACH;FMTTYPE=image/jpeg:https://cob.org/wp-content/uploads/2025-05-31-RockHillPark.jpg
GEO:48.7457814;-122.4667294
X-APPLE-STRUCTURED-LOCATION;VALUE=URI;X-ADDRESS=Rock Hill Park 1329 Iron Street Bellingham Washington;X-APPLE-RADIUS=500;X-TITLE=1329 Iron Street:geo:-122.4667294,48.7457814
END:VEVENT
BEGIN:VEVENT
DTSTART;TZID=America/Vancouver:20250125T100000
DTEND;TZID=America/Vancouver:20250125T130000
DTSTAMP:20260421T165909
CREATED:20250106T175457Z
LAST-MODIFIED:20250108T200920Z
UID:10003671-1737799200-1737810000@cob.org
SUMMARY:Volunteer Opportunity: Community Work Party at Rock Hill Park - Winter 2025
DESCRIPTION:This hidden park in the York neighborhood needs some love! Join the City and the York Neighborhood Association in removing invasive English Ivy. *Please note that this event is from 10 a.m. to 1 p.m.* \n\n\n\nAll ages and abilities welcome. Participants under age 16 must be accompanied by a parent/guardian. Tools\, gloves\, and instructions are provided. Please dress for the weather and wear sturdy shoes.  \n\n\n\nAdditional information will be emailed to registered participants. Register early\, space is limited! If you sign up\, please show up! \n\n\n\nRegister early. Space is limited! \n\n\n\nRegister Here!\n\n\n\n \n\n\n\nQuestions? Contact pkvolunteers@cob.org or 360-778-7105.This event is Parkscriptions Certified!
URL:https://cob.org/event/volunteer-opportunity-community-work-party-at-rock-hill-park-winter-2025
LOCATION:Rock Hill Park\, 1329 Iron Street\, Bellingham\, Washington
CATEGORIES:Parks and Recreation,Rock Hill,Volunteer Opportunities
ATTACH;FMTTYPE=image/png:https://cob.org/wp-content/uploads/3-Rock-Hill-Park-Photo-by-Sky-Bressette.png
GEO:48.7457814;-122.4667294
X-APPLE-STRUCTURED-LOCATION;VALUE=URI;X-ADDRESS=Rock Hill Park 1329 Iron Street Bellingham Washington;X-APPLE-RADIUS=500;X-TITLE=1329 Iron Street:geo:-122.4667294,48.7457814
END:VEVENT
BEGIN:VEVENT
DTSTART;TZID=America/Vancouver:20240511T090000
DTEND;TZID=America/Vancouver:20240511T120000
DTSTAMP:20260421T165909
CREATED:20240502T201312Z
LAST-MODIFIED:20240502T201329Z
UID:10002549-1715418000-1715428800@cob.org
SUMMARY:Volunteer Opportunity: Community Work Party at Rock Hill Park
DESCRIPTION:This hidden park in the York neighborhood needs some love! Join the City and the York Neighborhood Association in removing Himalayan Blackberry and sprucing up the Butterfly Garden. \n\n\n\nAll ages and abilities welcome. Participants under the age of 16 must be accompanied by a parent/guardian. Tools\, gloves\, and instructions are provided. Please dress for the weather and wear sturdy shoes. \n\n\n\nAdditional information will be emailed to registered participants. Register early\, space is limited! If you sign up\, please show up! \n\n\n\nRegister early. Space is limited! \n\n\n\nRegister Here!\n\n\n\n \n\n\n\nQuestions? Contact pkvolunteers@cob.org or 360-778-7105.This event is Parkscriptions Certified!
URL:https://cob.org/event/volunteer-opportunity-community-work-party-at-rock-hill-park-2
LOCATION:Rock Hill Park\, 1329 Iron Street\, Bellingham\, Washington
CATEGORIES:Parks and Recreation,Rock Hill,Volunteer Opportunities
GEO:48.7457814;-122.4667294
X-APPLE-STRUCTURED-LOCATION;VALUE=URI;X-ADDRESS=Rock Hill Park 1329 Iron Street Bellingham Washington;X-APPLE-RADIUS=500;X-TITLE=1329 Iron Street:geo:-122.4667294,48.7457814
END:VEVENT
END:VCALENDAR