BEGIN:VCALENDAR
VERSION:2.0
PRODID:-//City of Bellingham - ECPv6.2.5//NONSGML v1.0//EN
CALSCALE:GREGORIAN
METHOD:PUBLISH
X-ORIGINAL-URL:https://cob.org
X-WR-CALDESC:Events for City of Bellingham
REFRESH-INTERVAL;VALUE=DURATION:PT1H
X-Robots-Tag:noindex
X-PUBLISHED-TTL:PT1H
BEGIN:VTIMEZONE
TZID:America/Vancouver
BEGIN:DAYLIGHT
TZOFFSETFROM:-0800
TZOFFSETTO:-0700
TZNAME:PDT
DTSTART:20230312T100000
END:DAYLIGHT
BEGIN:STANDARD
TZOFFSETFROM:-0700
TZOFFSETTO:-0800
TZNAME:PST
DTSTART:20231105T090000
END:STANDARD
END:VTIMEZONE
BEGIN:VEVENT
DTSTART;TZID=America/Vancouver:20230617T090000
DTEND;TZID=America/Vancouver:20230617T120000
DTSTAMP:20231105T032314
CREATED:20230505T154623Z
LAST-MODIFIED:20230605T195209Z
UID:10001395-1686992400-1687003200@cob.org
SUMMARY:Volunteer Opportunity: Community Work Party at Rock Hill Park
DESCRIPTION:This hidden park in the York neighborhood needs some love! Join the City and the York Neighborhood Association in removing Himalayan Blackberry and sprucing up the Butterfly Garden. \n\n\n\nAll ages and abilities welcome. Participants under age 14 must be accompanied by a parent/guardian. Tools\, gloves\, and instructions are provided. Please dress for the weather and wear sturdy shoes. \n\n\n\nAdditional information will be emailed to registered participants. Register early\, space is limited! If you sign up\, please show up! \n\n\n\nRegister early. Space is limited! \n\n\n\nRegister Now!\n\n\n\n \n\n\n\nQuestions? Contact pkvolunteers@cob.org or 360-778-7105This event is Parkscriptions Certified!
URL:https://cob.org/event/volunteer-opportunity-community-work-party-at-rock-hill-park
LOCATION:Rock Hill Park\, 1329 Iron Street\, Bellingham\, Washington
CATEGORIES:Parks and Recreation,Rock Hill,Volunteer Opportunities
ATTACH;FMTTYPE=image/jpeg:https://cob.org/wp-content/uploads/06-17-2023-Rock-Hill-Park.jpg
GEO:48.7457814;-122.4667294
X-APPLE-STRUCTURED-LOCATION;VALUE=URI;X-ADDRESS=Rock Hill Park 1329 Iron Street Bellingham Washington;X-APPLE-RADIUS=500;X-TITLE=1329 Iron Street:geo:-122.4667294,48.7457814
END:VEVENT
END:VCALENDAR