BEGIN:VCALENDAR
VERSION:2.0
PRODID:-//City of Bellingham - ECPv6.2.5//NONSGML v1.0//EN
CALSCALE:GREGORIAN
METHOD:PUBLISH
X-ORIGINAL-URL:https://cob.org
X-WR-CALDESC:Events for City of Bellingham
REFRESH-INTERVAL;VALUE=DURATION:PT1H
X-Robots-Tag:noindex
X-PUBLISHED-TTL:PT1H
BEGIN:VTIMEZONE
TZID:America/Vancouver
BEGIN:DAYLIGHT
TZOFFSETFROM:-0800
TZOFFSETTO:-0700
TZNAME:PDT
DTSTART:20240310T100000
END:DAYLIGHT
BEGIN:STANDARD
TZOFFSETFROM:-0700
TZOFFSETTO:-0800
TZNAME:PST
DTSTART:20241103T090000
END:STANDARD
END:VTIMEZONE
BEGIN:VEVENT
DTSTART;TZID=America/Vancouver:20240102T150000
DTEND;TZID=America/Vancouver:20240102T170000
DTSTAMP:20231104T051442
CREATED:20221117T200358Z
LAST-MODIFIED:20230427T175507Z
UID:10001327-1704207600-1704214800@cob.org
SUMMARY:Design Review Board (DRB) Meeting
DESCRIPTION:The Design Review Board (DRB) advises the Planning and Community Development Director and Staff on proposed development projects.  \n\n\n\nParticipation Options \n\n\n\nMeetings can be attended either in-person at City Hall (210 Lottie Street)\, or virtually via Zoom Webinar (Meeting ID: 933 8224 5585 / Password: 9).   \n\n\n\n\nThe meeting can also be attended via phone by calling listen by phone at 1-253-215-8782\, 1-669-900-6833 or 1-929-205-6099 and using the meeting information above.\n\n\n\n\nRegistration via www.cob.org/drb is required to attend the meeting via Zoom or to provide public comment. \n\n\n\nMeeting Materials\n\n\n\nVisit meetings.cob.org to view meeting agendas and supporting materials\, which are posted approximately one week prior to the meeting date. If you are interested in meetings held prior to March\, 2023 – visit the Design Review Meeting Materials webpage.
URL:https://cob.org/event/design-review-board-drb-meeting-3/2024-01-02
CATEGORIES:Boards and Commissions,Design Review Board
ORGANIZER;CN="Shannon Taysi":MAILTO:staysi@cob.org
END:VEVENT
BEGIN:VEVENT
DTSTART;TZID=America/Vancouver:20240104T190000
DTEND;TZID=America/Vancouver:20240104T210000
DTSTAMP:20231104T051442
CREATED:20230831T171942Z
LAST-MODIFIED:20230831T172232Z
UID:10001816-1704394800-1704402000@cob.org
SUMMARY:Greenways Advisory Committee
DESCRIPTION:Location: In Person at City Hall – Mayor’s Board Room or Remote Meeting Option Below Join from a PC\, Mac\, iPad\, iPhone or Android device: \n\n\n\nYour Personal Meeting Link: https://cob.zoom.us/s/94589588482?pwd=bWtSVGlzcHFDVHlrY1Z2RU5XMjR2UT09 \n\n\n\nMeeting ID: 945 8958 8482 \n\n\n\nPassword: 558849 \n\n\n\nOr join by phone: \n\n\n\n                Dial (for higher quality\, dial a number based on your current location): \n\n\n\n       +1 253 215 8782       +1 346 248 7799        +1 669 900 6833       +1 929 205 6099        +1 301 715 8592       +1 312 626 6799 \n\n\n\n**Note: If joining by phone only you can raise your hand by entering *9 on your phone keypad. You can use *6 to mute and un-mute yourself if your phone does not have built it mic muting.
URL:https://cob.org/event/greenways-advisory-committee-4/2024-01-04
LOCATION:City Hall\, 210 Lottie St\, Bellingham\, Washington\, 98225\, United States
CATEGORIES:Boards and Commissions,Greenway Advisory Committee,Parks and Recreation
ATTACH;FMTTYPE=image/jpeg:https://cob.org/wp-content/uploads/cordata-park-art-2-1.jpg
GEO:48.7552397;-122.4789188
X-APPLE-STRUCTURED-LOCATION;VALUE=URI;X-ADDRESS=City Hall 210 Lottie St Bellingham Washington 98225 United States;X-APPLE-RADIUS=500;X-TITLE=210 Lottie St:geo:-122.4789188,48.7552397
END:VEVENT
BEGIN:VEVENT
DTSTART;TZID=America/Vancouver:20240104T190000
DTEND;TZID=America/Vancouver:20240104T220000
DTSTAMP:20231104T051442
CREATED:20230714T184911Z
LAST-MODIFIED:20230714T184917Z
UID:10001323-1704394800-1704405600@cob.org
SUMMARY:Planning Commission Meeting
DESCRIPTION:Agenda: The following item(s) are anticipated to be considered at this meeting. The full agenda and meeting materials will be posted approximately two weeks in advance of the meeting. Written comments can be sent to planningcommission@cob.org. \n\n\n\n\n\n\n\n\n\nParticipation Options: Meetings can be attended either in-person at City Hall (210 Lottie Street)\, or virtually via Zoom Webinar (Meeting ID:    / Password:  ) \n\n\n\n\nThe meetings are streamed live via the City’s website at meetings.cob.org\, on the City’s YouTube channel (www.youtube.com/user/cityofbhamwa)\, or on Comcast channel 10 (HD – channel 321). The meeting can also be attended via phone by calling listen by phone at 1-253-215-8782\, 1-669-900-6833 or 1-929-205-6099 and using the meeting information above.\n\n\n\n\nRegistration via www.cob.org/pc is required to attend the meeting via Zoom or to provide public comment. \n\n\n\nIf you are interested in being informed of upcoming Planning Commission business\, please email haven@cob.org and request to be added to the PC Notification List.
URL:https://cob.org/event/planning-commission-meeting-15/2024-01-04
CATEGORIES:Boards and Commissions,Planning and Development Commission
ATTACH;FMTTYPE=image/jpeg:https://cob.org/wp-content/uploads/p901259-transportation-watershed-transportation-watershed.jpg
END:VEVENT
BEGIN:VEVENT
DTSTART;TZID=America/Vancouver:20240109T160000
DTEND;TZID=America/Vancouver:20240109T180000
DTSTAMP:20231104T051442
CREATED:20220412T162436Z
LAST-MODIFIED:20221128T172806Z
UID:10001357-1704816000-1704823200@cob.org
SUMMARY:Historic Preservation Commission Meeting
DESCRIPTION:The Historic Preservation Commission is responsible for identifying and actively encouraging the conservation of the City of Bellingham’s historic resources.  \n\n\n\nParticipation Options \n\n\n\nMeetings can be attended either in-person at City Hall (210 Lottie Street)\, or virtually via Zoom Webinar (Meeting ID: 975 7464 8447  / Password: 9) via https://cob.zoom.us/j/97574648447. \n\n\n\n\nThe meeting can also be attended via phone by calling listen by phone at 1-253-215-8782\, 1-669-900-6833 or 1-929-205-6099 and using the meeting information above.\n\n\n\n\nNo registration is required to attend this meeting. \n\n\n\nMeeting Materials\n\n\n\nVisit the Historic Preservation Commission Meeting Materials webpage to view meeting agendas and supporting materials\, which are posted approximately one week prior to the meeting date. Also viewable are the minutes and audio from past meetings.
URL:https://cob.org/event/historic-preservation-commission-meeting-12-2022-09-13/2024-01-09
LOCATION:City Hall\, 210 Lottie Street\, Bellingham
CATEGORIES:Boards and Commissions,Historic Preservation Commission
END:VEVENT
BEGIN:VEVENT
DTSTART;TZID=America/Vancouver:20240109T180000
DTEND;TZID=America/Vancouver:20240109T200000
DTSTAMP:20231104T051442
CREATED:20231011T161417Z
LAST-MODIFIED:20231011T161421Z
UID:10001591-1704823200-1704830400@cob.org
SUMMARY:Transportation Commission Meeting
DESCRIPTION:The Transportation Commission is expected to help shape the future of Bellingham by taking a long-range\, strategic look at transportation issues and providing recommendations on policy choices and investment priorities.​ Transportation Commission meetings are typically held on the 2nd Tuesdays of the month at 6 p.m. in a hybrid format. Meetings take place in person at the Pacific Street Operations Center (2221 Pacific Street) and on Zoom.More Information​​Visit the Transportation Commission webpage or contact ​​​​​​​transportation@cob.org for more information.Please click the link below to join the meeting:https://cob.zoom.us/j/87937760456?pwd=aW1oRVZMR0hHUVh5RkN0OU9nSHlVZz09City of Bellingham Webinar InstructionsMeeting ID: 879 3776 0456Password: 591437If you have never used Zoom before you can download the zoom application before the meeting begins here: zoom.us/downloadYou can also test your connection here: zoom.us/testOr Telephone:Dial(for higher quality\, dial a number based on your current location):   +1 253 215 8782   +1 346 248 7799   +1 669 900 6833   +1 312 626 6799   +1 929 205 6099   +1 301 715 8592Meeting ID: 879 3776 0456Password: 591437Or an H.323/SIP room system:H.323: 162.255.37.11 (US West) or 162.255.36.11 (US East)Meeting ID: 879 3776 0456Password: 591437SIP: 87937760456@zoomcrc.comPassword: 591437
URL:https://cob.org/event/transportation-commission-meeting-6/2024-01-09
CATEGORIES:Boards and Commissions,Transportation Commission
ATTACH;FMTTYPE=image/jpeg:https://cob.org/wp-content/uploads/p600102-transportation-commission.jpg
END:VEVENT
BEGIN:VEVENT
DTSTART;TZID=America/Vancouver:20240110T073000
DTEND;TZID=America/Vancouver:20240110T093000
DTSTAMP:20231104T051442
CREATED:20221101T153232Z
LAST-MODIFIED:20231006T203606Z
UID:10001901-1704871800-1704879000@cob.org
SUMMARY:Parks and Recreation Advisory Board Meeting
DESCRIPTION:Location: In Person at City Hall – Mayor’s Board Room or Remote Meeting Option Below \n\n\n\nJoin from a PC\, Mac\, iPad\, iPhone\, or Android device: \n\n\n\nYour Personal Meeting Link: https://cob.zoom.us/s/99623052639?pwd=M1RlWENpc0ZGaWlnTENJNHJLVWhYdz09 \n\n\n\nMeeting ID: 996 2305 2639Password: 914391 \n\n\n\nOr join by phone: \n\n\n\n    Dial (for higher quality\, dial a number based on your current location): \n\n\n\n+1 253 215 8782          +1 669 900 6833           +1 346 248 7799            +1 301 715 8592            +1 312 626 6799            +1 929 205 6099 \n\n\n\n    Meeting ID: 996 2305 2639    Password: 914391 \n\n\n\nNote: If joining by phone only you can raise your hand by entering *9 on your phone keypad.  You can use *6 to mute and un-mute yourself if you phone does not have built it mic muting.
URL:https://cob.org/event/parks-and-recreation-advisory-board-meeting/2024-01-10
LOCATION:City Hall\, 210 Lottie St\, Bellingham\, Washington\, 98225\, United States
CATEGORIES:Boards and Commissions,Parks and Recreation Advisory Board
ATTACH;FMTTYPE=image/jpeg:https://cob.org/wp-content/uploads/Lee-Memorial-events.jpg
GEO:48.7552397;-122.4789188
X-APPLE-STRUCTURED-LOCATION;VALUE=URI;X-ADDRESS=City Hall 210 Lottie St Bellingham Washington 98225 United States;X-APPLE-RADIUS=500;X-TITLE=210 Lottie St:geo:-122.4789188,48.7552397
END:VEVENT
BEGIN:VEVENT
DTSTART;TZID=America/Vancouver:20240116T173000
DTEND;TZID=America/Vancouver:20240116T193000
DTSTAMP:20231104T051442
CREATED:20200610T201541Z
LAST-MODIFIED:20230714T182906Z
UID:10001703-1705426200-1705433400@cob.org
SUMMARY:Sister Cities Advisory Board Meeting
DESCRIPTION:The Sister Cities Advisory Board advises the Mayor and all involved city departments concerning the establishment and maintenance of sister city relationships between the City of Bellingham and cities of other countries. Meetings are held on the third Tuesday of each month at 5:30 p.m. in person as well as online via Zoom. Please see the Bellingham Sister Cities Association page or email sistercities@cob.org for more information. \n\n\n\nSee the Meeting Materials page for agendas and minutes. \n\n\n\nThe meeting will be held in person in the Mayor’s Board Room in City Hall at 210 Lottie St. There will also be the option to join remotely through an online web-based meeting platform\, with an option to call in by telephone. The meeting is open to the public. \n\n\n\nAppointed Board members of the Sister Cities Advisory Board: \n\n\n\n·       You will receive a personal invitation via email to participate as a panelist using Zoom. \n\n\n\n·       Follow the instructions included in your email invitation. \n\n\n\nParticipation / Attendance by Members of the Public \n\n\n\nParticipate by Zoom \n\n\n\nMembers of the public can join the meeting as an “attendee” by signing on at: \n\n\n\nhttps://cob.zoom.us/j/93515563881?pwd=b1Q2N21xaFFtZEt5NVh2blJYbDdSdz09 \n\n\n\nMeeting ID: 935 1556 3881                      Password: 175808 \n\n\n\nCity of Bellingham Webinar InstructionsIf you have never used Zoom before you can download the zoom application before the meeting begins here: zoom.us/download \n\n\n\nParticipate by Telephone:For anyone (appointed Board members and members of the public) who wish to participate by telephone\, dial any of the numbers below to join the meeting. \n\n\n\n(253) 215 8782  (346) 248 7799  (669) 900 6833      (312) 626 6799 \n\n\n\n(929) 205 6099  (301) 715 8592  \n\n\n\nWhen prompted use Meeting ID:  935 1556 3881    Password: 175808
URL:https://cob.org/event/bellingham-sister-cities-association-meeting-2021-01-19/2024-01-16
LOCATION:City Hall\, 210 Lottie Street\, Bellingham
CATEGORIES:Boards and Commissions,Sister Cities Advisory Board
ATTACH;FMTTYPE=image/jpeg:https://cob.org/wp-content/uploads/sister-cities-meetings.jpg
END:VEVENT
BEGIN:VEVENT
DTSTART;TZID=America/Vancouver:20240117T183000
DTEND;TZID=America/Vancouver:20240117T203000
DTSTAMP:20231104T051442
CREATED:20231011T175919Z
LAST-MODIFIED:20231011T175923Z
UID:10001908-1705516200-1705523400@cob.org
SUMMARY:Mayor's Neighborhood Advisory Commission Meeting
DESCRIPTION:Location: Mayor’s Board Room at Bellingham City Hall or via Zoom \n\n\n\nMayor’s Neighborhood Advisory Commission (MNAC) meeting agendas and other information available on the Mayor’s Neighborhood Advisory Commission page.  \n\n\n\nThe meeting will be held in-person in the Mayor’s Board Room\, 2nd floor of Bellingham City Hall\, with an option for appointed members and the public to participate remotely via Zoom or call in by telephone.  \n\n\n\nOfficially Appointed MNAC Representatives and Appointed Alternates: You may attend in person or remotely. You will continue to receive a personal invitation via email to participate as a panelist using Zoom. If you choose to attend remotely\, please follow the instructions included in your email invitation and listed on the agenda when published.  \n\n\n\nNeighborhood Presidents and other members of the public: Members of the public may attend in person or join the remote meeting as “attendees” by signing on at: https://www.cob.org/mnac \n\n\n\nTelephone Instructions• For anyone (appointed MNAC representatives and members of the public) who wish to participate by telephone\, dial any of the numbers below to join the meeting: (253) 215-8782 (346) 248-7799 (669) 900-6833 (301) 715-8592 (312) 626-6799 (929) 205-6099 When prompted using Meeting ID: 961-5064-4967 and Password: MNAC (6622)
URL:https://cob.org/event/mayors-neighborhood-advisory-commission-meeting-5/2024-01-17
LOCATION:Online via Zoom\, Bellingham\, Washington\, 98225
END:VEVENT
BEGIN:VEVENT
DTSTART;TZID=America/Vancouver:20240118T190000
DTEND;TZID=America/Vancouver:20240118T220000
DTSTAMP:20231104T051442
CREATED:20220908T100336Z
LAST-MODIFIED:20230713T144542Z
UID:10001326-1705604400-1705615200@cob.org
SUMMARY:Planning Commission Meeting
DESCRIPTION:Agenda: The following item(s) are anticipated to be considered at this meeting. The full agenda and meeting materials will be posted approximately two weeks in advance of the meeting. Written comments can be sent to planningcommission@cob.org. \n\n\n\n\n\n\n\n\n\nParticipation Options: Meetings can be attended either in-person at City Hall (210 Lottie Street)\, or virtually via Zoom Webinar (Meeting ID:    / Password:  ) \n\n\n\n\nThe meetings are streamed live via the City’s website at meetings.cob.org\, on the City’s YouTube channel (www.youtube.com/user/cityofbhamwa)\, or on Comcast channel 10 (HD – channel 321). The meeting can also be attended via phone by calling listen by phone at 1-253-215-8782\, 1-669-900-6833 or 1-929-205-6099 and using the meeting information above.\n\n\n\n\nRegistration via www.cob.org/pc is required to attend the meeting via Zoom or to provide public comment. \n\n\n\nIf you are interested in being informed of upcoming Planning Commission business\, please email haven@cob.org and request to be added to the PC Notification List.
URL:https://cob.org/event/planning-commission-2022-03-03-2022-10-06-2/2024-01-18
CATEGORIES:Planning and Development Commission
ATTACH;FMTTYPE=image/jpeg:https://cob.org/wp-content/uploads/p901259-transportation-watershed-transportation-watershed.jpg
END:VEVENT
BEGIN:VEVENT
DTSTART;TZID=America/Vancouver:20240123T153000
DTEND;TZID=America/Vancouver:20240123T170000
DTSTAMP:20231104T051442
CREATED:20230713T003500Z
LAST-MODIFIED:20230713T003505Z
UID:10001290-1706023800-1706029200@cob.org
SUMMARY:Tourism Commission Meeting
DESCRIPTION:The Bellingham Tourism Commission makes recommendations to the City for allocations to local organizations as part of the Tourism Promotion grant program. \n\n\n\nParticipation Options\n\n\n\nMeetings can be attended either in-person (see agenda for specific locations as it changes monthly) or virtually via Zoom Webinar (Meeting ID: 926 3348 0860  / Password: 9). \n\n\n\n\nThe meeting can also be attended via phone by calling listen by phone at 1-253-215-8782\, 1-669-900-6833 or 1-929-205-6099 and using the meeting information above.\n\n\n\n\nRegistration via www.cob.org/tourism is required to attend the meeting via Zoom or to provide public comment. \n\n\n\nMeeting Materials\n\n\n\nVisit meetings.cob.org to view meeting agendas and supporting materials\, which are posted approximately one week prior to the meeting date. If you are interested in meetings held prior to March\, 2023 – visit the Tourism Commission Meeting Materials webpage.
URL:https://cob.org/event/tourism-commission-meeting-8/2024-01-23
CATEGORIES:Boards and Commissions,Tourism Commission
ATTACH;FMTTYPE=image/jpeg:https://cob.org/wp-content/uploads/p9010911-visiting-1.jpg
ORGANIZER;CN="Shannon Taysi":MAILTO:staysi@cob.org
END:VEVENT
BEGIN:VEVENT
DTSTART;TZID=America/Vancouver:20240123T190000
DTEND;TZID=America/Vancouver:20240123T210000
DTSTAMP:20231104T051442
CREATED:20220908T100337Z
LAST-MODIFIED:20221128T172855Z
UID:10001340-1706036400-1706043600@cob.org
SUMMARY:Historic Preservation Commission Meeting
DESCRIPTION:The Historic Preservation Commission (HPC) is responsible for identifying and actively encouraging the conservation of the City of Bellingham’s historic resources. \n\n\n\nParticipation Options\n\n\n\nMeetings can be attended either in-person at City Hall (210 Lottie Street)\, or virtually via Zoom Webinar (Meeting ID: 940 8891 9905  / Password: 9) via https://cob.zoom.us/j/94088919905. \n\n\n\n\nThe meeting can also be attended via phone by calling listen by phone at 1-253-215-8782\, 1-669-900-6833 or 1-929-205-6099 and using the meeting information above.\n\n\n\n\nNo registration required to attend this meeting.  \n\n\n\nMeeting Materials\n\n\n\nVisit the Historic Preservation Commission Meeting Materials webpage to view meeting agendas and supporting materials\, which are posted approximately one week prior to the meeting date. Also viewable\, are the minutes and audio from past meetings.
URL:https://cob.org/event/historic-preservation-commission-meeting-12-2022-09-13-2/2024-01-23
CATEGORIES:Historic Preservation Commission
END:VEVENT
END:VCALENDAR