BEGIN:VCALENDAR
VERSION:2.0
PRODID:-//City of Bellingham - ECPv6.2.5//NONSGML v1.0//EN
CALSCALE:GREGORIAN
METHOD:PUBLISH
X-ORIGINAL-URL:https://cob.org
X-WR-CALDESC:Events for City of Bellingham
REFRESH-INTERVAL;VALUE=DURATION:PT1H
X-Robots-Tag:noindex
X-PUBLISHED-TTL:PT1H
BEGIN:VTIMEZONE
TZID:America/Vancouver
BEGIN:DAYLIGHT
TZOFFSETFROM:-0800
TZOFFSETTO:-0700
TZNAME:PDT
DTSTART:20210314T100000
END:DAYLIGHT
BEGIN:STANDARD
TZOFFSETFROM:-0700
TZOFFSETTO:-0800
TZNAME:PST
DTSTART:20211107T090000
END:STANDARD
END:VTIMEZONE
BEGIN:VEVENT
DTSTART;TZID=America/Vancouver:20211111T000000
DTEND;TZID=America/Vancouver:20211111T235959
DTSTAMP:20231104T085437
CREATED:20200616T194050Z
LAST-MODIFIED:20220225T214546Z
UID:10000768-1636588800-1636675199@cob.org
SUMMARY:City Holiday - Veterans Day
DESCRIPTION:​Most City of Bellingham services are closed for City holidays. For a complete list of holidays\, closures and information about emergency and after-hours services\, please visit our Holidays and Closures page.
URL:https://cob.org/event/city-holiday-veterans-day-2/2021-11-11
CATEGORIES:Holidays
ATTACH;FMTTYPE=image/jpeg:https://cob.org/wp-content/uploads/veterans-day-holidays-1.jpg
END:VEVENT
END:VCALENDAR