BEGIN:VCALENDAR
VERSION:2.0
PRODID:-//City of Bellingham - ECPv6.2.5//NONSGML v1.0//EN
CALSCALE:GREGORIAN
METHOD:PUBLISH
X-ORIGINAL-URL:https://cob.org
X-WR-CALDESC:Events for City of Bellingham
REFRESH-INTERVAL;VALUE=DURATION:PT1H
X-Robots-Tag:noindex
X-PUBLISHED-TTL:PT1H
BEGIN:VTIMEZONE
TZID:America/Vancouver
BEGIN:DAYLIGHT
TZOFFSETFROM:-0800
TZOFFSETTO:-0700
TZNAME:PDT
DTSTART:20220313T100000
END:DAYLIGHT
BEGIN:STANDARD
TZOFFSETFROM:-0700
TZOFFSETTO:-0800
TZNAME:PST
DTSTART:20221106T090000
END:STANDARD
END:VTIMEZONE
BEGIN:VEVENT
DTSTART;TZID=America/Vancouver:20220905T000000
DTEND;TZID=America/Vancouver:20220905T235959
DTSTAMP:20231104T085628
CREATED:20200616T194230Z
LAST-MODIFIED:20220225T214641Z
UID:10000772-1662336000-1662422399@cob.org
SUMMARY:City Holiday - Labor Day
DESCRIPTION:Most City of Bellingham services are closed for City holidays. For a complete list of holidays\, closures and information about emergency and after-hours services\, please visit our Holidays and Closures page.
URL:https://cob.org/event/city-holiday-labor-day-2/2022-09-05
CATEGORIES:Holidays
ATTACH;FMTTYPE=image/jpeg:https://cob.org/wp-content/uploads/labor-day-holidays-1.jpg
END:VEVENT
BEGIN:VEVENT
DTSTART;TZID=America/Vancouver:20220906T150000
DTEND;TZID=America/Vancouver:20220906T170000
DTSTAMP:20231104T085628
CREATED:20211209T042051Z
LAST-MODIFIED:20220908T073059Z
UID:10000916-1662476400-1662483600@cob.org
SUMMARY:*CANCELED* Design Review Board (DRB) Meeting
DESCRIPTION:The Design Review Board (DRB) advises the Planning and Community Development Director and Staff on proposed development projects  \n\n\n\nMeeting Materials\n\n\n\nVisit the Design Review Meeting Materials webpage to view meeting agendas and supporting materials\, which are posted approximately one week prior to the meeting date. Also viewable\, are the minutes from past meetings. \n\n\n\nAttend Meeting\n\n\n\nAt this time the meetings are being held virtually via Zoom Webinars. Registration via www.cob.org/drb is required to attend the meeting via Zoom or to provide public comment. \n\n\n\n Alternatively\, citizens can listen to the meeting via phone by dialing 1-253-215-8782\, 1-669-900-6833 or 1-929-205-6099. \n\n\n\nMeeting ID: 967 2017 0011    Password: 9
URL:https://cob.org/event/drb-meetings
CATEGORIES:Boards and Commissions,Design Review Board
ORGANIZER;CN="Shannon Taysi":MAILTO:staysi@cob.org
END:VEVENT
BEGIN:VEVENT
DTSTART;TZID=America/Vancouver:20220908T180000
DTEND;TZID=America/Vancouver:20220908T200000
DTSTAMP:20231104T085628
CREATED:20211228T220855Z
LAST-MODIFIED:20220901T212314Z
UID:10000941-1662660000-1662667200@cob.org
SUMMARY:*POSTPONED TO 9/15* Community Development Advisory Board (CDAB) Meeting
DESCRIPTION:As a precaution\, all City of Bellingham in-person meetings have been suspended. At this time\, all Community Development Advisory Board meetings are being held virtually via Zoom Webinars. Options for joining this meeting are as follows:  \n\n\n\nMeeting ID: 986 9045 9994     Password: 21  \n\n\n\nNo registration is required to attend this meeting via https://cob.zoom.us/j/98690459994. Alternatively\, citizens can listen to the meeting via phone by dialing 1-253-215-8782\, 1-669-900-6833 or 1-929-205-6099.  \n\n\n\nMeeting Materials can be found on the agendas and supporting materials webpage.
URL:https://cob.org/event/copy-of-community-development-advisory-board-cdab-meeting-2022-09-08
CATEGORIES:Boards and Commissions,Community Development Advisory Board
ATTACH;FMTTYPE=image/jpeg:https://cob.org/wp-content/uploads/CDAB-Picture.jpg
ORGANIZER;CN="Heather Aven%2C Administrative Secretary":MAILTO:haven@cob.org
END:VEVENT
BEGIN:VEVENT
DTSTART;TZID=America/Vancouver:20220910T000000
DTEND;TZID=America/Vancouver:20220918T235959
DTSTAMP:20231104T085628
CREATED:20220810T224508Z
LAST-MODIFIED:20220811T142709Z
UID:10001054-1662768000-1663545599@cob.org
SUMMARY:Habitat Photos Monitoring and Prize Drawing
DESCRIPTION:Take photos at two of the City’s habitat restoration sites during Whatcom Water Week to help us monitor how these sites are maturing over time! Your photo submissions through our Habitat Photos project help us document the progress of the Padden Creek Daylighting and Squalicum Creek Re-route Phases 1 & 2 projects\, which were constructed in 2015 to improve water quality and fish passage.  \n\n\n\nPrize Drawing\n\n\n\nDuring Whatcom Water Week\, we will have additional educational signs at the sites and a prize drawing for a $50 gift card to a local native plant nursery. To enter the prize drawing\, please include the email address habitat@cob.org when you submit your photo entry at one of our two Habitat Photos sites. There are signs at each photo station describing how to capture and submit photos. All photos are automatically and anonymously added to a timelapse video. \n\n\n\nEveryone can enter the prize drawing twice during the week – once at each site.  \n\n\n\nLocations\n\n\n\nClick this image to view a map of the photo station locations. \n\n\nThe Padden Creek Daylighting photo stations are located on the pedestrian bridge accessed via the Interurban Trail Rotary Trailhead parking lot off of Old Fairhaven Parkway. The coordinates for this photo station location are approximately 48°42’55.3″N 122°29’35.8″W.  \n\n\n\nThe Squalicum Creek Re-route Phases 1 & 2 photo stations are located on the pedestrian bridge that can be accessed by walking on the trail north from the Sunset Pond Park parking lot off of James Street. The coordinates for this photo station location are approximately 48°46’39.4″N 122°27’47.6″W. \n\n\n\nMore Information\n\n\n\nFor more information about this event\, visit our Habitat Photos webpage or email habitat@cob.org.  \n\n\n\nLearn more about Whatcom Water Week on their website.
URL:https://cob.org/event/water-week-photos
CATEGORIES:Environment
ATTACH;FMTTYPE=image/jpeg:https://cob.org/wp-content/uploads/Habitat-Photos-Bracket-habitat.jpg
END:VEVENT
END:VCALENDAR