BEGIN:VCALENDAR
VERSION:2.0
PRODID:-//City of Bellingham - ECPv6.2.5//NONSGML v1.0//EN
CALSCALE:GREGORIAN
METHOD:PUBLISH
X-ORIGINAL-URL:https://cob.org
X-WR-CALDESC:Events for City of Bellingham
REFRESH-INTERVAL;VALUE=DURATION:PT1H
X-Robots-Tag:noindex
X-PUBLISHED-TTL:PT1H
BEGIN:VTIMEZONE
TZID:America/Vancouver
BEGIN:DAYLIGHT
TZOFFSETFROM:-0800
TZOFFSETTO:-0700
TZNAME:PDT
DTSTART:20230312T100000
END:DAYLIGHT
BEGIN:STANDARD
TZOFFSETFROM:-0700
TZOFFSETTO:-0800
TZNAME:PST
DTSTART:20231105T090000
END:STANDARD
END:VTIMEZONE
BEGIN:VEVENT
DTSTART;TZID=America/Vancouver:20230821T180000
DTEND;TZID=America/Vancouver:20230821T200000
DTSTAMP:20231104T061523
CREATED:20230413T214006Z
LAST-MODIFIED:20230413T214009Z
UID:10001364-1692640800-1692648000@cob.org
SUMMARY:SPIN Dance Ice Cream Social
DESCRIPTION:Let’s end summer with a special SPIN Dance! Bellingham Parks and Recreation and the Max Higbee Center will host an Ice Cream Social at Depot Market Square for individuals with disabilities. Everyone 14 and older is invited to dance with us to music provided by Glitt3r Lyfe’s Aireekah! Please pre-register for this special event!
URL:https://cob.org/event/spin-dance-ice-cream-social
LOCATION:Depot Market Square\, 1100 Railroad Ave\, Bellingham\, Washington\, 98225
CATEGORIES:Parks and Recreation
ATTACH;FMTTYPE=image/jpeg:https://cob.org/wp-content/uploads/SPIN_IceCreamSocial.jpg
GEO:48.7472056;-122.4807489
X-APPLE-STRUCTURED-LOCATION;VALUE=URI;X-ADDRESS=Depot Market Square 1100 Railroad Ave Bellingham Washington 98225;X-APPLE-RADIUS=500;X-TITLE=1100 Railroad Ave:geo:-122.4807489,48.7472056
END:VEVENT
BEGIN:VEVENT
DTSTART;TZID=America/Vancouver:20230822T153000
DTEND;TZID=America/Vancouver:20230822T170000
DTSTAMP:20231104T061523
CREATED:20230720T151330Z
LAST-MODIFIED:20230720T151336Z
UID:10001116-1692718200-1692723600@cob.org
SUMMARY:*CANCELLED* Tourism Commission Meeting
DESCRIPTION:The Bellingham Tourism Commission makes recommendations to the City for allocations to local organizations as part of the Tourism Promotion grant program. \n\n\n\nParticipation Options\n\n\n\nMeetings can be attended either in-person (see agenda for specific locations as it changes monthly) or virtually via Zoom Webinar (Meeting ID: 926 3348 0860  / Password: 9). \n\n\n\n\nThe meeting can also be attended via phone by calling listen by phone at 1-253-215-8782\, 1-669-900-6833 or 1-929-205-6099 and using the meeting information above.\n\n\n\n\nRegistration via www.cob.org/tourism is required to attend the meeting via Zoom or to provide public comment. \n\n\n\nMeeting Materials\n\n\n\nVisit meetings.cob.org to view meeting agendas and supporting materials\, which are posted approximately one week prior to the meeting date. If you are interested in meetings held prior to March\, 2023 – visit the Tourism Commission Meeting Materials webpage.
URL:https://cob.org/event/tourism-commission-meeting-10
CATEGORIES:Boards and Commissions,Tourism Commission
ATTACH;FMTTYPE=image/jpeg:https://cob.org/wp-content/uploads/p9010911-visiting-1.jpg
ORGANIZER;CN="Shannon Taysi":MAILTO:staysi@cob.org
END:VEVENT
BEGIN:VEVENT
DTSTART;TZID=America/Vancouver:20230822T160000
DTEND;TZID=America/Vancouver:20230822T190000
DTSTAMP:20231104T061523
CREATED:20230227T175758Z
LAST-MODIFIED:20230818T221934Z
UID:10001201-1692720000-1692730800@cob.org
SUMMARY:*CANCELLED* Historic Preservation Commission Meeting
DESCRIPTION:The Historic Preservation Commission (HPC) is responsible for identifying and actively encouraging the conservation of the City of Bellingham’s historic resources. \n\n\n\nParticipation Options\n\n\n\nMeetings can be attended either in-person at City Hall (210 Lottie Street)\, or virtually via Zoom Webinar (Meeting ID: 940 8891 9905  / Password: 9) via https://cob.zoom.us/j/94088919905. \n\n\n\n\nThe meeting can also be attended via phone by calling listen by phone at 1-253-215-8782\, 1-669-900-6833 or 1-929-205-6099 and using the meeting information above.\n\n\n\n\nNo registration required to attend this meeting.  \n\n\n\nMeeting Materials\n\n\n\nVisit the Historic Preservation Commission Meeting Materials webpage to view meeting agendas and supporting materials\, which are posted approximately one week prior to the meeting date. Also viewable\, are the minutes and audio from past meetings.
URL:https://cob.org/event/historic-preservation-commission-meeting-17
CATEGORIES:Historic Preservation Commission
END:VEVENT
BEGIN:VEVENT
DTSTART;TZID=America/Vancouver:20230824T180000
DTEND;TZID=America/Vancouver:20230824T200000
DTSTAMP:20231104T061523
CREATED:20230508T193017Z
LAST-MODIFIED:20230508T193021Z
UID:10001406-1692900000-1692907200@cob.org
SUMMARY:Concerts in the Park
DESCRIPTION:Tonight: bandZandt – The East County’s Favorite Dance Band \n\n\n\nFor ten Thursdays this summer\, Elizabeth Park\, in the Columbia Neighborhood\, will be filled with happy patrons\, enjoying amazing music. These Free\, Family Friendly concerts are sponsored by The Eldridge Society\, in partnership with Bellingham Parks and Recreation\, from 6-8pm every Thursday from June 22 through August 24. Neighbors and friends will enjoy all kinds of music. Food will be available for purchase\, and picnickers are encouraged to recycle and compost. Alcohol\, smoking and vaping not permitted in the park. Dogs must be leashed. 
URL:https://cob.org/event/concerts-in-the-park-08-24
LOCATION:Elizabeth Park\, 2205 Elizabeth St\, Bellingham\, Washington\, 98225
CATEGORIES:Elizabeth,Parks and Recreation
ATTACH;FMTTYPE=image/jpeg:https://cob.org/wp-content/uploads/bandZandt-1.jpg
GEO:48.7602186;-122.4907968
X-APPLE-STRUCTURED-LOCATION;VALUE=URI;X-ADDRESS=Elizabeth Park 2205 Elizabeth St Bellingham Washington 98225;X-APPLE-RADIUS=500;X-TITLE=2205 Elizabeth St:geo:-122.4907968,48.7602186
END:VEVENT
BEGIN:VEVENT
DTSTART;TZID=America/Vancouver:20230825T180000
DTEND;TZID=America/Vancouver:20230825T200000
DTSTAMP:20231104T061523
CREATED:20230511T155109Z
LAST-MODIFIED:20230623T181852Z
UID:10001411-1692986400-1692993600@cob.org
SUMMARY:Concerts in the Park
DESCRIPTION:Tonight: High Mountain String Band – Progressive Bluegrass \n\n\n\nThey’re back! Stop by Boulevard Park for an evening of sensational sounds and sunsets on a Friday in June\, July and August. These free\, family friendly concerts are sponsored by Coldwell Banker Bain and Bellingham Parks and Recreation and feature some of the best local musicians and bands in the Pacific Northwest. Join us from 6-8pm. All dogs must be leashed. Alcohol\, smoking\, and vaping are not permitted.
URL:https://cob.org/event/concerts-in-the-park-3
LOCATION:Boulevard Park Stage\, 470 Bayview Ave\, Bellingham\, Washington\, 98225\, United States
CATEGORIES:Boulevard,Parks and Recreation
ATTACH;FMTTYPE=image/jpeg:https://cob.org/wp-content/uploads/July-28-concert.jpg
GEO:48.7314531;-122.502935
X-APPLE-STRUCTURED-LOCATION;VALUE=URI;X-ADDRESS=Boulevard Park Stage 470 Bayview Ave Bellingham Washington 98225 United States;X-APPLE-RADIUS=500;X-TITLE=470 Bayview Ave:geo:-122.502935,48.7314531
END:VEVENT
END:VCALENDAR