BEGIN:VCALENDAR
VERSION:2.0
PRODID:-//City of Bellingham - ECPv6.2.5//NONSGML v1.0//EN
CALSCALE:GREGORIAN
METHOD:PUBLISH
X-WR-CALNAME:City of Bellingham
X-ORIGINAL-URL:https://cob.org
X-WR-CALDESC:Events for City of Bellingham
REFRESH-INTERVAL;VALUE=DURATION:PT1H
X-Robots-Tag:noindex
X-PUBLISHED-TTL:PT1H
BEGIN:VTIMEZONE
TZID:America/Vancouver
BEGIN:DAYLIGHT
TZOFFSETFROM:-0800
TZOFFSETTO:-0700
TZNAME:PDT
DTSTART:20230312T100000
END:DAYLIGHT
BEGIN:STANDARD
TZOFFSETFROM:-0700
TZOFFSETTO:-0800
TZNAME:PST
DTSTART:20231105T090000
END:STANDARD
END:VTIMEZONE
BEGIN:VEVENT
DTSTART;TZID=America/Vancouver:20230904T000000
DTEND;TZID=America/Vancouver:20230904T235959
DTSTAMP:20231104T061536
CREATED:20200616T194230Z
LAST-MODIFIED:20220225T214641Z
UID:10000773-1693785600-1693871999@cob.org
SUMMARY:City Holiday - Labor Day
DESCRIPTION:Most City of Bellingham services are closed for City holidays. For a complete list of holidays\, closures and information about emergency and after-hours services\, please visit our Holidays and Closures page.
URL:https://cob.org/event/city-holiday-labor-day-2/2023-09-04
CATEGORIES:Holidays
ATTACH;FMTTYPE=image/jpeg:https://cob.org/wp-content/uploads/labor-day-holidays-1.jpg
END:VEVENT
BEGIN:VEVENT
DTSTART;TZID=America/Vancouver:20230905T150000
DTEND;TZID=America/Vancouver:20230905T170000
DTSTAMP:20231104T061536
CREATED:20230831T171640Z
LAST-MODIFIED:20230831T171646Z
UID:10000929-1693926000-1693933200@cob.org
SUMMARY:*CANCELLED* Design Review Board (DRB) Meeting
DESCRIPTION:The Design Review Board (DRB) advises the Planning and Community Development Director and Staff on proposed development projects.  \n\n\n\nParticipation Options \n\n\n\nMeetings can be attended either in-person at City Hall (210 Lottie Street)\, or virtually via Zoom Webinar (Meeting ID: 933 8224 5585 / Password: 9).   \n\n\n\n\nThe meeting can also be attended via phone by calling listen by phone at 1-253-215-8782\, 1-669-900-6833 or 1-929-205-6099 and using the meeting information above.\n\n\n\n\nRegistration via www.cob.org/drb is required to attend the meeting via Zoom or to provide public comment. \n\n\n\nMeeting Materials\n\n\n\nVisit meetings.cob.org to view meeting agendas and supporting materials\, which are posted approximately one week prior to the meeting date. If you are interested in meetings held prior to March\, 2023 – visit the Design Review Meeting Materials webpage.
URL:https://cob.org/event/design-review-board-drb-meeting-20
CATEGORIES:Boards and Commissions,Design Review Board
ORGANIZER;CN="Shannon Taysi":MAILTO:staysi@cob.org
END:VEVENT
BEGIN:VEVENT
DTSTART;TZID=America/Vancouver:20230905T180000
DTEND;TZID=America/Vancouver:20230905T200000
DTSTAMP:20231104T061536
CREATED:20230814T163922Z
LAST-MODIFIED:20230814T163926Z
UID:10000915-1693936800-1693944000@cob.org
SUMMARY:*POSTPONED to 9/12* Bellingham Arts Commission (BAC) Meeting
DESCRIPTION:The Bellingham Arts Commission serves as advisors and advocates for the enhancement and integration of the arts in the community. \n\n\n\nParticipation Options\n\n\n\nMeetings can be attended either in-person at City Hall (210 Lottie Street)\, or virtually via Zoom Webinar (Meeting ID: 915 1955 3016  / Password: 9). \n\n\n\n\nThe meeting can also be attended via phone by calling listen by phone at 1-253-215-8782\, 1-669-900-6833 or 1-929-205-6099 and using the meeting information above.\n\n\n\n\nRegistration via www.cob.org/bac is required to attend the meeting via Zoom or to provide public comment. \n\n\n\nMeeting Materials\n\n\n\nVisit meetings.cob.org to view meeting agendas and supporting materials\, which are posted approximately one week prior to the meeting date. If you are interested in meetings held prior to March\, 2023 – visit the Arts Commission Meeting Materials webpage.
URL:https://cob.org/event/bellingham-arts-commission-bac-meeting-7
LOCATION:Online Zoom Webinar\, Bellingham
CATEGORIES:Arts Commission,Boards and Commissions
ATTACH;FMTTYPE=image/jpeg:https://cob.org/wp-content/uploads/20180529_092727__1531846005617.jpg
ORGANIZER;CN="Shannon Taysi":MAILTO:staysi@cob.org
END:VEVENT
BEGIN:VEVENT
DTSTART;TZID=America/Vancouver:20230907T190000
DTEND;TZID=America/Vancouver:20230907T210000
DTSTAMP:20231104T061536
CREATED:20230831T171942Z
LAST-MODIFIED:20230831T172232Z
UID:10001812-1694113200-1694120400@cob.org
SUMMARY:Greenways Advisory Committee
DESCRIPTION:Location: In Person at City Hall – Mayor’s Board Room or Remote Meeting Option Below Join from a PC\, Mac\, iPad\, iPhone or Android device: \n\n\n\nYour Personal Meeting Link: https://cob.zoom.us/s/94589588482?pwd=bWtSVGlzcHFDVHlrY1Z2RU5XMjR2UT09 \n\n\n\nMeeting ID: 945 8958 8482 \n\n\n\nPassword: 558849 \n\n\n\nOr join by phone: \n\n\n\n                Dial (for higher quality\, dial a number based on your current location): \n\n\n\n       +1 253 215 8782       +1 346 248 7799        +1 669 900 6833       +1 929 205 6099        +1 301 715 8592       +1 312 626 6799 \n\n\n\n**Note: If joining by phone only you can raise your hand by entering *9 on your phone keypad. You can use *6 to mute and un-mute yourself if your phone does not have built it mic muting.
URL:https://cob.org/event/greenways-advisory-committee-4/2023-09-07
LOCATION:City Hall\, 210 Lottie St\, Bellingham\, Washington\, 98225\, United States
CATEGORIES:Boards and Commissions,Greenway Advisory Committee,Parks and Recreation
ATTACH;FMTTYPE=image/jpeg:https://cob.org/wp-content/uploads/cordata-park-art-2-1.jpg
GEO:48.7552397;-122.4789188
X-APPLE-STRUCTURED-LOCATION;VALUE=URI;X-ADDRESS=City Hall 210 Lottie St Bellingham Washington 98225 United States;X-APPLE-RADIUS=500;X-TITLE=210 Lottie St:geo:-122.4789188,48.7552397
END:VEVENT
BEGIN:VEVENT
DTSTART;TZID=America/Vancouver:20230907T190000
DTEND;TZID=America/Vancouver:20230907T220000
DTSTAMP:20231104T061536
CREATED:20230831T152622Z
LAST-MODIFIED:20230831T152625Z
UID:10000953-1694113200-1694124000@cob.org
SUMMARY:*CANCELLED* Planning Commission Meeting
DESCRIPTION:Agenda: The following item(s) are anticipated to be considered at this meeting. The full agenda and meeting materials will be posted approximately two weeks in advance of the meeting. Written comments can be sent to planningcommission@cob.org. \n\n\n\n\n\n\n\n\n\nParticipation Options: Meetings can be attended either in-person at City Hall (210 Lottie Street)\, or virtually via Zoom Webinar (Meeting ID:    / Password:  ) \n\n\n\n\nThe meetings are streamed live via the City’s website at meetings.cob.org\, on the City’s YouTube channel (www.youtube.com/user/cityofbhamwa)\, or on Comcast channel 10 (HD – channel 321). The meeting can also be attended via phone by calling listen by phone at 1-253-215-8782\, 1-669-900-6833 or 1-929-205-6099 and using the meeting information above.\n\n\n\n\nRegistration via www.cob.org/pc is required to attend the meeting via Zoom or to provide public comment. \n\n\n\nIf you are interested in being informed of upcoming Planning Commission business\, please email haven@cob.org and request to be added to the PC Notification List.
URL:https://cob.org/event/planning-commission-meeting-17
CATEGORIES:Boards and Commissions,Planning and Development Commission
ATTACH;FMTTYPE=image/jpeg:https://cob.org/wp-content/uploads/p901259-transportation-watershed-transportation-watershed.jpg
END:VEVENT
BEGIN:VEVENT
DTSTART;TZID=America/Vancouver:20230909T000000
DTEND;TZID=America/Vancouver:20230913T235959
DTSTAMP:20231104T061536
CREATED:20230823T202509Z
LAST-MODIFIED:20230914T204000Z
UID:10001794-1694217600-1694649599@cob.org
SUMMARY:Lake Whatcom Story Walk
DESCRIPTION:Walk the Railroad Trail and learn the history of Lake Whatcom and the current challenges the lake faces. This self-guided nature walk is great for kids\, families\, or anyone who wants to learn more about Lake Whatcom.  \n\n\n\nLocation\n\n\n\nThe self-guided walk will begin at the corner of Electric Avenue and Alabama Street\, north of Bloedel Donovan Park\, and the signs will continue for roughly a mile. \n\n\n\nWhatcom Water Week\n\n\n\nThis event is part of Whatcom Water Week\, a week of community events that celebrates the water resources of Whatcom County. Find a full list of events happening between September 9-17 on the Whatcom Water Week website. \n\n\n\nContact\n\n\n\nEmail: nreducation@cob.orgPhone: (360) 778-7711
URL:https://cob.org/event/lw-storywalk
CATEGORIES:Environment
ATTACH;FMTTYPE=image/jpeg:https://cob.org/wp-content/uploads/Kids-walking.jpg
END:VEVENT
BEGIN:VEVENT
DTSTART;TZID=America/Vancouver:20230909T000000
DTEND;TZID=America/Vancouver:20230917T235959
DTSTAMP:20231104T061536
CREATED:20230823T201357Z
LAST-MODIFIED:20230823T201400Z
UID:10001793-1694217600-1694995199@cob.org
SUMMARY:Bellingham Stormwater Discovery Tours
DESCRIPTION:Celebrate Whatcom Water Week by discovering where all of Bellingham’s rainwater goes on the City’s Stormwater Discovery Tours. Explore our urban and parkland areas while learning how we work hard to keep the water clean\, filter out pollutants\, and prevent flooding. These tours are self-guided. Visit our Stormwater Discovery Tours website for tour details or look for QR codes near stormwater facilities in Fairhaven\, Bloedel Donovan Park\, Barkley Trails\, Squalicum Creek Park\, and Downtown Bellingham. \n\n\n\nWhatcom Water Week\n\n\n\nThis event is part of Whatcom Water Week\, a week of community events that celebrates the water resources of Whatcom County. Find a full list of events happening between September 9-17 on the Whatcom Water Week website. \n\n\n\nContact\n\n\n\nEmail: nreducation@cob.org Phone: (360) 778-7711
URL:https://cob.org/event/stormwater-discovery-tours
CATEGORIES:Environment
ATTACH;FMTTYPE=image/jpeg:https://cob.org/wp-content/uploads/FH-South-Bay-Trail-Rain-Garden.jpg
END:VEVENT
END:VCALENDAR