BEGIN:VCALENDAR
VERSION:2.0
PRODID:-//City of Bellingham - ECPv6.2.5//NONSGML v1.0//EN
CALSCALE:GREGORIAN
METHOD:PUBLISH
X-WR-CALNAME:City of Bellingham
X-ORIGINAL-URL:https://cob.org
X-WR-CALDESC:Events for City of Bellingham
REFRESH-INTERVAL;VALUE=DURATION:PT1H
X-Robots-Tag:noindex
X-PUBLISHED-TTL:PT1H
BEGIN:VTIMEZONE
TZID:America/Vancouver
BEGIN:DAYLIGHT
TZOFFSETFROM:-0800
TZOFFSETTO:-0700
TZNAME:PDT
DTSTART:20230312T100000
END:DAYLIGHT
BEGIN:STANDARD
TZOFFSETFROM:-0700
TZOFFSETTO:-0800
TZNAME:PST
DTSTART:20231105T090000
END:STANDARD
END:VTIMEZONE
BEGIN:VEVENT
DTSTART;TZID=America/Vancouver:20230909T000000
DTEND;TZID=America/Vancouver:20230913T235959
DTSTAMP:20231104T061438
CREATED:20230823T202509Z
LAST-MODIFIED:20230914T204000Z
UID:10001794-1694217600-1694649599@cob.org
SUMMARY:Lake Whatcom Story Walk
DESCRIPTION:Walk the Railroad Trail and learn the history of Lake Whatcom and the current challenges the lake faces. This self-guided nature walk is great for kids\, families\, or anyone who wants to learn more about Lake Whatcom.  \n\n\n\nLocation\n\n\n\nThe self-guided walk will begin at the corner of Electric Avenue and Alabama Street\, north of Bloedel Donovan Park\, and the signs will continue for roughly a mile. \n\n\n\nWhatcom Water Week\n\n\n\nThis event is part of Whatcom Water Week\, a week of community events that celebrates the water resources of Whatcom County. Find a full list of events happening between September 9-17 on the Whatcom Water Week website. \n\n\n\nContact\n\n\n\nEmail: nreducation@cob.orgPhone: (360) 778-7711
URL:https://cob.org/event/lw-storywalk
CATEGORIES:Environment
ATTACH;FMTTYPE=image/jpeg:https://cob.org/wp-content/uploads/Kids-walking.jpg
END:VEVENT
BEGIN:VEVENT
DTSTART;TZID=America/Vancouver:20230909T000000
DTEND;TZID=America/Vancouver:20230917T235959
DTSTAMP:20231104T061438
CREATED:20230823T201357Z
LAST-MODIFIED:20230823T201400Z
UID:10001793-1694217600-1694995199@cob.org
SUMMARY:Bellingham Stormwater Discovery Tours
DESCRIPTION:Celebrate Whatcom Water Week by discovering where all of Bellingham’s rainwater goes on the City’s Stormwater Discovery Tours. Explore our urban and parkland areas while learning how we work hard to keep the water clean\, filter out pollutants\, and prevent flooding. These tours are self-guided. Visit our Stormwater Discovery Tours website for tour details or look for QR codes near stormwater facilities in Fairhaven\, Bloedel Donovan Park\, Barkley Trails\, Squalicum Creek Park\, and Downtown Bellingham. \n\n\n\nWhatcom Water Week\n\n\n\nThis event is part of Whatcom Water Week\, a week of community events that celebrates the water resources of Whatcom County. Find a full list of events happening between September 9-17 on the Whatcom Water Week website. \n\n\n\nContact\n\n\n\nEmail: nreducation@cob.org Phone: (360) 778-7711
URL:https://cob.org/event/stormwater-discovery-tours
CATEGORIES:Environment
ATTACH;FMTTYPE=image/jpeg:https://cob.org/wp-content/uploads/FH-South-Bay-Trail-Rain-Garden.jpg
END:VEVENT
BEGIN:VEVENT
DTSTART;TZID=America/Vancouver:20230911T100000
DTEND;TZID=America/Vancouver:20230911T210000
DTSTAMP:20231104T061438
CREATED:20230123T182437Z
LAST-MODIFIED:20230123T182555Z
UID:10001314-1694426400-1694466000@cob.org
SUMMARY:City Council Meetings
DESCRIPTION:Evening meetings of the full Council start at 7:00 PM unless otherwise announced; Daytime Committee meeting schedule is released the Wednesday before the meeting date. More information\, including opportunities for viewing meetings and public participation\, can be found at meetings.cob.org five days prior to the meeting.​
URL:https://cob.org/event/city-council-meetings/2023-09-11
LOCATION:City Council Chambers\, Bellingham\, WA\, United States
CATEGORIES:City Council
ATTACH;FMTTYPE=image/jpeg:https://cob.org/wp-content/uploads/Civil-Service-meetings.jpg
END:VEVENT
BEGIN:VEVENT
DTSTART;TZID=America/Vancouver:20230912T160000
DTEND;TZID=America/Vancouver:20230912T180000
DTSTAMP:20231104T061438
CREATED:20230907T184132Z
LAST-MODIFIED:20230907T184137Z
UID:10001146-1694534400-1694541600@cob.org
SUMMARY:*CANCELLED* Historic Preservation Commission Meeting
DESCRIPTION:The Historic Preservation Commission is responsible for identifying and actively encouraging the conservation of the City of Bellingham’s historic resources.  \n\n\n\nParticipation Options \n\n\n\nMeetings can be attended either in-person at City Hall (210 Lottie Street)\, or virtually via Zoom Webinar (Meeting ID: 975 7464 8447  / Password: 9) via https://cob.zoom.us/j/97574648447. \n\n\n\n\nThe meeting can also be attended via phone by calling listen by phone at 1-253-215-8782\, 1-669-900-6833 or 1-929-205-6099 and using the meeting information above.\n\n\n\n\nNo registration is required to attend this meeting. \n\n\n\nMeeting Materials\n\n\n\nVisit the Historic Preservation Commission Meeting Materials webpage to view meeting agendas and supporting materials\, which are posted approximately one week prior to the meeting date. Also viewable are the minutes and audio from past meetings.
URL:https://cob.org/event/historic-preservation-commission-meeting-25
LOCATION:City Hall\, 210 Lottie Street\, Bellingham
CATEGORIES:Boards and Commissions,Historic Preservation Commission
END:VEVENT
BEGIN:VEVENT
DTSTART;TZID=America/Vancouver:20230912T180000
DTEND;TZID=America/Vancouver:20230912T200000
DTSTAMP:20231104T061438
CREATED:20230706T173628Z
LAST-MODIFIED:20230707T152838Z
UID:10001587-1694541600-1694548800@cob.org
SUMMARY:Transportation Commission Meeting
DESCRIPTION:The Transportation Commission is expected to help shape the future of Bellingham by taking a long-range\, strategic look at transportation issues and providing recommendations on policy choices and investment priorities.​ Transportation Commission meetings are typically held on the 2nd Tuesdays of the month at 6 p.m. in a hybrid format. Meetings take place in person at the Pacific Street Operations Center (2221 Pacific Street) and on Zoom.More Information​​Visit the Transportation Commission webpage or contact ​​​​​​​transportation@cob.org for more information.
URL:https://cob.org/event/transportation-commission-meeting-3/2023-09-12
CATEGORIES:Boards and Commissions,Transportation Commission
ATTACH;FMTTYPE=image/jpeg:https://cob.org/wp-content/uploads/p600102-transportation-commission.jpg
END:VEVENT
BEGIN:VEVENT
DTSTART;TZID=America/Vancouver:20230912T180000
DTEND;TZID=America/Vancouver:20230912T200000
DTSTAMP:20231104T061438
CREATED:20230814T164120Z
LAST-MODIFIED:20230911T213652Z
UID:10001787-1694541600-1694548800@cob.org
SUMMARY:Bellingham Arts Commission (BAC) Meeting
DESCRIPTION:The Bellingham Arts Commission serves as advisors and advocates for the enhancement and integration of the arts in the community. \n\n\n\nParticipation Options\n\n\n\nMeetings can be attended either in-person in the City Council Boardroom at City Hall (210 Lottie Street)\, or virtually via Zoom Webinar (Meeting ID: 915 1955 3016  / Password: 9). \n\n\n\n\nThe meeting can also be attended via phone by calling listen by phone at 1-253-215-8782\, 1-669-900-6833 or 1-929-205-6099 and using the meeting information above.\n\n\n\n\nRegistration via www.cob.org/bac is required to attend the meeting via Zoom or to provide public comment. \n\n\n\nMeeting Materials\n\n\n\nVisit meetings.cob.org to view meeting agendas and supporting materials\, which are posted approximately one week prior to the meeting date. If you are interested in meetings held prior to March\, 2023 – visit the Arts Commission Meeting Materials webpage.
URL:https://cob.org/event/bellingham-arts-commission-bac-meeting-8
LOCATION:Online Zoom Webinar\, Bellingham
CATEGORIES:Arts Commission,Boards and Commissions
ATTACH;FMTTYPE=image/jpeg:https://cob.org/wp-content/uploads/20180529_092727__1531846005617.jpg
ORGANIZER;CN="Shannon Taysi":MAILTO:staysi@cob.org
END:VEVENT
BEGIN:VEVENT
DTSTART;TZID=America/Vancouver:20230913T073000
DTEND;TZID=America/Vancouver:20230913T093000
DTSTAMP:20231104T061438
CREATED:20221101T153232Z
LAST-MODIFIED:20231006T203606Z
UID:10001172-1694590200-1694597400@cob.org
SUMMARY:Parks and Recreation Advisory Board Meeting
DESCRIPTION:Location: In Person at City Hall – Mayor’s Board Room or Remote Meeting Option Below \n\n\n\nJoin from a PC\, Mac\, iPad\, iPhone\, or Android device: \n\n\n\nYour Personal Meeting Link: https://cob.zoom.us/s/99623052639?pwd=M1RlWENpc0ZGaWlnTENJNHJLVWhYdz09 \n\n\n\nMeeting ID: 996 2305 2639Password: 914391 \n\n\n\nOr join by phone: \n\n\n\n    Dial (for higher quality\, dial a number based on your current location): \n\n\n\n+1 253 215 8782          +1 669 900 6833           +1 346 248 7799            +1 301 715 8592            +1 312 626 6799            +1 929 205 6099 \n\n\n\n    Meeting ID: 996 2305 2639    Password: 914391 \n\n\n\nNote: If joining by phone only you can raise your hand by entering *9 on your phone keypad.  You can use *6 to mute and un-mute yourself if you phone does not have built it mic muting.
URL:https://cob.org/event/parks-and-recreation-advisory-board-meeting/2023-09-13
LOCATION:City Hall\, 210 Lottie St\, Bellingham\, Washington\, 98225\, United States
CATEGORIES:Boards and Commissions,Parks and Recreation Advisory Board
ATTACH;FMTTYPE=image/jpeg:https://cob.org/wp-content/uploads/Lee-Memorial-events.jpg
GEO:48.7552397;-122.4789188
X-APPLE-STRUCTURED-LOCATION;VALUE=URI;X-ADDRESS=City Hall 210 Lottie St Bellingham Washington 98225 United States;X-APPLE-RADIUS=500;X-TITLE=210 Lottie St:geo:-122.4789188,48.7552397
END:VEVENT
BEGIN:VEVENT
DTSTART;TZID=America/Vancouver:20230913T100000
DTEND;TZID=America/Vancouver:20230913T110000
DTSTAMP:20231104T061438
CREATED:20230829T154318Z
LAST-MODIFIED:20230829T154322Z
UID:10001808-1694599200-1694602800@cob.org
SUMMARY:Water Treatment Plant Tour
DESCRIPTION:Celebrate Whatcom Water Week! Where does our drinking water come from and how is it treated? Join us for a tour of the City of Bellingham’s drinking water treatment plant on Wednesday\, September 13 from 10 a.m. to 11:00 a.m. Learn about where the City’s drinking water comes from\, how the water is filtered and sanitized for drinking\, and challenges the drinking water treatment plant operators face in treating drinking water due to human impacts in the Lake Whatcom Watershed. Tour will include Q & A with plant operators and laboratory staff. Check out an overview of the water treatment process. \n\n\n\nImportant Information\n\n\n\nSpace is limited\, RSVP is required. Advance notice by Wednesday\, September 6th is required for accessible tours and accommodations. Minimum age to tour the plant is 8 years old\, children under 18 must be accompanied by an adult chaperone. Tour includes stairs\, walking up to 1 mile\, and standing for 1 hour. Closed-toe shoes and long pants are required. \n\n\n\nLocation\n\n\n\nThis tour takes place at the Bellingham Water Treatment Plant. Parking is limited\, please consider carpooling\, using the bus\, walking\, or riding your bike. Additional information will be emailed to participants once they RSVP. \n\n\n\nWhatcom Water Week\n\n\n\nThis event is part of Whatcom Water Week\, a week of community events that celebrates the water resources of Whatcom County. Find a full list of events happening between September 9-17 on the Whatcom Water Week website. \n\n\n\nContact\n\n\n\nPlease email haroger@cob.org or call (360) 778-7970 to reserve your space.
URL:https://cob.org/event/water-treatment-plant-tour
CATEGORIES:Public Works
ATTACH;FMTTYPE=image/jpeg:https://cob.org/wp-content/uploads/Water-Treatment-Plant-1.jpg
END:VEVENT
BEGIN:VEVENT
DTSTART;TZID=America/Vancouver:20230913T123000
DTEND;TZID=America/Vancouver:20230913T140000
DTSTAMP:20231104T061438
CREATED:20230829T154924Z
LAST-MODIFIED:20230829T154928Z
UID:10001809-1694608200-1694613600@cob.org
SUMMARY:Post Point Resource Recovery Plant Tour
DESCRIPTION:Celebrate Whatcom Water Week! We use clean water to wash our hands\, shower\, clean our clothes and dishes\, and flush toilets\, which translates to lots of soapy water with human waste in it. Once this used water (often called wastewater) leaves your home or business\, where does it flow and how is it treated? Join us for a tour of the City of Bellingham’s Post Point Resource Recovery plant on Wednesday\, September 13 from 12:30 p.m. to 2:30 p.m. Learn about certain human-caused obstacles to the collection system and how our used water is filtered and sanitized before returning to Bellingham Bay. Tour will include Q & A with plant operators and laboratory staff. Check out an overview of the Post Point Resource Recovery Treatment Process. \n\n\n\nImportant Information\n\n\n\nSpace is limited\, RSVP is required. Advance notice by Wednesday\, September 6th is required for accessible tours and accommodations. Minimum age to tour the plant is 8 years old\, children under 18 must be accompanied by an adult chaperone. Tour includes stairs\, walking up to 1 mile\, and standing for 1.5 hours. Closed-toe shoes and long pants are required. \n\n\n\nLocation\n\n\n\nThis tour takes place at the Post Point Resource Recovery Plant at 200 McKenzie Avenue (GoogleMaps link). Parking is limited\, please consider carpooling\, using the bus\, walking\, or riding your bike.  \n\n\n\nWhatcom Water Week\n\n\n\nThis event is part of Whatcom Water Week\, a week of community events that celebrates the water resources of Whatcom County. Find a full list of events happening between September 9-17 on the Whatcom Water Week website. \n\n\n\nContact\n\n\n\nPlease email haroger@cob.org or call (360) 778-7970 to reserve your space.
URL:https://cob.org/event/post-point-tour
CATEGORIES:Public Works
ATTACH;FMTTYPE=image/jpeg:https://cob.org/wp-content/uploads/1forinviteWasteWaterTreatmentPlantBellinghaWA-services-utilities-1.jpg
END:VEVENT
BEGIN:VEVENT
DTSTART;TZID=America/Vancouver:20230913T140000
DTEND;TZID=America/Vancouver:20230913T150000
DTSTAMP:20231104T061438
CREATED:20230809T192925Z
LAST-MODIFIED:20230809T192930Z
UID:10001177-1694613600-1694617200@cob.org
SUMMARY:Civil Service Commission Meeting
DESCRIPTION:Civil Service Commission meetings are held in Council Chambers at City Hall. Those unable to attend in person may register to attend remotely at the Webinar Registration Page.The agenda for the current meeting and minutes for previous meetings are available on the Meeting Materials page.The Civil Service Commission provides for the classification of over 500 civil service employees and for open and competitive examinations at both entry and promotional levels. The Commission may also review the suspension\, removal\, or discharge of civil service employees and will investigate such actions\, hold public hearings\, and reinstate employees if justified. The Commission is staffed by the Human Resources Department of the City of Bellingham in its role as the administrator of the City’s Civil Service System.Meeting duration may vary.
URL:https://cob.org/event/civil-service-commission-meeting-5/2023-09-13
LOCATION:City Council Chambers\, 210 Lottie St\, Bellingham\, Washington\, 98225\, United States
CATEGORIES:Boards and Commissions,Civil Service Commission
ATTACH;FMTTYPE=image/jpeg:https://cob.org/wp-content/uploads/Civil-Service-meetings.jpg
GEO:48.7552397;-122.4789188
X-APPLE-STRUCTURED-LOCATION;VALUE=URI;X-ADDRESS=City Council Chambers 210 Lottie St Bellingham Washington 98225 United States;X-APPLE-RADIUS=500;X-TITLE=210 Lottie St:geo:-122.4789188,48.7552397
END:VEVENT
BEGIN:VEVENT
DTSTART;TZID=America/Vancouver:20230914T173000
DTEND;TZID=America/Vancouver:20230914T183000
DTSTAMP:20231104T061438
CREATED:20230815T230547Z
LAST-MODIFIED:20230815T230551Z
UID:10001786-1694712600-1694716200@cob.org
SUMMARY:Padden Creek Fish Passage Projects Tour
DESCRIPTION:Join the City of Bellingham on Thursday\, September 14 from 5:30 p.m. to 6:30 p.m. for a free walking tour of past\, present\, and future fish passage projects in Padden Creek! During this tour\, we will highlight successful fish passage projects and discuss plans for future projects that will make it easier for salmon to access the upper sections of the stream. These projects are in support of a new voluntary Memorandum of Agreement with Lummi Nation\, Nooksack Indian Tribe\, and Washington State Department of Fish and Wildlife. Learn more at cob.org/culverts. \n\n\n\nLocation\n\n\n\nWe will meet at the Interurban Trail Rotary Trailhead parking lot off of Old Fairhaven Parkway (GoogleMaps directions). There is additional street parking available on Clementine Street.  \n\n\n\nWhatcom Water Week\n\n\n\nThis event is part of Whatcom Water Week\, a week of community events the celebrates the water resources of Whatcom County. Find a full list of events happening between September 9-17 on the Whatcom Water Week website. \n\n\n\nContact\n\n\n\nFor questions or accommodation requests\, please email habitat@cob.org.
URL:https://cob.org/event/padden-tour
CATEGORIES:Environment
ATTACH;FMTTYPE=image/jpeg:https://cob.org/wp-content/uploads/Padden-Post-Project-Photo-habitat.jpg
END:VEVENT
BEGIN:VEVENT
DTSTART;TZID=America/Vancouver:20230914T180000
DTEND;TZID=America/Vancouver:20230914T200000
DTSTAMP:20231104T061438
CREATED:20230608T193747Z
LAST-MODIFIED:20230608T193809Z
UID:10001204-1694714400-1694721600@cob.org
SUMMARY:Community Development Advisory Board (CDAB) Meeting
DESCRIPTION:The Community Development Advisory Board (CDAB) mainly advises the Mayor and City Council on a variety of policies\, plans and projects.  \n\n\n\nParticipation Options \n\n\n\nMeetings can be attended either in-person at City Hall (210 Lottie Street)\, or virtually via Zoom Webinar (Meeting ID: 986 9045 9994  / Password: 21) via https://cob.zoom.us/j/98690459994?. \n\n\n\n\nThe meeting can also be attended via phone by calling listen by phone at 1-253-215-8782\, 1-669-900-6833 or 1-929-205-6099 and using the meeting information above.\n\n\n\n\nNo registration is required to attend this meeting.  \n\n\n\nMeeting Materials \n\n\n\nVisit meetings.cob.org to view meeting agendas and supporting materials\, which are posted approximately one week prior to the meeting date. If you are interested in meetings held prior to April\, 2023 – visit the Community Development Advisory Board Meeting Materials archive page.
URL:https://cob.org/event/community-development-advisory-board-cdab-meeting-9
CATEGORIES:Boards and Commissions,Community Development Advisory Board
ATTACH;FMTTYPE=image/jpeg:https://cob.org/wp-content/uploads/CDAB-Picture.jpg
ORGANIZER;CN="Heather Aven%2C Administrative Secretary":MAILTO:haven@cob.org
END:VEVENT
BEGIN:VEVENT
DTSTART;TZID=America/Vancouver:20230916T090000
DTEND;TZID=America/Vancouver:20230916T120000
DTSTAMP:20231104T061438
CREATED:20230911T224624Z
LAST-MODIFIED:20230911T224628Z
UID:10001877-1694854800-1694865600@cob.org
SUMMARY:Volunteer Opportunity: Community Work Party at Whatcom Creek by City Hall
DESCRIPTION:Celebrate Whatcom Water Week with the City of Bellingham Parks Volunteer Program and the Bellingham Kiwanis as we work to restore salmon habitat and cleanup this well-loved trail behind City Hall.  \n\n\n\nAll ages and abilities welcome. Participants under age 14 must be accompanied by a parent/guardian. Tools\, gloves\, and instructions are provided. Please dress for the weather and wear sturdy shoes.  \n\n\n\nAdditional information will be emailed to registered participants. Register early\, space is limited! If you sign up\, please show up! \n\n\n\nRegister Now\n\n\n\n \n\n\n\nQuestions? Contact pkvolunteers@cob.org or 360-778-7105 \n\n\n\nThis event is Parkscriptions Certified!
URL:https://cob.org/event/volunteer-opportunity-community-work-party-at-whatcom-creek-by-city-hall
LOCATION:City Hall\, 210 Lottie St\, Bellingham\, Washington\, 98225\, United States
CATEGORIES:Parks and Recreation,Volunteer Opportunities
ATTACH;FMTTYPE=image/jpeg:https://cob.org/wp-content/uploads/2023-09-16-Whatcom-Creek-City-Hall.jpg
GEO:48.7552397;-122.4789188
X-APPLE-STRUCTURED-LOCATION;VALUE=URI;X-ADDRESS=City Hall 210 Lottie St Bellingham Washington 98225 United States;X-APPLE-RADIUS=500;X-TITLE=210 Lottie St:geo:-122.4789188,48.7552397
END:VEVENT
END:VCALENDAR