BEGIN:VCALENDAR
VERSION:2.0
PRODID:-//City of Bellingham - ECPv6.2.5//NONSGML v1.0//EN
CALSCALE:GREGORIAN
METHOD:PUBLISH
X-ORIGINAL-URL:https://cob.org
X-WR-CALDESC:Events for City of Bellingham
REFRESH-INTERVAL;VALUE=DURATION:PT1H
X-Robots-Tag:noindex
X-PUBLISHED-TTL:PT1H
BEGIN:VTIMEZONE
TZID:America/Vancouver
BEGIN:DAYLIGHT
TZOFFSETFROM:-0800
TZOFFSETTO:-0700
TZNAME:PDT
DTSTART:20230312T100000
END:DAYLIGHT
BEGIN:STANDARD
TZOFFSETFROM:-0700
TZOFFSETTO:-0800
TZNAME:PST
DTSTART:20231105T090000
END:STANDARD
END:VTIMEZONE
BEGIN:VEVENT
DTSTART;TZID=America/Vancouver:20231106T100000
DTEND;TZID=America/Vancouver:20231106T210000
DTSTAMP:20231104T024658
CREATED:20230123T182437Z
LAST-MODIFIED:20230123T182555Z
UID:10001318-1699264800-1699304400@cob.org
SUMMARY:City Council Meetings
DESCRIPTION:Evening meetings of the full Council start at 7:00 PM unless otherwise announced; Daytime Committee meeting schedule is released the Wednesday before the meeting date. More information\, including opportunities for viewing meetings and public participation\, can be found at meetings.cob.org five days prior to the meeting.​
URL:https://cob.org/event/city-council-meetings/2023-11-06
LOCATION:City Council Chambers\, Bellingham\, WA\, United States
CATEGORIES:City Council
ATTACH;FMTTYPE=image/jpeg:https://cob.org/wp-content/uploads/Civil-Service-meetings.jpg
END:VEVENT
BEGIN:VEVENT
DTSTART;TZID=America/Vancouver:20231107T150000
DTEND;TZID=America/Vancouver:20231107T170000
DTSTAMP:20231104T024658
CREATED:20221117T200358Z
LAST-MODIFIED:20230427T175507Z
UID:10001223-1699369200-1699376400@cob.org
SUMMARY:Design Review Board (DRB) Meeting
DESCRIPTION:The Design Review Board (DRB) advises the Planning and Community Development Director and Staff on proposed development projects.  \n\n\n\nParticipation Options \n\n\n\nMeetings can be attended either in-person at City Hall (210 Lottie Street)\, or virtually via Zoom Webinar (Meeting ID: 933 8224 5585 / Password: 9).   \n\n\n\n\nThe meeting can also be attended via phone by calling listen by phone at 1-253-215-8782\, 1-669-900-6833 or 1-929-205-6099 and using the meeting information above.\n\n\n\n\nRegistration via www.cob.org/drb is required to attend the meeting via Zoom or to provide public comment. \n\n\n\nMeeting Materials\n\n\n\nVisit meetings.cob.org to view meeting agendas and supporting materials\, which are posted approximately one week prior to the meeting date. If you are interested in meetings held prior to March\, 2023 – visit the Design Review Meeting Materials webpage.
URL:https://cob.org/event/design-review-board-drb-meeting-3/2023-11-07
CATEGORIES:Boards and Commissions,Design Review Board
ORGANIZER;CN="Shannon Taysi":MAILTO:staysi@cob.org
END:VEVENT
BEGIN:VEVENT
DTSTART;TZID=America/Vancouver:20231107T180000
DTEND;TZID=America/Vancouver:20231107T200000
DTSTAMP:20231104T024658
CREATED:20231103T154636Z
LAST-MODIFIED:20231103T154641Z
UID:10001208-1699380000-1699387200@cob.org
SUMMARY:Bellingham Arts Commission (BAC) Meeting
DESCRIPTION:The Bellingham Arts Commission serves as advisors and advocates for the enhancement and integration of the arts in the community. \n\n\n\nParticipation Options\n\n\n\nMeetings can be attended either in-person at City Hall (210 Lottie Street)\, or virtually via Zoom Webinar (Meeting ID: 915 1955 3016  / Password: 9). \n\n\n\n\nThe meeting can also be attended via phone by calling listen by phone at 1-253-215-8782\, 1-669-900-6833 or 1-929-205-6099 and using the meeting information above.\n\n\n\n\nRegistration via www.cob.org/bac is required to attend the meeting via Zoom or to provide public comment. \n\n\n\nMeeting Materials\n\n\n\nVisit meetings.cob.org to view meeting agendas and supporting materials\, which are posted approximately one week prior to the meeting date. If you are interested in meetings held prior to March\, 2023 – visit the Arts Commission Meeting Materials webpage.
URL:https://cob.org/event/bellingham-arts-commission-bac-meeting-11
LOCATION:Online Zoom Webinar\, Bellingham
CATEGORIES:Arts Commission,Boards and Commissions
ATTACH;FMTTYPE=image/jpeg:https://cob.org/wp-content/uploads/20180529_092727__1531846005617.jpg
ORGANIZER;CN="Shannon Taysi":MAILTO:staysi@cob.org
END:VEVENT
BEGIN:VEVENT
DTSTART;TZID=America/Vancouver:20231108T073000
DTEND;TZID=America/Vancouver:20231108T093000
DTSTAMP:20231104T024658
CREATED:20221101T153232Z
LAST-MODIFIED:20231006T203606Z
UID:10001899-1699428600-1699435800@cob.org
SUMMARY:Parks and Recreation Advisory Board Meeting
DESCRIPTION:Location: In Person at City Hall – Mayor’s Board Room or Remote Meeting Option Below \n\n\n\nJoin from a PC\, Mac\, iPad\, iPhone\, or Android device: \n\n\n\nYour Personal Meeting Link: https://cob.zoom.us/s/99623052639?pwd=M1RlWENpc0ZGaWlnTENJNHJLVWhYdz09 \n\n\n\nMeeting ID: 996 2305 2639Password: 914391 \n\n\n\nOr join by phone: \n\n\n\n    Dial (for higher quality\, dial a number based on your current location): \n\n\n\n+1 253 215 8782          +1 669 900 6833           +1 346 248 7799            +1 301 715 8592            +1 312 626 6799            +1 929 205 6099 \n\n\n\n    Meeting ID: 996 2305 2639    Password: 914391 \n\n\n\nNote: If joining by phone only you can raise your hand by entering *9 on your phone keypad.  You can use *6 to mute and un-mute yourself if you phone does not have built it mic muting.
URL:https://cob.org/event/parks-and-recreation-advisory-board-meeting/2023-11-08
LOCATION:City Hall\, 210 Lottie St\, Bellingham\, Washington\, 98225\, United States
CATEGORIES:Boards and Commissions,Parks and Recreation Advisory Board
ATTACH;FMTTYPE=image/jpeg:https://cob.org/wp-content/uploads/Lee-Memorial-events.jpg
GEO:48.7552397;-122.4789188
X-APPLE-STRUCTURED-LOCATION;VALUE=URI;X-ADDRESS=City Hall 210 Lottie St Bellingham Washington 98225 United States;X-APPLE-RADIUS=500;X-TITLE=210 Lottie St:geo:-122.4789188,48.7552397
END:VEVENT
BEGIN:VEVENT
DTSTART;TZID=America/Vancouver:20231108T140000
DTEND;TZID=America/Vancouver:20231108T150000
DTSTAMP:20231104T024658
CREATED:20230809T192925Z
LAST-MODIFIED:20230809T192930Z
UID:10001232-1699452000-1699455600@cob.org
SUMMARY:Civil Service Commission Meeting
DESCRIPTION:Civil Service Commission meetings are held in Council Chambers at City Hall. Those unable to attend in person may register to attend remotely at the Webinar Registration Page.The agenda for the current meeting and minutes for previous meetings are available on the Meeting Materials page.The Civil Service Commission provides for the classification of over 500 civil service employees and for open and competitive examinations at both entry and promotional levels. The Commission may also review the suspension\, removal\, or discharge of civil service employees and will investigate such actions\, hold public hearings\, and reinstate employees if justified. The Commission is staffed by the Human Resources Department of the City of Bellingham in its role as the administrator of the City’s Civil Service System.Meeting duration may vary.
URL:https://cob.org/event/civil-service-commission-meeting-5/2023-11-08
LOCATION:City Council Chambers\, 210 Lottie St\, Bellingham\, Washington\, 98225\, United States
CATEGORIES:Boards and Commissions,Civil Service Commission
ATTACH;FMTTYPE=image/jpeg:https://cob.org/wp-content/uploads/Civil-Service-meetings.jpg
GEO:48.7552397;-122.4789188
X-APPLE-STRUCTURED-LOCATION;VALUE=URI;X-ADDRESS=City Council Chambers 210 Lottie St Bellingham Washington 98225 United States;X-APPLE-RADIUS=500;X-TITLE=210 Lottie St:geo:-122.4789188,48.7552397
END:VEVENT
BEGIN:VEVENT
DTSTART;TZID=America/Vancouver:20231109T180000
DTEND;TZID=America/Vancouver:20231109T200000
DTSTAMP:20231104T024658
CREATED:20230608T193856Z
LAST-MODIFIED:20230608T193931Z
UID:10001206-1699552800-1699560000@cob.org
SUMMARY:Community Development Advisory Board (CDAB) Meeting
DESCRIPTION:The Community Development Advisory Board (CDAB) mainly advises the Mayor and City Council on a variety of policies\, plans and projects.  \n\n\n\nParticipation Options \n\n\n\nMeetings can be attended either in-person at City Hall (210 Lottie Street)\, or virtually via Zoom Webinar (Meeting ID: 986 9045 9994  / Password: 21) via https://cob.zoom.us/j/98690459994?. \n\n\n\n\nThe meeting can also be attended via phone by calling listen by phone at 1-253-215-8782\, 1-669-900-6833 or 1-929-205-6099 and using the meeting information above.\n\n\n\n\nNo registration is required to attend this meeting.  \n\n\n\nMeeting Materials \n\n\n\nVisit meetings.cob.org to view meeting agendas and supporting materials\, which are posted approximately one week prior to the meeting date. If you are interested in meetings held prior to April\, 2023 – visit the Community Development Advisory Board Meeting Materials archive page.
URL:https://cob.org/event/community-development-advisory-board-cdab-meeting-11
CATEGORIES:Boards and Commissions,Community Development Advisory Board
ATTACH;FMTTYPE=image/jpeg:https://cob.org/wp-content/uploads/CDAB-Picture.jpg
ORGANIZER;CN="Heather Aven%2C Administrative Secretary":MAILTO:haven@cob.org
END:VEVENT
BEGIN:VEVENT
DTSTART;TZID=America/Vancouver:20231110T000000
DTEND;TZID=America/Vancouver:20231110T235959
DTSTAMP:20231104T024658
CREATED:20200616T194050Z
LAST-MODIFIED:20220225T214546Z
UID:10000770-1699574400-1699660799@cob.org
SUMMARY:City Holiday - Veterans Day
DESCRIPTION:​Most City of Bellingham services are closed for City holidays. For a complete list of holidays\, closures and information about emergency and after-hours services\, please visit our Holidays and Closures page.
URL:https://cob.org/event/city-holiday-veterans-day-2/2023-11-10
CATEGORIES:Holidays
ATTACH;FMTTYPE=image/jpeg:https://cob.org/wp-content/uploads/veterans-day-holidays-1.jpg
END:VEVENT
BEGIN:VEVENT
DTSTART;TZID=America/Vancouver:20231111T090000
DTEND;TZID=America/Vancouver:20231111T120000
DTSTAMP:20231104T024658
CREATED:20230913T154015Z
LAST-MODIFIED:20230913T154020Z
UID:10001885-1699693200-1699704000@cob.org
SUMMARY:Volunteer Opportunity: Community Work Party at Lake Padden/Galbraith Trailhead
DESCRIPTION:Help plant native trees and shrubs near Bellingham’s new favorite trailhead and recreation hub! \n\n\n\nAll ages and abilities welcome. Participants under age 14 must be accompanied by a parent/guardian. Tools\, gloves\, and instructions are provided. Please dress for the weather and wear sturdy shoes.  \n\n\n\nAdditional information will be emailed to registered participants. Register early\, space is limited! If you sign up\, please show up! \n\n\n\nRegister Now!\n\n\n\n \n\n\n\nQuestions? Contact pkvolunteers@cob.org or 360-778-7105 \n\n\n\nThis event is Parkscriptions Certified!
URL:https://cob.org/event/volunteer-opportunity-community-work-party-at-lake-padden-galbraith-trailhead
LOCATION:Lake Padden/Galbraith Trailhead\, 5090 S Samish Way\, Bellingham\, Washington\, 98229\, United States
CATEGORIES:Lake Padden,Parks and Recreation,Volunteer Opportunities
ATTACH;FMTTYPE=image/jpeg:https://cob.org/wp-content/uploads/2023-11-11-Gailbrath.jpg
END:VEVENT
END:VCALENDAR