BEGIN:VCALENDAR
VERSION:2.0
PRODID:-//City of Bellingham - ECPv6.2.5//NONSGML v1.0//EN
CALSCALE:GREGORIAN
METHOD:PUBLISH
X-ORIGINAL-URL:https://cob.org
X-WR-CALDESC:Events for City of Bellingham
REFRESH-INTERVAL;VALUE=DURATION:PT1H
X-Robots-Tag:noindex
X-PUBLISHED-TTL:PT1H
BEGIN:VTIMEZONE
TZID:America/Vancouver
BEGIN:DAYLIGHT
TZOFFSETFROM:-0800
TZOFFSETTO:-0700
TZNAME:PDT
DTSTART:20230312T100000
END:DAYLIGHT
BEGIN:STANDARD
TZOFFSETFROM:-0700
TZOFFSETTO:-0800
TZNAME:PST
DTSTART:20231105T090000
END:STANDARD
END:VTIMEZONE
BEGIN:VEVENT
DTSTART;TZID=America/Vancouver:20231114T160000
DTEND;TZID=America/Vancouver:20231114T180000
DTSTAMP:20231104T051337
CREATED:20220412T162436Z
LAST-MODIFIED:20221128T172806Z
UID:10001194-1699977600-1699984800@cob.org
SUMMARY:Historic Preservation Commission Meeting
DESCRIPTION:The Historic Preservation Commission is responsible for identifying and actively encouraging the conservation of the City of Bellingham’s historic resources.  \n\n\n\nParticipation Options \n\n\n\nMeetings can be attended either in-person at City Hall (210 Lottie Street)\, or virtually via Zoom Webinar (Meeting ID: 975 7464 8447  / Password: 9) via https://cob.zoom.us/j/97574648447. \n\n\n\n\nThe meeting can also be attended via phone by calling listen by phone at 1-253-215-8782\, 1-669-900-6833 or 1-929-205-6099 and using the meeting information above.\n\n\n\n\nNo registration is required to attend this meeting. \n\n\n\nMeeting Materials\n\n\n\nVisit the Historic Preservation Commission Meeting Materials webpage to view meeting agendas and supporting materials\, which are posted approximately one week prior to the meeting date. Also viewable are the minutes and audio from past meetings.
URL:https://cob.org/event/historic-preservation-commission-meeting-12-2022-09-13/2023-11-14
LOCATION:City Hall\, 210 Lottie Street\, Bellingham
CATEGORIES:Boards and Commissions,Historic Preservation Commission
END:VEVENT
BEGIN:VEVENT
DTSTART;TZID=America/Vancouver:20231114T180000
DTEND;TZID=America/Vancouver:20231114T200000
DTSTAMP:20231104T051337
CREATED:20231011T161417Z
LAST-MODIFIED:20231011T161421Z
UID:10001589-1699984800-1699992000@cob.org
SUMMARY:Transportation Commission Meeting
DESCRIPTION:The Transportation Commission is expected to help shape the future of Bellingham by taking a long-range\, strategic look at transportation issues and providing recommendations on policy choices and investment priorities.​ Transportation Commission meetings are typically held on the 2nd Tuesdays of the month at 6 p.m. in a hybrid format. Meetings take place in person at the Pacific Street Operations Center (2221 Pacific Street) and on Zoom.More Information​​Visit the Transportation Commission webpage or contact ​​​​​​​transportation@cob.org for more information.Please click the link below to join the meeting:https://cob.zoom.us/j/87937760456?pwd=aW1oRVZMR0hHUVh5RkN0OU9nSHlVZz09City of Bellingham Webinar InstructionsMeeting ID: 879 3776 0456Password: 591437If you have never used Zoom before you can download the zoom application before the meeting begins here: zoom.us/downloadYou can also test your connection here: zoom.us/testOr Telephone:Dial(for higher quality\, dial a number based on your current location):   +1 253 215 8782   +1 346 248 7799   +1 669 900 6833   +1 312 626 6799   +1 929 205 6099   +1 301 715 8592Meeting ID: 879 3776 0456Password: 591437Or an H.323/SIP room system:H.323: 162.255.37.11 (US West) or 162.255.36.11 (US East)Meeting ID: 879 3776 0456Password: 591437SIP: 87937760456@zoomcrc.comPassword: 591437
URL:https://cob.org/event/transportation-commission-meeting-6/2023-11-14
CATEGORIES:Boards and Commissions,Transportation Commission
ATTACH;FMTTYPE=image/jpeg:https://cob.org/wp-content/uploads/p600102-transportation-commission.jpg
END:VEVENT
BEGIN:VEVENT
DTSTART;TZID=America/Vancouver:20231115T183000
DTEND;TZID=America/Vancouver:20231115T203000
DTSTAMP:20231104T051337
CREATED:20231011T175919Z
LAST-MODIFIED:20231011T175923Z
UID:10001907-1700073000-1700080200@cob.org
SUMMARY:Mayor's Neighborhood Advisory Commission Meeting
DESCRIPTION:Location: Mayor’s Board Room at Bellingham City Hall or via Zoom \n\n\n\nMayor’s Neighborhood Advisory Commission (MNAC) meeting agendas and other information available on the Mayor’s Neighborhood Advisory Commission page.  \n\n\n\nThe meeting will be held in-person in the Mayor’s Board Room\, 2nd floor of Bellingham City Hall\, with an option for appointed members and the public to participate remotely via Zoom or call in by telephone.  \n\n\n\nOfficially Appointed MNAC Representatives and Appointed Alternates: You may attend in person or remotely. You will continue to receive a personal invitation via email to participate as a panelist using Zoom. If you choose to attend remotely\, please follow the instructions included in your email invitation and listed on the agenda when published.  \n\n\n\nNeighborhood Presidents and other members of the public: Members of the public may attend in person or join the remote meeting as “attendees” by signing on at: https://www.cob.org/mnac \n\n\n\nTelephone Instructions• For anyone (appointed MNAC representatives and members of the public) who wish to participate by telephone\, dial any of the numbers below to join the meeting: (253) 215-8782 (346) 248-7799 (669) 900-6833 (301) 715-8592 (312) 626-6799 (929) 205-6099 When prompted using Meeting ID: 961-5064-4967 and Password: MNAC (6622)
URL:https://cob.org/event/mayors-neighborhood-advisory-commission-meeting-5/2023-11-15
LOCATION:Online via Zoom\, Bellingham\, Washington\, 98225
END:VEVENT
BEGIN:VEVENT
DTSTART;TZID=America/Vancouver:20231116T160000
DTEND;TZID=America/Vancouver:20231116T173000
DTSTAMP:20231104T051337
CREATED:20230223T222544Z
LAST-MODIFIED:20230912T155927Z
UID:10001336-1700150400-1700155800@cob.org
SUMMARY:Sehome Hill Arboretum Board of Governors Meeting
DESCRIPTION:On-site meeting location will be at the WWU Physical Plant in room PP-309. \n\n\n\nOr join from a PC\, Mac\, iPad\, iPhone or Android device: \n\n\n\nJoin Zoom Meetinghttps://wwu-edu.zoom.us/j/98381168519?pwd=R0U0eW83T29qWTN5WFUxdi91Tk9RUT09 \n\n\n\nMeeting ID: 983 8116 8519Passcode: 2023392 \n\n\n\nDial by your location• +1 253 215 8782 US (Tacoma)• +1 253 205 0468 US
URL:https://cob.org/event/sehome-hill-arboretum-board-of-governors-meeting-9
CATEGORIES:Boards and Commissions,Sehome Hill Arboretum,Sehome Hill Arboretum Board of Governors
ATTACH;FMTTYPE=image/jpeg:https://cob.org/wp-content/uploads/p001000.JPG
END:VEVENT
BEGIN:VEVENT
DTSTART;TZID=America/Vancouver:20231116T190000
DTEND;TZID=America/Vancouver:20231116T220000
DTSTAMP:20231104T051337
CREATED:20220908T100336Z
LAST-MODIFIED:20230713T144542Z
UID:10001235-1700161200-1700172000@cob.org
SUMMARY:Planning Commission Meeting
DESCRIPTION:Agenda: The following item(s) are anticipated to be considered at this meeting. The full agenda and meeting materials will be posted approximately two weeks in advance of the meeting. Written comments can be sent to planningcommission@cob.org. \n\n\n\n\n\n\n\n\n\nParticipation Options: Meetings can be attended either in-person at City Hall (210 Lottie Street)\, or virtually via Zoom Webinar (Meeting ID:    / Password:  ) \n\n\n\n\nThe meetings are streamed live via the City’s website at meetings.cob.org\, on the City’s YouTube channel (www.youtube.com/user/cityofbhamwa)\, or on Comcast channel 10 (HD – channel 321). The meeting can also be attended via phone by calling listen by phone at 1-253-215-8782\, 1-669-900-6833 or 1-929-205-6099 and using the meeting information above.\n\n\n\n\nRegistration via www.cob.org/pc is required to attend the meeting via Zoom or to provide public comment. \n\n\n\nIf you are interested in being informed of upcoming Planning Commission business\, please email haven@cob.org and request to be added to the PC Notification List.
URL:https://cob.org/event/planning-commission-2022-03-03-2022-10-06-2/2023-11-16
CATEGORIES:Planning and Development Commission
ATTACH;FMTTYPE=image/jpeg:https://cob.org/wp-content/uploads/p901259-transportation-watershed-transportation-watershed.jpg
END:VEVENT
BEGIN:VEVENT
DTSTART;TZID=America/Vancouver:20231118T090000
DTEND;TZID=America/Vancouver:20231118T120000
DTSTAMP:20231104T051337
CREATED:20230913T185904Z
LAST-MODIFIED:20230913T185909Z
UID:10001887-1700298000-1700308800@cob.org
SUMMARY:Volunteer Opportunity: Community Work Party at Sunnyland Park
DESCRIPTION:Join Park Stewards Travis and Liz in helping us plant trees and shrubs while removing invasive Himalayan Blackberry to restore this fun park. \n\n\n\nAll ages and abilities welcome. Participants under age 14 must be accompanied by a parent/guardian. Tools\, gloves\, and instructions are provided. Please dress for the weather and wear sturdy shoes.  \n\n\n\nAdditional information will be emailed to registered participants. Register early\, space is limited! If you sign up\, please show up! \n\n\n\nRegister Now!\n\n\n\n \n\n\n\nQuestions? Contact pkvolunteers@cob.org or 360-778-7105 \n\n\n\nThis event is Parkscriptions Certified!
URL:https://cob.org/event/volunteer-opportunity-community-work-party-at-sunnyland-park
LOCATION:Sunnyland Park\, 2338 Humboldt Street\, Bellingham\, Washington\, 98225\, United States
CATEGORIES:Parks and Recreation,Sunnyland,Volunteer Opportunities
ATTACH;FMTTYPE=image/jpeg:https://cob.org/wp-content/uploads/2023-11-18-Sunnyland-Park.jpg
END:VEVENT
END:VCALENDAR