BEGIN:VCALENDAR
VERSION:2.0
PRODID:-//City of Bellingham - ECPv6.15.18//NONSGML v1.0//EN
CALSCALE:GREGORIAN
METHOD:PUBLISH
X-ORIGINAL-URL:https://cob.org
X-WR-CALDESC:Events for City of Bellingham
REFRESH-INTERVAL;VALUE=DURATION:PT1H
X-Robots-Tag:noindex
X-PUBLISHED-TTL:PT1H
BEGIN:VTIMEZONE
TZID:America/Vancouver
BEGIN:DAYLIGHT
TZOFFSETFROM:-0800
TZOFFSETTO:-0700
TZNAME:PDT
DTSTART:20250309T100000
END:DAYLIGHT
BEGIN:STANDARD
TZOFFSETFROM:-0700
TZOFFSETTO:-0800
TZNAME:PST
DTSTART:20251102T090000
END:STANDARD
BEGIN:DAYLIGHT
TZOFFSETFROM:-0800
TZOFFSETTO:-0700
TZNAME:PDT
DTSTART:20260308T100000
END:DAYLIGHT
BEGIN:STANDARD
TZOFFSETFROM:-0700
TZOFFSETTO:-0800
TZNAME:PST
DTSTART:20261101T090000
END:STANDARD
BEGIN:DAYLIGHT
TZOFFSETFROM:-0800
TZOFFSETTO:-0700
TZNAME:PDT
DTSTART:20270314T100000
END:DAYLIGHT
BEGIN:STANDARD
TZOFFSETFROM:-0700
TZOFFSETTO:-0800
TZNAME:PST
DTSTART:20271107T090000
END:STANDARD
END:VTIMEZONE
BEGIN:VEVENT
DTSTART;TZID=America/Vancouver:20260428T153000
DTEND;TZID=America/Vancouver:20260428T170000
DTSTAMP:20260422T072236
CREATED:20260327T205327Z
LAST-MODIFIED:20260327T225321Z
UID:10005233-1777390200-1777395600@cob.org
SUMMARY:Learn about new rental regulations and protections
DESCRIPTION:Having a hard time keeping up with all of the changes to rental regulations? We’re here to help! Join us for a free event on April 28 at 3:30 p.m. in Bellingham City Council Chambers to learn about new rental regulations and to get your questions answered.  \n\n\n\nCity staff will be joined by local support organizations – WWU’s Off Campus Living\, Whatcom Dispute Resolution Center and others – to tell you what you need to know about new rental laws and answer your questions.   \n\n\n\nThe educational session will cover new local ordinances related to renting\, state rent stabilization laws\, and Fair Housing requirements – including the top reported fair housing complaint in Whatcom County\, which is discrimination based on disability. The local support organizations for landlords and tenants will be tabling and sharing resources.      \n\n\n\nThis event is the second of two we are hosting this April in recognition of Fair Housing Month. The first is a film screening and panel discussion on April 22 – learn more or register for that event here. You can learn more about Fair Housing Laws and other protections on our website. 
URL:https://cob.org/event/navigating-new-rental-laws
LOCATION:City Council Chambers\, 210 Lottie St\, Bellingham\, Washington\, 98225\, United States
ORGANIZER;CN="City of Bellingham Rental Registration and Safety Inspection Program":MAILTO:rentals@cob.org
GEO:48.7552397;-122.4789188
X-APPLE-STRUCTURED-LOCATION;VALUE=URI;X-ADDRESS=City Council Chambers 210 Lottie St Bellingham Washington 98225 United States;X-APPLE-RADIUS=500;X-TITLE=210 Lottie St:geo:-122.4789188,48.7552397
END:VEVENT
END:VCALENDAR