BEGIN:VCALENDAR
VERSION:2.0
PRODID:-//City of Bellingham - ECPv6.2.5//NONSGML v1.0//EN
CALSCALE:GREGORIAN
METHOD:PUBLISH
X-WR-CALNAME:City of Bellingham
X-ORIGINAL-URL:https://cob.org
X-WR-CALDESC:Events for City of Bellingham
REFRESH-INTERVAL;VALUE=DURATION:PT1H
X-Robots-Tag:noindex
X-PUBLISHED-TTL:PT1H
BEGIN:VTIMEZONE
TZID:America/Vancouver
BEGIN:DAYLIGHT
TZOFFSETFROM:-0800
TZOFFSETTO:-0700
TZNAME:PDT
DTSTART:20220313T100000
END:DAYLIGHT
BEGIN:STANDARD
TZOFFSETFROM:-0700
TZOFFSETTO:-0800
TZNAME:PST
DTSTART:20221106T090000
END:STANDARD
END:VTIMEZONE
BEGIN:VEVENT
DTSTART;TZID=America/Vancouver:20221220T153000
DTEND;TZID=America/Vancouver:20221220T163000
DTSTAMP:20231104T054246
CREATED:20221020T182618Z
LAST-MODIFIED:20221123T180708Z
UID:10001152-1671550200-1671553800@cob.org
SUMMARY:Bellingham Public Library Board of Trustees Meeting
DESCRIPTION:The Bellingham Public Library Board of Trustees typically holds regular public meetings on the third Tuesday of each month. Occasionally the meeting time\, date and location varies or special meetings are scheduled. \n\n\n\nThe meeting will be conducted in the Central Library Lecture Room.
URL:https://cob.org/event/bellingham-public-library-board-of-trustees-meeting/2022-12-20
LOCATION:Bellingham Public Library – Central\, 210 Central Ave\, Bellingham\, Washington\, 98225\, United States
CATEGORIES:Bellingham Public Library Board of Trustees
GEO:48.7542344;-122.4788048
X-APPLE-STRUCTURED-LOCATION;VALUE=URI;X-ADDRESS=Bellingham Public Library – Central 210 Central Ave Bellingham Washington 98225 United States;X-APPLE-RADIUS=500;X-TITLE=210 Central Ave:geo:-122.4788048,48.7542344
END:VEVENT
BEGIN:VEVENT
DTSTART;TZID=America/Vancouver:20221115T153000
DTEND;TZID=America/Vancouver:20221115T163000
DTSTAMP:20231104T054246
CREATED:20221020T182618Z
LAST-MODIFIED:20221123T180708Z
UID:10001151-1668526200-1668529800@cob.org
SUMMARY:Bellingham Public Library Board of Trustees Meeting
DESCRIPTION:The Bellingham Public Library Board of Trustees typically holds regular public meetings on the third Tuesday of each month. Occasionally the meeting time\, date and location varies or special meetings are scheduled. \n\n\n\nThe meeting will be conducted in the Central Library Lecture Room.
URL:https://cob.org/event/bellingham-public-library-board-of-trustees-meeting/2022-11-15
LOCATION:Bellingham Public Library – Central\, 210 Central Ave\, Bellingham\, Washington\, 98225\, United States
CATEGORIES:Bellingham Public Library Board of Trustees
GEO:48.7542344;-122.4788048
X-APPLE-STRUCTURED-LOCATION;VALUE=URI;X-ADDRESS=Bellingham Public Library – Central 210 Central Ave Bellingham Washington 98225 United States;X-APPLE-RADIUS=500;X-TITLE=210 Central Ave:geo:-122.4788048,48.7542344
END:VEVENT
BEGIN:VEVENT
DTSTART;TZID=America/Vancouver:20220515T130000
DTEND;TZID=America/Vancouver:20220515T150000
DTSTAMP:20231104T054246
CREATED:20220428T212556Z
LAST-MODIFIED:20220511T171513Z
UID:10001022-1652619600-1652626800@cob.org
SUMMARY:Urban Forestry Management Plan (UFMP) In-Person Open House (evento de puertas abiertas presencial)
DESCRIPTION:The community is invited to share input on Bellingham’s urban forest during an in-person open house event on Sunday\, May 15 at the Bellingham Public Library downtown at 210 Central Avenue. More information below.  \n\n\n\nSe invita a la comunidad a hacer su aporte para el arbolado urbano de Bellingham en el evento de puertas abiertas presencial que se realizará el domingo\, 15 de mayo en la Bellingham Public Library\, ubicada en 210 Central Avenue\, en el centro de la ciudad. Más información a continuación. \n\n\n\n\nEvent Details in English\nThe City of Bellingham is seeking public input to guide how our community manages and enhances urban trees and forests. An urban forest includes everything from street trees\, parks and forested open spaces to private trees. Community input will help create the City’s first Urban Forestry Management Plan (UFMP)\, a strategic plan for maintaining and enhancing a healthy and desirable urban forest. The input received will be used to develop the plan’s vision\, goals\, and priority strategies.  \n\n\n\nThe community is invited to share input on Bellingham’s urban forest during an in-person open house event on Sunday\, May 15 at the Bellingham Public Library downtown at 210 Central Avenue. Stop by any time between 1:00 p.m. to 3:00 p.m. ASL and Spanish interpretation will be provided. The whole family is welcome – child-friendly activities will be available. \n\n\n\nLocation\n\n\n\nThis event will be located in the Lecture Room on the 1st floor of the Bellingham Public Library – Central Library location at 210 Central Ave. There is street parking near the building. Parking downtown is free on Sundays.  \n\n\n\nAdditionally\, there are bus stops located next to the Central Library. To find your bus route\, use Whatcom Transportation Authority’s (WTA) online Trip Planner. You can find a map of bike routes at cob.org/bike.  \n\n\n\nAdditional Feedback Opportunities\n\n\n\nYou can also provide feedback at a virtual open house on Wednesday\, May 18 or through our Engage Bellingham UFMP Project webpage which includes a survey\, interactive map tool\, and video. The Engage Bellingham UFMP Project page is available May 9 through June 15. \n\n\n\nThe City will summarize the community input received from online and in-person activities in an engagement report\, which will be presented to City Council and used to develop the UFMP vision\, goals\, and priority strategies. \n\n\n\nContact\n\n\n\nPlease email ufmp@cob.org with questions. \n\n\n\n\nDetalles del evento en español \nLa ciudad de Bellingham quiere conocer las ideas del público sobre la manera en que se debe manejar y mejorar el arbolado urbano de la comunidad. El arbolado urbano es el conjunto de árboles que se encuentran en la vía pública\, los parques y los espacios abiertos arbolados\, y en propiedades privadas. Los aportes de la comunidad se tendrán en cuenta para crear el primer Urban Forestry Management Plan (UFMP\, Plan de Manejo del Arbolado Urbano) de la ciudad\, que es un plan estratégico para el mantenimiento de un arbolado urbano sano y en buenas condiciones\, y su mejoramiento. Las ideas recibidas se usarán para desarrollar la visión\, los objetivos y las estrategias prioritarias del plan.  \n\n\n\nSe invita a la comunidad a hacer su aporte para el arbolado urbano de Bellingham en el evento de puertas abiertas presencial que se realizará el domingo\, 15 de mayo en la Bellingham Public Library\, ubicada en 210 Central Avenue\, en el centro de la ciudad. Acérquese en el horario de 1:00 p. m. a 3:00 p. m. Se ofrecerá interpretación al español y a la lengua de señas americana. También habrá actividades para niños\, así que toda la familia es bienvenida. \n\n\n\nLocalización\n\n\n\nEl evento se llevará a cabo en la sala de conferencias\, que se encuentra en el primer piso del edificio central de la Bellingham Public Library\, ubicada en 210 Central Ave. Se puede estacionar en la calle en los alrededores del edificio. El estacionamiento es gratuito en el centro de la ciudad los domingos. \n\n\n\nAdemás\, hay paradas de autobús junto al edificio central. Para buscar la ruta que lo llevará hasta allí\, use el planificador de viajes en línea de la Whatcom Transportation Authority (WTA\, Autoridad de Transporte de Whatcom). Hay un mapa de rutas de ciclovía en cob.org/bike. \n\n\n\nOtras oportunidades para participar\n\n\n\nTambién puede comentarnos sus ideas en el evento de puertas abiertas virtual que se llevará a cabo el miércoles\, 18 de mayo o a través de la página web Engage Bellingham UFMP Project (Participe en el proyecto del UFMP de Bellingham)\, donde puede acceder a una encuesta\, un mapa interactivo y un video. \n\n\n\nLa ciudad elaborará un informe de participación\, en el que se resumirán todos los aportes de la comunidad que se reciban en las actividades presenciales y virtuales. Este se presentará al consejo municipal y se usará para desarrollar la visión\, los objetivos y las estrategias prioritarias del UFMP. \n\n\n\nContacto\n\n\n\nEnvíenos sus preguntas a ufmp@cob.org.
URL:https://cob.org/event/ufmp-open-house-1
LOCATION:Bellingham Public Library – Central\, 210 Central Ave\, Bellingham\, Washington\, 98225\, United States
CATEGORIES:Environment
ATTACH;FMTTYPE=image/jpeg:https://cob.org/wp-content/uploads/forestkyleszegediphoto-climate-1.jpg
GEO:48.7542344;-122.4788048
X-APPLE-STRUCTURED-LOCATION;VALUE=URI;X-ADDRESS=Bellingham Public Library – Central 210 Central Ave Bellingham Washington 98225 United States;X-APPLE-RADIUS=500;X-TITLE=210 Central Ave:geo:-122.4788048,48.7542344
END:VEVENT
END:VCALENDAR